Workbook
Name _1_2_d_NMP_lim: #REF!
Name _Hlk199328070: Kopsavilkums!$C$86
Name _Hlk200019317: Kopsavilkums!$C$52
Name _Hlk200028924: Kopsavilkums!$C$73
Name _msoanchor_1: Kopsavilkums!$N$39
Name aa: #REF!
Name b: #REF!
Name bt: #REF!
Name BX: #REF!
Name CalendarYear: #REF!
Name ccc: #REF!
Name d: #REF!
Name D_Evija3: #REF!
Name DaysAndWeeks: {0,1,2,3,4,5,6} + {0;1;2;3;4;5}*7
Name DaysAndWeeks: {0,1,2,3,4,5,6} + {0;1;2;3;4;5}*7
Name DaysAndWeeks: {0,1,2,3,4,5,6} + {0;1;2;3;4;5}*7
Name DaysAndWeeks: {0,1,2,3,4,5,6} + {0;1;2;3;4;5}*7
Name DaysAndWeeks: {0,1,2,3,4,5,6} + {0;1;2;3;4;5}*7
Name DaysAndWeeks: {0,1,2,3,4,5,6} + {0;1;2;3;4;5}*7
Name de: #REF!
Name dff: #NAME?
Name DRGNAMES: #REF!
Name e: #REF!
Name ee: #REF!
Name Excel_BuiltIn__FilterDatabase_2: #REF!
Name Excel_BuiltIn__FilterDatabase_3: #REF!
Name Excel_BuiltIn_Print_Titles_2: #REF!
Name Excel_BuiltIn_Print_Titles_3: #REF!
Name gad_skaits: #REF!
Name gad_skaits_1: #REF!
Name gala: {0,1,2,3,4,5,6} + {0;1;2;3;4;5}*7
Name gala: {0,1,2,3,4,5,6} + {0;1;2;3;4;5}*7
Name gala: {0,1,2,3,4,5,6} + {0;1;2;3;4;5}*7
Name gala: {0,1,2,3,4,5,6} + {0;1;2;3;4;5}*7
Name gala: {0,1,2,3,4,5,6} + {0;1;2;3;4;5}*7
Name gala: {0,1,2,3,4,5,6} + {0;1;2;3;4;5}*7
Name Gala_kopsavilkums: #REF!
Name gggg: #REF!
Name ghy: #REF!
Name h: #REF!
Name hh: #REF!
Name hjh: #REF!
Name hyh: #REF!
Name i: #REF!
Name izm.kods: #REF!
Name izm.kods_1: [3]izm.posteni!$A$2:$A$216
Name izm.kods_1: [4]izm.posteni!$A$2:$A$216
Name izm.nos: #REF!
Name izm.nos_1: [3]izm.posteni!$B$2:$B$216
Name izm.nos_1: [4]izm.posteni!$B$2:$B$216
Name jhg: #REF!
Name kk: #REF!
Name l: #REF!
Name Limeni_7_9group: #REF!
Name Macro1: #REF!
Name Macro2: #REF!
Name Macro3: #REF!
Name Macro4: #REF!
Name Macro5: #REF!
Name Macro6: #REF!

Sheet Kopsavilkums
L2: Pielikums Sirds un asinsvadu veselības uzlabošanas rīcības plāns 2026.–2027. gadam
A4: Nr.p.k. | B4: Pasākums | C4: Darbības rezultāts | D4: Rezultatīvais rādītājs | E4: Budžeta programmas (apakšprogrammas kods un nosaukums) | F4: Uzdevumu īstenošanai plānotais finansējums atbilstoši likumam "Par valsts budžetu 2025.gadam un budžeta ietvaru 2025., 2026. un 2027.gadam" | H4: Nepieciešamais papildu finansējums indikatīvi | M4: Atbildīgā institūcija | N4: Līdzatbildīgās institūcijas | O4: Finansējuma avots | P4: Termiņš
F5: 2026.gads | G5: 2027.gads | H5: 2025.gads | I5: 2026.gads | J5: 2027.gads | K5: Turpmākajā laikposmā līdz pasākuma pabeigšanai (ja pasākuma īstenošana ir terminēta) | L5: Turpmāk ik gadu (ja pasākuma izpilde nav terminēta)
A6: KOPĒJAIS NEPIECIEŠAMAIS FINANSĒJUMS PLĀNA REALIZĀCIJAI: | F6: =F10+F11 -> 1.1576166e+08 | G6: =G10+G11 -> 1.1665257e+08 | H6: =H10+H11 -> 0 | I6: =I10+I11 -> 0 | J6: =J10+J11 -> 42230607 | K6: =K10+K11 -> 0 | L6: =L10+L11 -> 47229137
B7: Finansējums valsts pamatfunkciju īstenošanai | F7: =F10 -> 1.1558016e+08 | G7: =G10 -> 1.1577108e+08 | H7: =H10 -> 0 | I7: =I10 -> 0 | J7: =J10 -> 42230607 | K7: =K10 -> 0 | L7: =L10 -> 47229137
B8: Finansējums ES politiku instrumentu un pārējās ĀFP līdzfinansēto un finansēto projektu un pasākumu īstenošanai | F8: =F11 -> 181500 | G8: =G11 -> 881485 | H8: =H11 -> 0 | I8: =I11 -> 0 | J8: =J11 -> 0 | K8: =K11 -> 0 | L8: =L11 -> 0
B9: Veselības ministrija | F9: =F10+F11 -> 1.1576166e+08 | G9: =G10+G11 -> 1.1665257e+08 | H9: =H10+H11 -> 0 | I9: =I10+I11 -> 0 | J9: =J10+J11 -> 42230607 | K9: =K10+K11 -> 0 | L9: =L10+L11 -> 47229137
B10: VBF | F10: =F12+F13+F14+F15+F16+F17+F18+F19 -> 1.1558016e+08 | G10: =G12+G13+G14+G15+G16+G17+G18+G19 -> 1.1577108e+08 | H10: =H12+H13+H14+H15+H16+H17+H18+H19 -> 0 | I10: =I12+I13+I14+I15+I16+I17+I18+I19 -> 0 | J10: =J12+J13+J14+J15+J16+J17+J18+J19 -> 42230607 | K10: =K12+K13+K14+K15+K16+K17+K18+K19 -> 0 | L10: =L12+L13+L14+L15+L16+L17+L18+L19 -> 47229137
B11: ES fondi | F11: =F20 -> 181500 | G11: =G20 -> 881485 | H11: =H20 -> 0 | I11: =I20 -> 0 | J11: =J20 -> 0 | K11: =K20 -> 0 | L11: =L20 -> 0
E12: 33.03.00 "Kompensējamo medikamentu un materiālu apmaksāšana" | F12: =F58+F68+F71+F72+F73+F76 -> 50872681 | G12: =G58+G68+G71+G72+G73+G76 -> 51039892 | H12: =H58+H68+H71+H72+H73+H76 -> 0 | I12: =I58+I68+I71+I72+I73+I76+I69+I70 -> 0 | J12: =J58+J68+J71+J72+J73+J76+J69+J70 -> 15181192 | K12: =K58+K68+K71+K72+K73+K76+K69+K70 -> 0 | L12: =L58+L68+L71+L72+L73+L76+L69+L70 -> 16162130
E13: 33.04.00 "Centralizēta medikamentu un materiālu iegāde" | F13: =F26+F29 -> 2402897 | G13: =G26+G29 -> 2402897 | H13: =H26+H29 -> 0 | I13: =I26+I29 -> 0 | J13: =J26+J29 -> 2653890 | K13: =K26+K29 -> 0 | L13: =L26+L29 -> 2906394
E14: 33.14.00 "Primārās ambulatorās veselības aprūpes nodrošināšana" | F14: =F27+F36+F30 -> 899332 | G14: =G27+G36+G30 -> 899332 | H14: =H27+H36+H30 -> 0 | I14: =I27+I36+I30 -> 0 | J14: =J27+J36+J30 -> 344725 | K14: =K27+K36+K30 -> 0 | L14: =L27+L36+L30 -> 344725
E15: 33.15.00 "Laboratorisko izmeklējumu nodrošināšana ambulatorajā aprūpē" | F15: =F38+F42+F60 -> 722263 | G15: =G38+G42+G60 -> 722263 | H15: =H38+H42+H60 -> 0 | I15: =I38+I42+I60 -> 0 | J15: =J38+J42+J60 -> 3358163.9 | K15: =K38+K42+K60 -> 0 | L15: =L38+L42+L60 -> 3409646.8
E16: 33.16.00 "Pārējo ambulatoro veselības aprūpes pakalpojumu nodrošināšana" | F16: =F43+F46+F49+F51+F54+F57+F61+F85+F87 -> 34374957 | G16: =G43+G46+G49+G51+G54+G57+G61+G85+G87 -> 34398673 | H16: =H43+H46+H49+H51+H54+H57+H61+H85+H87 -> 0 | I16: =I43+I46+I49+I51+I54+I57+I61+I85+I87 -> 0 | J16: =J43+J46+J49+J51+J54+J57+J61+J85+J87 -> 8947240.6 | K16: =K43+K46+K49+K51+K54+K57+K61+K85+K87 -> 0 | L16: =L43+L46+L49+L51+L54+L57+L61+L85+L87 -> 9235804.5
E17: 33.18.00 "Plānveida stacionāro veselības aprūpes pakalpojumu nodrošināšana" | F17: =F45+F50+F74+F84+F86+F88+F89+F90 -> 26308026 | G17: =G45+G50+G74+G84+G86+G88+G89+G90 -> 26308026 | H17: =H45+H50+H74+H84+H86+H88+H89+H90 -> 0 | I17: =I45+I50+I74+I84+I86+I88+I89+I90 -> 0 | J17: =J45+J50+J74+J84+J86+J88+J89+J90 -> 11745396 | K17: =K45+K50+K74+K84+K86+K88+K89+K90 -> 0 | L17: =L45+L50+L74+L84+L86+L88+L89+L90 -> 15170437
E18: 45.01.00 "Veselības aprūpes finansējuma administrēšana un ekonomiskā novērtēšana" | F18: =F35+F37+F80+F81+F82+F91+F92+F93 -> 0 | G18: =G35+G37+G80+G81+G82+G91+G92+G93 -> 0 | H18: =H35+H37+H80+H81+H82+H91+H92+H93 -> 0 | I18: =I35+I37+I80+I81+I82+I91+I92+I93 -> 0 | J18: =J35+J37+J80+J81+J82+J91+J92+J93 -> 0 | K18: =K35+K37+K80+K81+K82+K91+K92+K93 -> 0 | L18: =L35+L37+L80+L81+L82+L91+L92+L93 -> 0
E19: 46.03.00 "Slimību profilakses nodrošināšana" | F19: =F23+F25+F28 -> 0 | G19: =G23+G25+G28 -> 0 | H19: =H23+H25+H28 -> 0 | I19: =I23+I25+I28 -> 0 | J19: =J23+J25+J28 -> 0 | K19: =K23+K25+K28 -> 0 | L19: =L23+L25+L28 -> 0
E20: 63.08.00 Eiropas Sociālā fonda Plus (ESF+) projektu īstenošana (2021-2027) | F20: =F24+F39+F48+F52+F55+F56+F59+F62+F64+F65+F79+F104+F105+F106+F107+F108+F109+F47+F100 -> 181500 | G20: =G24+G39+G52+G55+G56+G59+G62+G64+G65+G79+G104+G105+G106+G107+G108+G109+G47+G100+G44 -> 881485 | H20: =H24+H39+H48+H52+H55+H56+H59+H62+H64+H65+H79+H104+H105+H106+H107+H108+H109+H47+H100 -> 0 | I20: =I24+I39+I48+I52+I55+I56+I59+I62+I64+I65+I79+I104+I105+I106+I107+I108+I109+I47+I100 -> 0 | J20: =J24+J39+J48+J52+J55+J56+J59+J62+J64+J65+J79+J104+J105+J106+J107+J108+J109+J47+J100 -> 0 | K20: =K24+K39+K48+K52+K55+K56+K59+K62+K64+K65+K79+K104+K105+K106+K107+K108+K109+K47+K100 -> 0 | L20: =L24+L39+L48+L52+L55+L56+L59+L62+L64+L65+L79+L104+L105+L106+L107+L108+L109+L47+L100 -> 0
A21: 1. Rīcības virziens | C21: SAS profilakse, tās veicināšana un riska faktoru ietekmes mazināšana | F21: =SUM(F22) -> 3114639 | G21: =SUM(G22) -> 3114639 | H21: =SUM(H22) -> 0 | I21: =SUM(I22) -> 0 | J21: =SUM(J22) -> 2998615 | K21: =SUM(K22) -> 0 | L21: =SUM(L22) -> 3251119
A22: 1.1. Veselību veicinošo paradumu uzlabošana populācijas līmenī | F22: =SUM(F23:F30) -> 3114639 | G22: =SUM(G23:G30) -> 3114639 | H22: =SUM(H23:H30) -> 0 | I22: =SUM(I23:I30) -> 0 | J22: =SUM(J23:J30) -> 2998615 | K22: =SUM(K23:K30) -> 0 | L22: =SUM(L23:L30) -> 3251119
A23: 1.1.1. | B23: Īstenot veselības veicināšanas un slimību profilakses pasākumus, lai mazinātu SAS riska faktorus, ievērojot veselīgu dzīvesveidu. | C23: Veicināta Latvijas iedzīvotāju veselību ietekmējošo paradumu maiņa, mazinot SAS riska faktorus. | D23: Īstenots vismaz viens veselības veicināšanas un slimību profilakses pasākums gadā (piemēram, tiešsaistes diskusija ar veselības jomas speciālistiem, tematiskās dienas aktivitātes u.tml.) SAS riska faktoru novēršanai un veselīga dzīvesveida veicināšanai. | E23: 46.03.00 "Slimību profilakses nodrošināšana" | F23: 0 | G23: 0 | I23: 0 | J23: 0 | K23: 0 | L23: 0 | M23: SPKC | N23: LKB, LĢĀA, LLĢĀA, NVO | O23: Esošā budžeta ietvaros | P23: 2027. gada II pusgads. (Turpmāk ik gadu?)
A24: 1.1.2. | B24: Izglītot iedzīvotājus par regulāras paškontroles veikšanu SAS profilaksei, lai mazinātu negatīvo ietekmi uz veselību. | C24: Palielinājusies iedzīvotāju izpratne par paškontroles veikšanu SAS profilaksei, kā arī līdzestība savas veselības veicināšanā. | D24: Sadarbībā ar veselības jomas speciālistiem un pacientu organizācijām īstenoti vismaz divi sabiedrības informēšanas pasākumi par regulāras paškontroles veikšanu SAS profilaksei un negatīvās ietekmes uz veselību mazināšanai. | E24: 63.08.00 Eiropas Sociālā fonda Plus (ESF+) projektu īstenošana (2021-2027) | F24: 18150 | G24: ='1.1.2.'!C5 -> 18150 | I24: 0 | J24: 0 | K24: 0 | L24: 0 | M24: SPKC, VM | N24: LKB, LĢĀA, LLĢĀA, NVO | O24: Eiropas Sociālā fonda Plus (ESF+) finansējums, Eiropas Savienības kohēzijas politikas programmas 2021.–2027.gadam 4.1.2.SAM "Uzlabot vienlīdzīgu un savlaicīgu piekļuvi kvalitatīviem, ilgtspējīgiem un izmaksu ziņā pieejamiem veselības aprūpes, veselības veicināšanas un slimību profilakses pakalpojumiem, uzlabojot veselības aprūpes sistēmu efektivitāti un izturētspēju” 4.1.2.1. pasākuma "Nacionāla mēroga veselības veicināšanas un slimību profilakses pasākumi" projektā "Nacionāla mēroga veselības veicināšanas un slimību profilakses pasākumi" (Nr.4.1.2.1./1/24/I/001). Šobrīd nav zināms ar kādu finanšu apjomu rezultēsies plānotie 4.1.2.1. pasākuma "Nacionāla mēroga veselības veicināšanas un slimību profilakses pasākumi" projekta "Nacionāla mēroga veselības veicināšanas un slimību profilakses pasākumi" iepirkumi 2027.gadam, līdz ar to Sirds un asinsvadu veselības uzlabošanas rīcības plānā 2025.–2027. gadam, norādītais finansējuma apjoms var mainīties. | P24: 2026.gada II pusgads 2027. gada II pusgads
A25: 1.1.3. | B25: Pilnveidot komunikāciju ar sabiedrību par veselīga dzīvesveida nozīmi ikdienā un SAS attīstības riskiem (t.sk. infarkta vai insulta pazīmju atpazīšana, riska faktori, diabētu veicinošie faktori u.c.) un to novēršanu. | C25: Palielinājusies zinātnē balstītas informācijas par veselīgu dzīvesveidu un SAS riska faktoriem izmantošana Latvijas iedzīvotāju vidū. | D25: Pilnveidoti komunikācijas kanāli (piemēram, tīmekļa vietnes) ar veselību saistītas informācijas pieejamības, atpazīstamības un uzticamības uzlabošanai, kā arī iedzīvotāju izpratnes par SAS riska faktoru ierobežošanas un veselīga dzīvesveida nozīmi veicināšanai. | E25: 46.03.00 "Slimību profilakses nodrošināšana" | F25: 0 | G25: 0 | I25: 0 | J25: 0 | K25: 0 | L25: 0 | M25: SPKC, VM | N25: BKUS, LKB, LĢĀA, LLĢĀA, NVO, | O25: Esošā budžeta ietvaros | P25: 2027. gada II pusgads (Turpmāk ik gadu)
A26: 1.1.4. | B26: Samazināt saslimstību ar gripu un tās izraisīto komplikāciju skaitu | C26: 1.1.4.1. Palielināt valsts apmaksāto devu skaitu riska grupu vakcinācijai pret gripu | D26: Vakcinācijas pret gripu aptveres palielinājums par 30% riska grupās attiecībā pret iepriekšējā sezonā izlietoto vakcīnu devu skaitu | E26: 33.04.00 Centralizēta medikamentu un materiālu iegāde | F26: 2402897 | G26: 2402897 | I26: 0 | J26: ='1.1.4.1.'!C6 -> 1625170 | K26: 0 | L26: ='1.1.4.1.'!D6 -> 1826238 | M26: NVD, SPKC, VM | N26: LĢĀA, LLĢĀA | O26: VBF indikatīvi | P26: 2027. gada I pusgads (turpmāk ik gadu)
E27: 33.14.00 Primārās ambulatorās veselības aprūpes nodrošināšana | F27: 693592 | G27: 693592 | I27: 0 | J27: ='1.1.4.1.'!C7 -> 167371 | K27: 0 | L27: ='1.1.4.1.'!D7 -> 167371
C28: 1.1.4.2. Īstenot gripas profilakses kampaņu gripas vakcinācijas aptveres palielināšanai | D28: Veikta vismaz viena sabiedrības informēšanas kampaņa pirms gripas sezonas sākuma | E28: 46.03.00 "Slimību profilakses nodrošināšana" | F28: 0 | G28: 0 | I28: 0 | J28: 0 | K28: 0 | L28: 0 | M28: SPKC | N28: LĢĀA, LLĢĀA | O28: Esošā budžeta ietvaros | P28: 2027. gada II pusgads (turpmāk ik gadu)
A29: 1.1.5. | B29: Samazināt saslimstību ar pneimokoku infekciju un tās izraisīto komplikāciju skaitu | C29: Ieviesta valsts apmaksātu riska grupu vakcināciju pret pneimokoku infekciju pieaugušajiem, kas pieder noteiktai riska grupai (augsta riska kardioloģijas pacienti; augsta riska plaušu slimību pacienti) | D29: Sasniegta 50% vakcinācijas aptvere pret pneimokoku infekciju riska grupās | E29: 33.04.00 Centralizēta medikamentu un materiālu iegāde | F29: 0 | G29: 0 | I29: 0 | J29: ='1.1.5.'!D5 -> 1028720 | K29: 0 | L29: ='1.1.5.'!E5 -> 1080156 | M29: NVD, SPKC, VM | N29: LĢĀA, LLĢĀA | O29: VBF indikatīvi | P29: 2027. gada I pusgads (turpmāk ik gadu)
E30: 33.14.00 Primārās ambulatorās veselības aprūpes nodrošināšana | F30: 0 | G30: 0 | I30: 0 | J30: ='1.1.5.'!D6 -> 177354 | K30: 0 | L30: ='1.1.5.'!F6 -> 177354
A31: 1.1.6. | B31: Mazināt tabakas un nikotīna saturošu izstrādājumu pievilcību patērētāju vidū | C31: Izstrādāt normatīvo regulējumu, lai ieviestu Latvijā standartizēto iepakojumu tabakas un nikotīna saturošiem izstrādājumiem | D31: Veikti grozījumi tabakas izstrādājumu, tabakas aizstājējproduktu, augu smēķēšanas produktu, elektronisko smēķēšanas ierīču un to šķidrumu aprites likumā | F31: 0 | G31: 0 | I31: 0 | J31: 0 | K31: 0 | L31: 0 | M31: VM | N31: VI, SPKC | O31: Esošā budžeta ietvaros | P31: 2026. gada II pusgads
D32: Izstrādāti grozījumi Ministru kabineta 2016. gada 17. maija noteikumos Nr. 306 "Noteikumi par prasībām uz iepakojumiem izvietojamiem brīdinājumiem par ietekmi uz veselību” | F32: 0 | G32: 0 | I32: 0 | J32: 0 | K32: 0 | L32: 0 | M32: VM | N32: VI, SPKC | O32: Esošā budžeta ietvaros | P32: 2027.gada II pusgads
A33: 2. Rīcības virziens | C33: Savlaicīga riska faktoru atklāšana, agrīna slimību diagnostika, ārstēšana un rehabilitācija | F33: =F34+F53+F67+F78+F95+F98 -> 1.1264702e+08 | G33: =G34+G53+G67+G78+G95+G98 -> 1.1343532e+08 | H33: =H34+H53+H67+H78+H95+H98 -> 0 | I33: =I34+I53+I67+I78+I95+I98 -> 0 | J33: =J34+J53+J67+J78+J95+J98 -> 39231992 | K33: =K34+K53+K67+K78+K95+K98 -> 0 | L33: =L34+L53+L67+L78+L95+L98 -> 43978018
A34: 2.1. Savlaicīga riska faktoru un slimību agrīna diagnostika | F34: =SUM(F35:F52) -> 6187177 | G34: =SUM(G35:G52) -> 6254695 | H34: =SUM(H35:H52) -> 0 | I34: =SUM(I35:I52) -> 0 | J34: =SUM(J35:J52) -> 1862334.8 | K34: =SUM(K35:K52) -> 0 | L34: =SUM(L35:L52) -> 1671579.1
A35: 2.1.1. | B35: Pilnveidot kardiovaskulārā riska noteikšanu PVA | C35: 2.1.1.1.Pārskatīts esošā SCORE algoritms PVA un izstrādāts SCORE algoritms atbilstoši aktualizētajam SCORE2 algoritmam (augsta riska mirstības valstīm) | D35: Izstrādāts aktualizēts algoritms lietošanai PVA un rekomendācijas SCORE ieviešanai | E35: 45.01.00 "Veselības aprūpes finansējuma administrēšana un ekonomiskā novērtēšana" | F35: 0 | G35: 0 | I35: 0 | J35: 0 | K35: 0 | L35: 0 | M35: VM | N35: MVI KJ, LĢĀA, LLĢĀA, LKB | O35: Esošā budžeta ietvaros | P35: 2026. gada I pusgads
C36: 2.1.1.2. Palielināta pacientu iesaiste SCORE programmas veikšanā | D36: SCORE programmas izpildes aptvere palielināta vismaz par 5% 2026.gadā un par 10% 2027.gadā | E36: 33.14.00 Primārās ambulatorās veselības aprūpes nodrošināšana | F36: 205740 | G36: 205740 | I36: 0 | J36: 0 | K36: 0 | L36: 0 | M36: NVD, VM | N36: LĢĀA, LLĢĀA | O36: Esošā budžeta ietvaros | P36: 2026. gada II pusgads 2027. gada II pusgads
D37: Izstrādāts pasākumu plāns pacientu iesaistīšanā SCORE noteikšanā, tostarp izvērtētas iespējas izmantot digitālos rīkus | E37: 45.01.00 "Veselības aprūpes finansējuma administrēšana un ekonomiskā novērtēšana" | F37: 0 | G37: 0 | I37: 0 | J37: 0 | K37: 0 | L37: 0 | M37: SPKC, NVD, VM | N37: LDVC, LĢĀA, LLĢĀA, NVO | O37: Esošā budžeta ietvaros | P37: 2027. gada I pusgads
A38: 2.1.2. | B38: Uzlabot cukura diabēta diagnostiku PVA | C38: 2.1.2.1. Paplašināta cukura diabēta un prediabēta skrīninga programma | D38: 27 430 pacientiem vecumā no 35-39 gadiem veikts cukura diabēta skrīnings (2027. gads); 34 600 pacientiem vecumā no 35-39 gadiem veikts cukura diabēta skrīnings (2028.gads); 41 771 pacientiem vecumā no 35-39 gadiem veikts cukura diabēta skrīnings (2029.gads). | E38: 33.15.00 Laboratorisko izmeklējumu nodrošināšana ambulatorajā aprūpē | F38: 66229 | G38: 66229 | I38: 0 | J38: ='2.1.2.1.'!C5 -> 45675.9 | K38: 0 | L38: ='2.1.2.1.'!D5 -> 54177.2 | M38: NVD, VM | N38: LEA, LĢĀA, LLĢĀA | O38: VBF indikatīvi | P38: 2027.gada II pusgads (turpmāk ik gadu)
C39: 2.1.2.2. Uzlabota cukura diabēta pacientu diagnostika, skaidri nodalot ģimenes ārsta un endokrinologa pacientu plūsmu | D39: Izstrādāts savlaicīga cukura diabēta diagnostikas algoritms, kā arī pacienta ceļš diagnostikai | E39: 63.08.00 Eiropas Sociālā fonda Plus (ESF+) projektu īstenošana (2021-2027) | F39: 36300 | G39: 0 | I39: 0 | J39: 0 | K39: 0 | L39: 0 | M39: VM | N39: LEA, LLĢĀA, LĢĀA | O39: Eiropas Sociālā fonda Plus (ESF+) finansējums, Eiropas Savienības kohēzijas politikas programmas 2021.–2027.gadam 4.1.2.SAM "Uzlabot vienlīdzīgu un savlaicīgu piekļuvi kvalitatīviem, ilgtspējīgiem un izmaksu ziņā pieejamiem veselības aprūpes, veselības veicināšanas un slimību profilakses pakalpojumiem, uzlabojot veselības aprūpes sistēmu efektivitāti un izturētspēju” 4.1.2.7. pasākuma "Pilnveidot pacientu drošību un aprūpes kvalitāti" projektā "Pilnveidot pacientu drošību un aprūpes kvalitāti" (Nr. 4.1.2.7/1/24/I/001). Šobrīd nav zināms ar kādu finanšu apjomu rezultēsies plānotie 4.1.2.7. pasākuma "Pilnveidot pacientu drošību un aprūpes kvalitāti" projekta "Pilnveidot pacientu drošību un aprūpes kvalitāti" iepirkumi 2027.gadam, līdz ar to Sirds un asinsvadu veselības uzlabošanas rīcības plānā 2025.–2027. gadam, norādītais finansējuma apjoms var mainīties. | P39: 2026.gada II pusgads
A40: 2.1.3. | B40: Noteikt plašāku obligātās veselības pārbaudes laikā nosakāmo laboratorisko izmeklējumu klāstu | C40: Izvērtēta iespēja obligāto veselības pārbaužu laboratorisko izmeklējumu sarakstā, iekļaut glikozes līmeņa, kopējā holesterīna un ABLH un triglicerīdu noteikšanu tukšā dūšā | D40: Pēc izvērtējuma veikšanas nepieciešamības gadījumā izstrādāti priekšlikumi grozījumiem normatīvajos aktos | F40: 0 | G40: 0 | I40: 0 | J40: 0 | K40: 0 | L40: 0 | M40: VM | N40: LM, LLĢĀA, LĢĀA, LKB, LEA, LAĀB | O40: Esošā budžeta ietvaros | P40: 2027. gada I pusgads
A41: 2.1.4. | B41: Pilnveidot kardiovaskulārā riska noteikšanu ieslodzītajiem | C41: Izvērtēta iespēja pārskatītā SCORE algoritma veikšanai ieslodzītajiem | D41: Izstrādāts pacienta kardiovaskulārā riska novērtēšanas ceļš ieslodzījuma vietā | F41: 0 | G41: 0 | I41: 0 | J41: 0 | K41: 0 | L41: 0 | M41: VM, TM | N41: Ieslodzījumu vietu pārvalde, NVD | O41: Esošā budžeta ietvaros | P41: 2027. gada I pusgads
A42: 2.1.5. | B42: Veicināt ģimenes hiperholesterinēmijas un citu smagu primāru vai komplicētu hiperlipidēmiju pacientu novērtēšanu, diagnostiku, uzraudzību, uzskaiti, ārstēšanu un kaskādes skrīninga organizēšanu | C42: 2.1.5.1. Ieviesta valsts apmaksātu lipoproteīna (a) noteikšana pacientiem no 40-75 gadiem vienreiz mūžā | D42: Noteikts lipoproteīns (a) 266 915 pacientiem no 40-75 gadiem (2027.gads); Noteikts lipoproteīns (a) 191 927 pacientiem no 40-75 gadiem (2028.gads); Noteikts lipoproteīns (a) 140 441 pacientiem no 40-75 gadiem (2029.gads). | E42: 33.15.00 Laboratorisko izmeklējumu nodrošināšana ambulatorajā aprūpē | F42: 365 | G42: 365 | I42: 0 | J42: ='2.1.5.1.'!C5 -> 756702 | K42: 0 | L42: ='2.1.5.1.'!D5 -> 544105 | M42: NVD | N42: MVI KJ, LKB, LĢĀA, LLĢĀA | O42: VBF indikatīvi | P42: 2027. gada II pusgads (turpmāk ik gadu)
...

Sheet 1.1.2.
J1: Pielikums Nr.1.1.2.
A2: Sabiedrības informēšanas pasākumi pacientu līdzestības dienā par regulāras paškontroles veikšanu SAS profilaksei un negatīvās ietekmes uz veselību mazināšanai
A3: Pasākums | B3: Finansējums indikatīvi ar PVN, euro
B4: 2026.gads* | C4: 2027.gads*
A5: Sadarbībā ar veselības jomas speciālistiem un pacientu organizācijām īstenoti vismaz divi sabiedrības informēšanas pasākumi par regulāras paškontroles veikšanu SAS profilaksei un negatīvās ietekmes uz veselību mazināšanai. | B5: =15000*1.21 -> 18150 | C5: =15000*1.21 -> 18150
A6: Eiropas Sociālā fonda Plus (ESF+) finansējums, Eiropas Savienības kohēzijas politikas programmas 2021.–2027.gadam 4.1.2.SAM "Uzlabot vienlīdzīgu un savlaicīgu piekļuvi kvalitatīviem, ilgtspējīgiem un izmaksu ziņā pieejamiem veselības aprūpes, veselības veicināšanas un slimību profilakses pakalpojumiem, uzlabojot veselības aprūpes sistēmu efektivitāti un izturētspēju” 4.1.2.1. pasākuma "Nacionāla mēroga veselības veicināšanas un slimību profilakses pasākumi" projektā "Nacionāla mēroga veselības veicināšanas un slimību profilakses pasākumi" (Nr.4.1.2.1./1/24/I/001). Šobrīd nav zināms ar kādu finanšu apjomu rezultēsies plānotie 4.1.2.1. pasākuma "Nacionāla mēroga veselības veicināšanas un slimību profilakses pasākumi" projekta "Nacionāla mēroga veselības veicināšanas un slimību profilakses pasākumi" iepirkumi 2027.gadam, līdz ar to Sirds un asinsvadu veselības uzlabošanas rīcības plānā 2025.–2027. gadam, norādītais finansējuma apjoms var mainīties.
A10: Sabiedrības informēšanas pasākumi pacientu līdzestības dienā par regulāras paškontroles veikšanu SAS profilaksei un negatīvās ietekmes uz veselību mazināšanai
B11: Pasākums | C11: Darbības rezultāts | D11: Rezultatīvais rādītājs | E11: Plānotie nodevumi | F11: Plānoto nodevumu skaits | G11: Vienas vienības summa bez PVN, euro | H11: KOPĀ bez PVN, euro | I11: PVN likme (%) | J11: Vienas vienības summa ar PVN, euro | K11: KOPĀ ar PVN, euro*
A12: Sabiedrības informēšanas pasākumi | B12: Sadarbībā ar veselības jomas speciālistiem un pacientu organizācijām īstenoti vismaz divi sabiedrības informēšanas pasākumi par regulāras paškontroles veikšanu SAS profilaksei un negatīvās ietekmes uz veselību mazināšanai. | E12: Pasākums | F12: 2 | G12: 15000 | H12: =F12*G12 -> 30000 | I12: 21 | J12: =G12*1.21 -> 18150 | K12: =F12*J12 -> 36300
H13: =SUM(H12:H12) -> 30000 | K13: =SUM(K12:K12) -> 36300
A14: Eiropas Sociālā fonda Plus (ESF+) finansējums, Eiropas Savienības kohēzijas politikas programmas 2021.–2027.gadam 4.1.2.SAM "Uzlabot vienlīdzīgu un savlaicīgu piekļuvi kvalitatīviem, ilgtspējīgiem un izmaksu ziņā pieejamiem veselības aprūpes, veselības veicināšanas un slimību profilakses pakalpojumiem, uzlabojot veselības aprūpes sistēmu efektivitāti un izturētspēju” 4.1.2.1. pasākuma "Nacionāla mēroga veselības veicināšanas un slimību profilakses pasākumi" projektā "Nacionāla mēroga veselības veicināšanas un slimību profilakses pasākumi" (Nr.4.1.2.1./1/24/I/001). Šobrīd nav zināms ar kādu finanšu apjomu rezultēsies plānotie 4.1.2.1. pasākuma "Nacionāla mēroga veselības veicināšanas un slimību profilakses pasākumi" projekta "Nacionāla mēroga veselības veicināšanas un slimību profilakses pasākumi" iepirkumi 2027.gadam, līdz ar to Sirds un asinsvadu veselības uzlabošanas rīcības plānā 2025.–2027. gadam, norādītais finansējuma apjoms var mainīties.

Sheet 1.1.5.
G1: Pielikums Nr.1.1.5.
A2: Riska grupu vakcinācija pret pneimokoku infekciju
A4: Apakšprogrammas nosaukums | C4: Esošais finansējums | D4: Papildus nepieciešamais finansējums indikatīvi 2027.gadam | E4: Papildus nepieciešamais finansējums indikatīvi 2028.gadam (ar 5% pieaugumu vakcīnām pret iepriekšējo gadu) | F4: Papildu nepieciešamais finansējums indikatīvi 2029.gadam (ar 5% pieaugumu vakcīnām pret iepriekšējo gadu) | G4: Papildus nepieciešamais finansējums indikatīvi turpmāk ik gadu (ja pasākums nav terminēts) (ar 5% pieaugumu vakcīnām pret iepriekšējo gadu)
A5: 33.04.00 Centralizēta medikamentu un materiālu iegāde | C5: 0 | D5: =SUM(F21) -> 1028720 | E5: =D5*1.05 -> 1080156 | F5: =E5*1.05 -> 1134163.8 | G5: =F5*1.05 -> 1190872
A6: 33.14.00 Primārās ambulatorās veselības aprūpes nodrošināšana | C6: 0 | D6: =SUM(F22) -> 177354 | E6: =SUM(D6) -> 177354 | F6: =SUM(E6) -> 177354 | G6: =SUM(F6) -> 177354
A8: Papildus nepieciešamais finansējums 2027.gadam un turpmāk ik gadu
A9: Riska grupa | B9: Unikālo pacientu skaits 2024. gadā* | C9: Nepieciešamais devu skaits (prognozējamā atsaucība - 50%) | D9: Cena ar PVN** | E9: Apskate un vakcīnu ievade | F9: Kopā ar PVN
A10: 1.1.augsta riska kardioloģijas pacienti: | B10: =B11+B12+B13 -> 47018 | C10: =SUM(C11:C13) -> 23510 | D10: 30.8 | E10: 5.31 | F10: =SUM(C10*D10+(C10*E10)) -> 848946.1
A11: I50 personas ar sirds mazspēju | B11: 42703 | C11: =ROUNDUP(B11*0.5,0) -> 21352
A12: Q20–Q25 persoas ar iedzimtu sirds defektu | B12: 987 | C12: =ROUNDUP(B12*0.5,0) -> 494
A13: M05–M08, M30–M36, M79.0 personas ar reimatiskajām slimībām | B13: 3328 | C13: =ROUNDUP(B13*0.5,0) -> 1664
A14: 1.2.augsta riska plaušu slimību pacienti: | B14: =B15+B16+B17+B18 -> 19780 | C14: =SUM(C15:C18) -> 9890 | D14: 30.8 | E14: 5.31 | F14: =SUM(C14*D14+(C14*E14)) -> 357127.9
A15: J44 personas ar citu hronisku obstruktīvu plaušu slimību | B15: 7450 | C15: =ROUNDUP(B15*0.5,0) -> 3725
A16: J45-J46 personas ar bronhiālo astmu | B16: 11478 | C16: =ROUNDUP(B16*0.5,0) -> 5739
A17: E84 personas ar cistisko fibrozi | B17: 36 | C17: =ROUNDUP(B17*0.5,0) -> 18
A18: J47 personas ar bronhektāziju | B18: 816 | C18: =ROUNDUP(B18*0.5,0) -> 408
A19: Datu avots: SPKC Ar noteiktām slimībām slimojošu pacientu reģistrs | D19: Kopā: | F19: =ROUND(F10+F14,0) -> 1206074
D20: tai skaitā:
E21: Budžeta apakšprogramma 33.04.00 | F21: =ROUND(SUM(C14+C10)*D14,0) -> 1028720
E22: Budžeta apakšprogramma 33.14.00 | F22: =ROUND(SUM(C14+C10)*E14,0) -> 177354
A23: *Slimību profilakses un kontroles centra rīcībā esoši Nacionālā veselības dienesta dati par valsts apmaksātiem veselības aprūpes pakalpojumiem. Datu avots: Veselības aprūpes kvalitātes un efektivitātes monitorēšanas sistēma.
A24: *attiecīgās diagnozes gan stacionārās, gan ambulatorās (izņemot palīgkabinetu apmeklējumiem) pamata vai papilddiagnozes.
A26: **PCV15 cena ar PVN (ieskaitot manipulāciju) atbilstoši NVD iepirkumam par vakcīnu un šļirču piegādi 2024. un 2025.gadam
A27: Cena no iepirkuma bez PVN | B27: 25
A28: Sadārdzinājums +10% | B28: 27.5
A29: Cena ar PVN | B29: 30.8
A30: Manipulācija | B30: 5.31
A31: Vakc.+ manip. | B31: 36.11

Sheet 1.1.4.1.
F1: Pielikums Nr.1.1.4.1.
A3: Valsts apmaksāto devu skaitu riska grupu vakcinācijai pret gripu pieejamības nodrošināšana
A5: Apakšprogrammas nosaukums | C5: Papildus nepieciešamais finansējums indikatīvi 2027.gadam | D5: Papildus nepieciešamais finansējums indikatīvi 2028.gadam | E5: Papildu nepieciešamais finansējums indikatīvi 2029.gadam | F5: Papildus nepieciešamais finansējums indikatīvi turpmāk ik gadu (ja pasākums nav terminēts)
A6: 33.04.00 Centralizēta medikamentu un materiālu iegāde | C6: =SUM(F26) -> 1625170 | D6: =SUM(F44) -> 1826238 | E6: =SUM(F64) -> 2038011.9 | F6: =SUM(E6) -> 2038011.9
A7: 33.14.00 Primārās ambulatorās veselības aprūpes nodrošināšana | C7: =SUM(F27) -> 167371 | D7: =SUM(F45) -> 167371 | E7: =SUM(F65) -> 167371.2 | F7: =SUM(E7) -> 167371.2
A10: 2027.gads
A11: Sezona | B11: Vakcīnas tips | C11: Vakcīnu skaits | D11: Cena ar PVN | E11: Apskate un vakcīnu ievade | F11: Kopā ar PVN
A12: 2026/2027 | B12: Intranazālā (Fluenz) | C12: 6816 | D12: 30.26 | E12: 5.31 | F12: =SUM(C12*D12)+E12*C12 -> 242445.12
B13: Augstas devas (Efluelda vai Fluad) | C13: 78366 | D13: 42.69 | E13: 5.31 | F13: =SUM(C13*D13)+E13*C13 -> 3761568
B14: Standarta (influvac) | C14: 76958 | D14: 6.19 | E14: 5.31 | F14: =SUM(C14*D14)+E14*C14 -> 885017
C15: Kopā: | F15: =SUM(F12:F14) -> 4889030.1
C16: no tā:
C17: Budžeta apakšprogramma 33.04.00 | F17: =SUM(C12*D12)+(C13*D13)+(C14*D14) -> 4028066.7
C18: Budžeta apakšprogramma 33.14.00 | F18: =SUM(C12+C13+C14)*E12 -> 860963.4
C20: Bāzes finansējums
C21: Budžeta apakšprogramma 33.04.00 | F21: 2402897
C22: Budžeta apakšprogramma 33.14.00 | F22: =130620*E12 -> 693592.2
C24: Papildu nepieciešamais finansējums 2026.gadam: | F24: =ROUND(SUM(F15)-F21-F22,0) -> 1792541
C25: no tā:
C26: Budžeta apakšprogramma 33.04.00 | F26: =ROUND(SUM(F17-F21),0) -> 1625170
C27: Budžeta apakšprogramma 33.14.00 | F27: =ROUND(SUM(F18-F22),0) -> 167371
A29: 2028.gads
A30: Sezona | B30: Vakcīnas tips | C30: Vakcīnu skaits | D30: Cena ar PVN* | E30: Apskate un vakcīnu ievade | F30: Kopā ar PVN
A31: 2027/2028 | B31: Intranazālā (Fluenz) | C31: 6816 | D31: 31.77 | E31: 5.31 | F31: =SUM(C31*D31)+E31*C31 -> 252737.28
B32: Augstas devas (Efluelda vai Fluad) | C32: 78366 | D32: 44.82 | E32: 5.31 | F32: =SUM(C32*D32)+E32*C32 -> 3928487.6
B33: Standarta (influvac) | C33: 76958 | D33: 6.5 | E33: 5.31 | F33: =SUM(C33*D33)+E33*C33 -> 908873.98
A34: Kopā: | F34: =SUM(F31:F33) -> 5090098.8
C35: no tā:
C36: Budžeta apakšprogramma 33.04.00 | F36: =SUM(C31*D31)+(C32*D32)+(C33*D33) -> 4229135.4
C37: Budžeta apakšprogramma 33.14.00 | F37: =SUM(C31+C32+C33)*E31 -> 860963.4
C38: Bāzes finansējums
C39: Budžeta apakšprogramma 33.04.00 | F39: 2402897
C40: Budžeta apakšprogramma 33.14.00 | F40: =130620*E31 -> 693592.2
C42: Papildu nepieciešamais finansējums 2027.gadam: | F42: =ROUND(SUM(F34)-F39-F40,0) -> 1993610
C43: no tā:
C44: Budžeta apakšprogramma 33.04.00 | F44: =ROUND(SUM(F36-F39),0) -> 1826238
C45: Budžeta apakšprogramma 33.14.00 | F45: =ROUND(SUM(F37-F40),0) -> 167371
A47: * cenai piemērots koeficients 1.05, jo ik gadu pieaug gripas vakcīnas cena
A49: 2029.gads un turpmāk ik gadu
A50: Sezona | B50: Vakcīnas tips | C50: Vakcīnu skaits | D50: Cena ar PVN | E50: Apskate un vakcīnu ievade | F50: Kopā ar PVN
...

Sheet 2.1.2.1.
J1: Pielikums Nr.2.1.2.1.
C2: Cukura diabēta un prediabēta skrīninga programmas paplašinājums
A4: Apakšprogrammas nosaukums | B4: Esošais finansējums | C4: Papildus nepieciešamais finansējums indikatīvi 2027. gadam | D4: Papildus nepieciešamais finansējums indikatīvi 2028. gadam | E4: Papildus nepieciešamais finansējums indikatīvi 2029. gadam un turpmāk ik gadu (ja pasākums nav terminēts)
A5: 33.15.00 Laboratorisko izmeklējumu nodrošināšana ambulatorajā aprūpē | B5: =(C10*C26)+(C11*C32)+(C12*G26) -> 80094.4 | C5: =F10+F11+F12 -> 45675.9 | D5: =H10+H11+H12 -> 54177.2 | E5: =J10+J11+J12 -> 63723.05
A9: Manipulācijas nosaukums | B9: Manipulācijas kods | C9: Tarifs, euro | D9: Plānotais manipulāciju skaits pacientam gadā | E9: Plānotais pacientu skaits 2027. gadā, ja atsaucība ir 50 % | F9: Papildus nepieciešamais finansējums indikatīvi 2027. gadā, ja atsaucība ir 50 %, euro | G9: Plānotais pacientu skaits 2028. gadā, ja atsaucība ir 55 % | H9: Papildus nepieciešamais finansējums indikatīvi 2028. gadā, ja atsaucība ir 55 %, euro | I9: Plānotais pacientu skaits 2029. gadam un turpmāk ik gadu, ja atsaucība ir 60 % | J9: Papildus nepieciešamais finansējums indikatīvi 2029. gadā un turpmāk ik gadu, ja atsaucība ir 60 %, euro
A10: Glikoze asinīs | B10: 41095 | C10: 1.15 | D10: 1 | E10: =ROUND(B16*0.5,0)-C26 -> 27430 | F10: =C10*D10*E10 -> 31544.5 | G10: =ROUND(B16*0.55,0)-C26 -> 34600 | H10: =G10*C10 -> 39790 | I10: =ROUND(B16*0.6,0)-C26 -> 41771 | J10: =I10*C10 -> 48036.65
A11: Glikozes slodzes tests* | B11: 41096 | C11: 6.6 | D11: 1 | E11: =ROUND(((B16-C32)*0.016)*0.5,0) -> 1129 | F11: =C11*E11*D11 -> 7451.4 | G11: =ROUND(((B16-C32)*0.016)*0.55,0) -> 1242 | H11: =G11*C11 -> 8197.2 | I11: =ROUND(((B16-C32)*0.016)*0.6,0) -> 1354 | J11: =C11*I11 -> 8936.4
A12: Glikohemoglobīns** | B12: 41103, 41104, 41105 | C12: 5 | D12: 1 | E12: =ROUND(((B16-G26)*0.019)*0.5,0) -> 1336 | F12: =C12*D12*E12 -> 6680 | G12: =ROUND(((B16-G26)*0.016)*0.55,0) -> 1238 | H12: =G12*C12 -> 6190 | I12: =ROUND(((B16-G26)*0.016)*0.6,0) -> 1350 | J12: =I12*C12 -> 6750
A13: *0.016 - iedzīvotāju skaits (vecuma grupā no 35-39 gadi) pret veikto manipulāciju 41096 | F13: =F10+F11+F12 -> 45675.9 | H13: =H10+H11+H12 -> 54177.2 | J13: =J10+J11+J12 -> 63723.05
A14: ** 0.019 - iedzīvotāju skaits (vecuma grupā no 35-39 gadi) pret veiktajām manipulācijām 41103, 41104, 41105
A16: Iedzīvotāju skaits vecuma grupā 35-39 gadi | B16: 143411
A17: 10 % iedzīvotāju skaita vecuma grupā 35-39 gadi | B17: =ROUND(0.1*143411,0) -> 14341
A19: 2024. gadā unikālajaiem pacientiem veiktais manipulāciju skaits vecuma grupās | E19: 2024. gadā unikālajiem pacientiem veiktais manipulāciju skaits vecuma grupās
A20: Manipulācijas kods | B20: Vecums | C20: Unikālo pacientu skaits | E20: Manipulācijas kods | F20: Vecums | G20: Unikālo pacientu skaits
A21: 41095 | B21: 35 | C21: 8136 | E21: 41103+41104+41105 | F21: 35 | G21: 489
B22: 36 | C22: 8750 | F22: 36 | G22: 553
B23: 37 | C23: 9210 | F23: 37 | G23: 610
B24: 38 | C24: 9135 | F24: 38 | G24: 561
B25: 39 | C25: 9045 | F25: 39 | G25: 560
B26: Kopā | C26: =SUM(C21:C25) -> 44276 | F26: Kopā | G26: =SUM(G21:G25) -> 2773
A27: 41096 | B27: 35 | C27: 552
B28: 36 | C28: 528
B29: 37 | C29: 455
B30: 38 | C30: 411
B31: 39 | C31: 374
B32: Kopā | C32: =SUM(C27:C31) -> 2320

Sheet 2.1.2.2
K1: Pielikums Nr.2.1.2.2.
A2: Izstrādāts savlaicīga cukura diabēta diagnostikas algoritms, kā arī pacienta ceļš diagnostikai
A3: Pasākums | B3: Finansējums indikatīvi ar PVN, euro
B4: 2026.gads* | C4: 2027.gads*
A5: Izstrādāts savlaicīga cukura diabēta diagnostikas algoritms, kā arī pacienta ceļš diagnostikai | B5: =30000*1.21 -> 36300 | C5: 0
A6: *Eiropas Sociālā fonda (ESF+) finansējums, 2021.-2027.gada plānošanas perioda Darbības programmas 4.1.2.SAM "Uzlabot vienlīdzīgu un savlaicīgu piekļuvi kvalitatīviem, ilgtspējīgiem un izmaksu ziņā pieejamiem veselības aprūpes, veselības veicināšanas un slimību profilakses pakalpojumiem, uzlabojot veselības aprūpes sistēmu efektivitāti un izturētspēju” 4.1.2.7. pasākums "Pilnveidot pacientu drošību un aprūpes kvalitāti"
A10: Izstrādāts savlaicīga cukura diabēta diagnostikas algoritms, kā arī pacienta ceļš diagnostikai
B11: Pasākums | C11: Darbības rezultāts | D11: Rezultatīvais rādītājs | E11: Plānotie nodevumi | F11: Plānoto nodevumu skaits | G11: Vienas vienības summa bez PVN, euro | H11: KOPĀ bez PVN, euro | I11: PVN likme (%) | J11: Vienas vienības summa ar PVN, euro | K11: KOPĀ ar PVN, euro*
A12: Algoritmi | B12: Izstrādāts savlaicīga cukura diabēta diagnostikas algoritms, kā arī pacienta ceļš diagnostikai | E12: Algoritms | F12: 1 | G12: 13950 | H12: =F12*G12 -> 13950 | I12: 21 | J12: =G12*1.21 -> 16879.5 | K12: =F12*J12 -> 16879.5
E13: Ceļš | F13: 1 | G13: 13950 | H13: =F13*G13 -> 13950 | I13: 21 | J13: =G13*1.21 -> 16879.5 | K13: =F13*J13 -> 16879.5
E14: Indikators | F14: 3 | G14: 700 | H14: =F14*G14 -> 2100 | I14: 21 | J14: =G14*1.21 -> 847 | K14: =F14*J14 -> 2541
H15: =SUM(H12:H14) -> 30000 | K15: =SUM(K12:K14) -> 36300
A16: *Eiropas Sociālā fonda (ESF+) finansējums, 2021.-2027.gada plānošanas perioda Darbības programmas 4.1.2.SAM "Uzlabot vienlīdzīgu un savlaicīgu piekļuvi kvalitatīviem, ilgtspējīgiem un izmaksu ziņā pieejamiem veselības aprūpes, veselības veicināšanas un slimību profilakses pakalpojumiem, uzlabojot veselības aprūpes sistēmu efektivitāti un izturētspēju” 4.1.2.7. pasākums "Pilnveidot pacientu drošību un aprūpes kvalitāti"

Sheet 2.1.5.1.
M1: Pielikums Nr.2.1.5.1.
B2: Lipoproteīna (a) noteikšana pacientiem no 40-75 gadiem vienreiz mūžā
A4: Apakšprogrammas nosaukums | B4: Esošais finansējums* | C4: Papildus nepieciešamais finansējums indikatīvi 2027.gadam | D4: Papildus nepieciešamais finansējums indikatīvi 2028.gadam | E4: Papildus nepieciešamais finansējums indikatīvi 2029. gadam | F4: Papildus nepieciešamais finansējums indikatīvi 2030. gadam un turpmāk ik gadu (ja pasākums nav terminēts)
A5: 33.15.00 Laboratorisko izmeklējumu nodrošināšana ambulatorajā aprūpē | B5: =ROUND(C12*88,0) -> 356 | C5: =ROUND(G12,0) -> 756702 | D5: =ROUND(I12,0) -> 544105 | E5: =ROUND(K12,0) -> 398164 | F5: =ROUND(M12,0) -> 297436
A7: * 2024. gadā Lipoproteīna (a) analīze veikta 88 reizes
A11: Manipulācijas kods | B11: Manipulācijas nosaukums | C11: Manip. tarifs, eiro | D11: Pacienta līdmaksājums, eiro | E11: Plānotais manipulāciju skaits vienam pacientam gadā | F11: Plānotais ambulatoro pacientu skaits 2027. gadam* | G11: Papildus nepieciešamais finansējums indikatīvi 2027. gadā, euro | H11: Plānotais ambulatoro pacientu skaits 2028. gadam* | I11: Papildus nepieciešamais finansējums indikatīvi 2028. gadā, euro | J11: Plānotais ambulatoro pacientu skaits 2029. gadam un turpmāk ik gadu* | K11: Papildus nepieciešamais finansējums indikatīvi 2029.gadā un turpmāk ik gadu, euro | L11: Plānotais ambulatoro pacientu skaits 2030. gadam | M11: Papildus nepieciešamais finansējums indikatīvi 2030.gadā, euro
A12: 41051 | B12: Lipoproteīns (a) | C12: 4.05 | D12: =P9 -> 0 | E12: 1 | F12: =C16 -> 186840 | G12: =F12*C12 -> 756702 | H12: =C17 -> 134347 | I12: =ROUND(H12*C12,0) -> 544105 | J12: =C18 -> 98312 | K12: =ROUND(J12*C12,0) -> 398164 | L12: =C19 -> 73441 | M12: =L12*C12 -> 297436.05
A13: * pieņemot, ka atsaucība būtu 30 % ik gadu
A15: Gads | B15: Vecums 2025. gadā | C15: Pacientu skaits | D15: Finansējums
A16: 2027 | B16: 39-74 gadi | C16: =SUM(E29:E64) -> 186840 | D16: =$C$12*C16 -> 756702
A17: 2028 | B17: 38-73 gadi | C17: =SUM(G29:G63)+E28 -> 134347 | D17: =$C$12*C17 -> 544105.35 | E17: 38 gadus veci pacienti nebūs testējušies 2027. gadā, tāpēc pieskaitīti 30 % par 2027. gadu
A18: 2029 | B18: 37-72 gadi | C18: =SUM(I29:I62)+G28+E27 -> 98312 | D18: =$C$12*C18 -> 398163.6 | E18: 37 gadus veci pacienti nebūs testējušies 2027. un 2028. gadā, tāpēc pieskaitīti 30 % par 2027. gadu, 38 gadus veci pacienti pirmo reizi testēti 2028. gadā, tāpēc pieskaitīti 30 % par 2028. gadu
A19: 2030 | B19: 36-71 gadi | C19: =SUM(K29:K61)+I28+G27+E26 -> 73441 | D19: =$C$12*C19 -> 297436.05
A23: 2025. gada statistikas dati no data.stat.gov.lv | C23: 2026 | E23: 2027 | G23: 2028 | I23: 2029 | K23: 2030
C24: 0.3 | D24: 0.7 | E24: 0.3 | F24: 0.7 | G24: 0.3 | H24: 0.7 | I24: 0.3 | J24: 0.7 | K24: 0.3 | L24: 0.7
A25: 35 gadi | B25: 27470 | C25: =ROUND(B25*0.3,0) -> 8241 | D25: =B25-C25 -> 19229 | E25: =ROUND(D25*0.3,0) -> 5769 | F25: =D25-E25 -> 13460 | G25: =ROUND(F25*0.3,0) -> 4038 | H25: =F25-G25 -> 9422 | I25: =ROUND(H25*0.3,0) -> 2827 | J25: =H25-I25 -> 6595 | K25: =ROUND(J25*0.3,0) -> 1979 | L25: =J25-K25 -> 4616
A26: 36 gadi | B26: 28696 | C26: =ROUND(B26*0.3,0) -> 8609 | D26: =B26-C26 -> 20087 | E26: =ROUND(D26*0.3,0) -> 6026 | F26: =D26-E26 -> 14061 | G26: =ROUND(F26*0.3,0) -> 4218 | H26: =F26-G26 -> 9843 | I26: =ROUND(H26*0.3,0) -> 2953 | J26: =H26-I26 -> 6890 | K26: =ROUND(J26*0.3,0) -> 2067 | L26: =J26-K26 -> 4823
A27: 37 gadi | B27: 29540 | C27: =ROUND(B27*0.3,0) -> 8862 | D27: =B27-C27 -> 20678 | E27: =ROUND(D27*0.3,0) -> 6203 | F27: =D27-E27 -> 14475 | G27: =ROUND(F27*0.3,0) -> 4343 | H27: =F27-G27 -> 10132 | I27: =ROUND(H27*0.3,0) -> 3040 | J27: =H27-I27 -> 7092 | K27: =ROUND(J27*0.3,0) -> 2128 | L27: =J27-K27 -> 4964
A28: 38 gadi | B28: 29410 | C28: =ROUND(B28*0.3,0) -> 8823 | D28: =B28-C28 -> 20587 | E28: =ROUND(D28*0.3,0) -> 6176 | F28: =D28-E28 -> 14411 | G28: =ROUND(F28*0.3,0) -> 4323 | H28: =F28-G28 -> 10088 | I28: =ROUND(H28*0.3,0) -> 3026 | J28: =H28-I28 -> 7062 | K28: =ROUND(J28*0.3,0) -> 2119 | L28: =J28-K28 -> 4943
A29: 39 gadi | B29: 28295 | C29: =ROUND(B29*0.3,0) -> 8489 | D29: =B29-C29 -> 19806 | E29: =ROUND(D29*0.3,0) -> 5942 | F29: =D29-E29 -> 13864 | G29: =ROUND(F29*0.3,0) -> 4159 | H29: =F29-G29 -> 9705 | I29: =ROUND(H29*0.3,0) -> 2912 | J29: =H29-I29 -> 6793 | K29: =ROUND(J29*0.3,0) -> 2038 | L29: =J29-K29 -> 4755
A30: 40 gadi | B30: 28492 | C30: =ROUND(B30*0.3,0) -> 8548 | D30: =B30-C30 -> 19944 | E30: =ROUND(D30*0.3,0) -> 5983 | F30: =D30-E30 -> 13961 | G30: =ROUND(F30*0.3,0) -> 4188 | H30: =F30-G30 -> 9773 | I30: =ROUND(H30*0.3,0) -> 2932 | J30: =H30-I30 -> 6841 | K30: =ROUND(J30*0.3,0) -> 2052 | L30: =J30-K30 -> 4789
A31: 41 gads | B31: 28566 | C31: =ROUND(B31*0.3,0) -> 8570 | D31: =B31-C31 -> 19996 | E31: =ROUND(D31*0.3,0) -> 5999 | F31: =D31-E31 -> 13997 | G31: =ROUND(F31*0.3,0) -> 4199 | H31: =F31-G31 -> 9798 | I31: =ROUND(H31*0.3,0) -> 2939 | J31: =H31-I31 -> 6859 | K31: =ROUND(J31*0.3,0) -> 2058 | L31: =J31-K31 -> 4801
A32: 42 gadi | B32: 26507 | C32: =ROUND(B32*0.3,0) -> 7952 | D32: =B32-C32 -> 18555 | E32: =ROUND(D32*0.3,0) -> 5567 | F32: =D32-E32 -> 12988 | G32: =ROUND(F32*0.3,0) -> 3896 | H32: =F32-G32 -> 9092 | I32: =ROUND(H32*0.3,0) -> 2728 | J32: =H32-I32 -> 6364 | K32: =ROUND(J32*0.3,0) -> 1909 | L32: =J32-K32 -> 4455
A33: 43 gadi | B33: 25656 | C33: =ROUND(B33*0.3,0) -> 7697 | D33: =B33-C33 -> 17959 | E33: =ROUND(D33*0.3,0) -> 5388 | F33: =D33-E33 -> 12571 | G33: =ROUND(F33*0.3,0) -> 3771 | H33: =F33-G33 -> 8800 | I33: =ROUND(H33*0.3,0) -> 2640 | J33: =H33-I33 -> 6160 | K33: =ROUND(J33*0.3,0) -> 1848 | L33: =J33-K33 -> 4312
A34: 44 gadi | B34: 25200 | C34: =ROUND(B34*0.3,0) -> 7560 | D34: =B34-C34 -> 17640 | E34: =ROUND(D34*0.3,0) -> 5292 | F34: =D34-E34 -> 12348 | G34: =ROUND(F34*0.3,0) -> 3704 | H34: =F34-G34 -> 8644 | I34: =ROUND(H34*0.3,0) -> 2593 | J34: =H34-I34 -> 6051 | K34: =ROUND(J34*0.3,0) -> 1815 | L34: =J34-K34 -> 4236
A35: 45 gadi | B35: 24571 | C35: =ROUND(B35*0.3,0) -> 7371 | D35: =B35-C35 -> 17200 | E35: =ROUND(D35*0.3,0) -> 5160 | F35: =D35-E35 -> 12040 | G35: =ROUND(F35*0.3,0) -> 3612 | H35: =F35-G35 -> 8428 | I35: =ROUND(H35*0.3,0) -> 2528 | J35: =H35-I35 -> 5900 | K35: =ROUND(J35*0.3,0) -> 1770 | L35: =J35-K35 -> 4130
A36: 46 gadi | B36: 24172 | C36: =ROUND(B36*0.3,0) -> 7252 | D36: =B36-C36 -> 16920 | E36: =ROUND(D36*0.3,0) -> 5076 | F36: =D36-E36 -> 11844 | G36: =ROUND(F36*0.3,0) -> 3553 | H36: =F36-G36 -> 8291 | I36: =ROUND(H36*0.3,0) -> 2487 | J36: =H36-I36 -> 5804 | K36: =ROUND(J36*0.3,0) -> 1741 | L36: =J36-K36 -> 4063
... A65: 75 gadi | B65: 18467 | C65: =ROUND(B65*0.3,0) -> 5540 | D65: =B65-C65 -> 12927 | E65: =ROUND(D65*0.3,0) -> 3878 | F65: =D65-E65 -> 9049 | G65: =ROUND(F65*0.3,0) -> 2715 | H65: =F65-G65 -> 6334 | I65: =ROUND(H65*0.3,0) -> 1900 | J65: =H65-I65 -> 4434 | K65: =ROUND(J65*0.3,0) -> 1330 | L65: =J65-K65 -> 3104

Sheet 2.1.5.2.
H1: Pielikums Nr.2.1.5.2.
C2: Attīstīts ģimenes hiperholisterinēmijas komandas pakalpojums
A4: Apakšprogrammas nosaukums | B4: Esošais finansējums | C4: Papildus nepieciešamais finansējums indikatīvi 2027. gadam | D4: Papildus nepieciešamais finansējums indikatīvi 2028. gadam | E4: Papildus nepieciešamais finansējums indikatīvi 2029. gadam un turpmāk ik gadu (ja pasākums nav terminēts)
A5: 33.16.00 Pārējo ambulatoro veselības aprūpes pakalpojumu nodrošināšana | B5: 0 | C5: =H14+E19 -> 73945.15 | D5: =SUM(H14+G19) -> 87285.15 | E5: =D5 -> 87285.15
B8: Ārsts | C8: Māsa | D8: Palīgpersonāls | E8: Soc.nodoklis
A9: Mēneša darba samaksa | B9: 2304 | C9: 1388 | D9: 925
A10: 1 minūtes vērtība darba samaksai | B10: =ROUND(B9/9600,4) -> 0.24 | C10: =ROUND(C9/9600,4) -> 0.1446 | D10: =ROUND(D9/9600,4) -> 0.0964 | E10: 0.2359
A12: Koordinators
A13: Slodze | C13: Alga mēnesī* | D13: Soc. nodoklis | E13: Alga ar soc. nodokli mēnesī | F13: Alga gadā | G13: Soc. nodoklis gadā | H13: Alga ar soc. nodokli gadā
A14: 1 | C14: =C9 -> 1388 | D14: =ROUND(C14*E10,2) -> 327.43 | E14: =C14+D14 -> 1715.43 | F14: =C14*12 -> 16656 | G14: =F14*E10 -> 3929.1504 | H14: =F14+G14 -> 20585.15
A15: *koordinatoram tiek piemērota māsas alga
A17: Aprūpes epizodes
A18: Specialitāte | C18: Aprūpes epizodes tarifs | D18: 2027.gada pacientu skaits | E18: Izmaksas 2027.gadā | F18: 2028.gadā un turpmāk ik gadu pacientu skaits | G18: Izmaksas 2028. gadā un turpmāk ik gadu
A19: Kardiologs | C19: 26.68 | D19: 2000 | E19: =C19*D19 -> 53360 | F19: 2500 | G19: =SUM(F19*C19) -> 66700
A20: **16 pacienti dienā, gadā 254 darba dienas

Sheet 2.1.5.3.
C1: Pielikums Nr. 2.1.5.3.
A2: Izstrādāts ģimenes hiperholisterinēmijas un citu smagu primāru vai komplicētu hiperlipidēmiju pacientu novērtēšanu, diagnostikas algoritms, kā arī pacienta ceļš un kvalitātes indikatori diagnostikai
A3: Pasākums | B3: Finansējums indikatīvi ar PVN, euro
B4: 2026.gads* | C4: 2027.gads*
A5: Izstrādāts ģimenes hiperholisterinēmijas un citu smagu primāru vai komplicētu hiperlipidēmiju pacientu novērtēšanu, diagnostikas algoritms, kā arī pacienta ceļš un kvalitātes indikatori diagnostikai | C5: =30000*1.21 -> 36300
A6: *Eiropas Sociālā fonda Plus (ESF+) finansējums, Eiropas Savienības kohēzijas politikas programmas 2021.–2027.gadam 4.1.2.SAM "Uzlabot vienlīdzīgu un savlaicīgu piekļuvi kvalitatīviem, ilgtspējīgiem un izmaksu ziņā pieejamiem veselības aprūpes, veselības veicināšanas un slimību profilakses pakalpojumiem, uzlabojot veselības aprūpes sistēmu efektivitāti un izturētspēju” 4.1.2.7. pasākuma "Nacionāla mēroga veselības veicināšanas un slimību profilakses pasākumi" projektā "Nacionāla mēroga veselības veicināšanas un slimību profilakses pasākumi". Šobrīd nav zināms ar kādu finanšu apjomu rezultēsies plānotie 4.1.2.7. pasākuma "Pilnveidot pacientu drošību un aprūpes kvalitāti" projekta "Pilnveidot pacientu drošību un aprūpes kvalitāti" iepirkumi 2027.gadam, līdz ar to Sirds un asinsvadu veselības uzlabošanas rīcības plānā 2025.–2027. gadam, norādītais finansējuma apjoms var mainīties
A14: Izstrādāts ģimenes hiperholisterinēmijas un citu smagu primāru vai komplicētu hiperlipidēmiju pacientu novērtēšanu, diagnostikas algoritms, kā arī pacienta ceļš un kvalitātes indikatori diagnostikai
B15: Pasākums | C15: Darbības rezultāts | D15: Rezultatīvais rādītājs | E15: Plānotie nodevumi | F15: Plānoto nodevumu skaits | G15: Vienas vienības summa bez PVN, euro | H15: KOPĀ bez PVN, euro | I15: PVN likme (%) | J15: Vienas vienības summa ar PVN, euro | K15: KOPĀ ar PVN, euro*
A16: Algoritmi | B16: Izstrādāts ģimenes hiperholisterinēmijas un citu smagu primāru vai komplicētu hiperlipidēmiju pacientu novērtēšanu, diagnostikas algoritms, kā arī pacienta ceļš un kvalitātes indikatori diagnostikai | E16: Algoritms | F16: 1 | G16: 13950 | H16: =F16*G16 -> 13950 | I16: 21 | J16: =G16*1.21 -> 16879.5 | K16: =F16*J16 -> 16879.5
E17: Ceļš | F17: 1 | G17: 13950 | H17: =F17*G17 -> 13950 | I17: 21 | J17: =G17*1.21 -> 16879.5 | K17: =F17*J17 -> 16879.5
E18: Indikators | F18: 3 | G18: 700 | H18: =F18*G18 -> 2100 | I18: 21 | J18: =G18*1.21 -> 847 | K18: =F18*J18 -> 2541
H19: =SUM(H16:H18) -> 30000 | K19: =SUM(K16:K18) -> 36300
A20: *Eiropas Sociālā fonda Plus (ESF+) finansējums, Eiropas Savienības kohēzijas politikas programmas 2021.–2027.gadam 4.1.2.SAM "Uzlabot vienlīdzīgu un savlaicīgu piekļuvi kvalitatīviem, ilgtspējīgiem un izmaksu ziņā pieejamiem veselības aprūpes, veselības veicināšanas un slimību profilakses pakalpojumiem, uzlabojot veselības aprūpes sistēmu efektivitāti un izturētspēju” 4.1.2.7. pasākuma "Nacionāla mēroga veselības veicināšanas un slimību profilakses pasākumi" projektā "Nacionāla mēroga veselības veicināšanas un slimību profilakses pasākumi". Šobrīd nav zināms ar kādu finanšu apjomu rezultēsies plānotie 4.1.2.7. pasākuma "Pilnveidot pacientu drošību un aprūpes kvalitāti" projekta "Pilnveidot pacientu drošību un aprūpes kvalitāti" iepirkumi 2027.gadam, līdz ar to Sirds un asinsvadu veselības uzlabošanas rīcības plānā 2025.–2027. gadam, norādītais finansējuma apjoms var mainīties

Sheet 2.1.6.1.
R1: Pielikums Nr.2.1.6.1.
D3: Nodrošināta SAVA diagnostikas (veloergometrijas, ehokardiogrāfijas) apmaksa atbilstoši faktiskajām izmaksām
A5: Apakšprogrammas nosaukums | B5: Esošais finansējums | C5: Papildus nepieciešamais finansējums indikatīvi 2027. gadam | D5: Papildus nepieciešamais finansējums indikatīvi 2028. gadā un turpmāk ik gadu (ja pasākums nav terminēts)
A6: 33.18.00 Plānveida stacionāro veselības aprūpes pakalpojumu nodrošināšana | B6: =(L26*D26)+(L27*D27)+(L28*D28)+(L29*D29)+(L30*D30) -> 1045810.2 | C6: =SUM(O26:O30) -> 205157.88 | D6: =C6 -> 205157.88
A7: 33.16.00 Pārējo ambulatoro veselības aprūpes pakalpojumu nodrošināšana | B7: =(J26*D26)+(J27*D27)+(J28*D28)+(J29*D29)+(J30*D30) -> 4830207.4 | C7: =SUM(M26:M30) -> 682625.91 | D7: =C7 -> 682625.91
F10: Ārsts | G10: Māsa | H10: Palīgpersonāls | I10: Soc.nodoklis | N10: Pieskaitāmās un netiešās ražošanas izmaksas | O10: Administratīvās izmaksas | P10: Pārējo pamatlīdzekļu amortizācija
E11: Mēneša darba samaksa | F11: 2304 | G11: 1388 | H11: 925
E12: 1 minūtes vērtība darba samaksai | F12: =ROUND(F11/9600,4) -> 0.24 | G12: =ROUND(G11/9600,4) -> 0.1446 | H12: =ROUND(H11/9600,4) -> 0.0964 | I12: 0.2359 | M12: Koeficienti | N12: 0.2857 | O12: 0.0202 | P12: 0.0322
A14: Manipulācijas kods | B14: Manipulācijas nosaukums | C14: Mainīgās izmaksas | Q14: Kopējās izmaksas, euro | R14: Pacienta līdzmaksājums, euro | S14: Tarifs, euro
C15: Darba laiks (minūtes) | F15: Darba samaksa D, euro | I15: Valsts sociālās apdrošināšanas obligātās iemaksas S, euro | J15: Ārstniecības līdzekļi M, euro | M15: Iekārtu amortizācija N, euro | N15: Pieskaitāmās un netiešās ražošanas izmaksas U, euro | O15: Administratīvās izmaksas A, euro | P15: Pārējo pamatlīdzekļu amortizācija n, euro
C16: ārstam | D16: māsai | E16: jaunākajam personālām | F16: ārstam | G16: māsai | H16: jaunākajam personālam | I16: ārstam, māsai un jaunākajam personālām kopā | J16: M kopā | K16: Medikamenti | L16: Materiāli
A17: =0&6021 -> 06021 | B17: Veloergometrijas slodzes tests | C17: 45 | D17: 45 | E17: 0 | F17: =C17*$F$12 -> 10.8 | G17: =D17*$G$12 -> 6.507 | H17: 0 | I17: =(F17+G17)*$I$12 -> 4.0827213 | J17: =K17+L17 -> 3.2 | K17: 0.93 | L17: 2.27 | M17: 2.24 | N17: =ROUNDUP((F17+G17)*$N$12,2) -> 4.95 | O17: =(F17+G17)*$O$12 -> 0.3496014 | P17: =(F17+G17)*$P$12 -> 0.5572854 | Q17: =ROUND(F17+G17+I17+J17+M17+N17+O17+P17,2) -> 32.69 | R17: 4 | S17: =ROUND(Q17-R17,2) -> 28.69
A18: =0&6033 -> 06033 | B18: Ehokardiogrāfija ar doplerogrāfiju | C18: 81 | D18: 50 | E18: 0 | F18: =C18*$F$12 -> 19.44 | G18: =D18*$G$12 -> 7.23 | H18: 0 | I18: =(F18+G18)*$I$12 -> 6.291453 | J18: =K18+L18 -> 7.87 | K18: 1.83 | L18: 6.04 | M18: 12.94 | N18: =(F18+G18)*$N$12 -> 7.619619 | O18: =(F18+G18)*$O$12 -> 0.538734 | P18: =(F18+G18)*$P$12 -> 0.858774 | Q18: =ROUND(F18+G18+I18+J18+M18+N18+O18+P18,2) -> 62.79 | R18: 4 | S18: =ROUND(Q18-R18,2) -> 58.79
A19: =0&6034 -> 06034 | B19: Stresehokardiogrāfija ar fizisku slodzi vai medicīniskām provēm. Nenorādīt kopā ar manipulācijām 06011, 06012 un 06021 | C19: 110 | D19: 110 | E19: 0 | F19: =C19*$F$12 -> 26.4 | G19: =D19*$G$12 -> 15.906 | H19: 0 | I19: =(F19+G19)*$I$12 -> 9.9799854 | J19: =K19+L19 -> 18.29 | K19: 11.65 | L19: 6.64 | M19: 23.03 | N19: =(F19+G19)*$N$12 -> 12.086824 | O19: =(F19+G19)*$O$12 -> 0.8545812 | P19: =(F19+G19)*$P$12 -> 1.3622532 | Q19: =ROUND(F19+G19+I19+J19+M19+N19+O19+P19,2) -> 107.91 | R19: 4 | S19: =ROUND(Q19-R19,2) -> 103.91
A20: =0&6035 -> 06035 | B20: Skrīningehokardiogrāfija | C20: 46 | D20: 46 | E20: 0 | F20: =ROUND(C20*$F$12,2) -> 11.04 | G20: =ROUND(D20*$G$12,2) -> 6.65 | H20: 0 | I20: =(F20+G20)*$I$12 -> 4.173071 | J20: =K20+L20 -> 5.23 | K20: 1.64 | L20: 3.59 | M20: 11.69 | N20: =(F20+G20)*$N$12 -> 5.054033 | O20: =(F20+G20)*$O$12 -> 0.357338 | P20: =(F20+G20)*$P$12 -> 0.569618 | Q20: =ROUND(F20+G20+I20+J20+M20+N20+O20+P20,2) -> 44.76 | R20: 4 | S20: =ROUND(Q20-R20,2) -> 40.76
A21: =0&6041 -> 06041 | B21: Transezofageāla ehokardiogrāfija M un B režīmos ar krāsas doplerogrāfiju, spektra analīzi un hemodinamikas rādītāju noteikšana | C21: 85 | D21: 55 | E21: 0 | F21: =ROUND(C21*$F$12,2) -> 20.4 | G21: =ROUND(D21*$G$12,2) -> 7.95 | H21: 0 | I21: =(F21+G21)*$I$12 -> 6.687765 | J21: =K21+L21 -> 21.99 | K21: 13.69 | L21: 8.3 | M21: 26.78 | N21: =(F21+G21)*$N$12 -> 8.099595 | O21: =(F21+G21)*$O$12 -> 0.57267 | P21: =(F21+G21)*$P$12 -> 0.91287 | Q21: =ROUND(F21+G21+I21+J21+M21+N21+O21+P21,2) -> 93.39 | R21: 4 | S21: =ROUND(Q21-R21,2) -> 89.39
A24: Manipulācijas kods | B24: Manipulācijas pašreizējais nosaukums | C24: Manipulācijas plānotais nosaukums | D24: Manipulācijas pašreizējais tarifs | E24: Manipulācijas pārrēķinātais tarifs** | F24: Plānotais pacientu skaits gadā | G24: Plānotais manipulāciju skaits vienam pacientam gadā | H24: Tarifa pieaugumam nepieciešamais finansējums | I24: Nepieciešamais papildus finansējums indikatīvi gadā, eiro | J24: Plānotie apmaksas nosacījumi* | M24: Finansējuma sadalījums pa apakšprogrammām
J25: Ambulatori | K25: Dienas stacionārā | L25: Stacionārā | M25: Ambulatori | N25: Dienas stacionārā | O25: Stacionārā
A26: =0&6021 -> 06021 | B26: =B17 -> Veloergometrijas slodzes tests | C26: Bez izmaiņām | D26: 26.23 | E26: =S17 -> 28.69 | F26: =J26+L26 -> 25704 | G26: 1 | H26: =E26-D26 -> 2.46 | I26: =F26*H26 -> 63231.84 | J26: 25296 | K26: 0 | L26: 408 | M26: =J26*H26 -> 62228.16 | N26: 0 | O26: =L26*H26 -> 1003.68
A27: =0&6033 -> 06033 | B27: Ehokardiogrāfija ar doplerogrāfiju | C27: Bez izmaiņām | D27: 51.33 | E27: =S18 -> 58.79 | F27: =J27+L27 -> 95952 | G27: 1 | H27: =E27-D27 -> 7.46 | I27: =F27*H27 -> 715801.92 | J27: 79472 | K27: 0 | L27: 16480 | M27: =J27*H27 -> 592861.12 | N27: 0 | O27: =L27*H27 -> 122940.8
A28: =0&6034 -> 06034 | B28: Stresehokardiogrāfija ar fizisku slodzi vai medicīniskām provēm. Nenorādīt kopā ar manipulācijām 06011, 06012 un 06021 | C28: Bez izmaiņām | D28: 85.88 | E28: =S19 -> 103.91 | F28: =J28+L28 -> 600 | G28: 1 | H28: =E28-D28 -> 18.03 | I28: =F28*H28 -> 10818 | J28: 596 | K28: 0 | L28: 4 | M28: =J28*H28 -> 10745.88 | N28: 0 | O28: =L28*H28 -> 72.12
A29: =0&6035 -> 06035 | B29: Skrīningehokardiogrāfija | C29: Bez izmaiņām | D29: 30.63 | E29: =S20 -> 40.76 | F29: =J29+L29 -> 1641 | G29: 1 | H29: =E29-D29 -> 10.13 | I29: =F29*H29 -> 16623.33 | J29: 13 | K29: 0 | L29: 1628 | M29: =J29*H29 -> 131.69 | N29: 0 | O29: =L29*H29 -> 16491.64
A30: =0&6041 -> 06041 | B30: Transezofageāla ehokardiogrāfija M un B režīmos ar krāsas doplerogrāfiju, spektra analīzi un hemodinamikas rādītāju noteikšana | C30: Bez izmaiņām | D30: 61.01 | E30: =S21 -> 89.39 | F30: =J30+L30 -> 2865 | G30: 1 | H30: =E30-D30 -> 28.38 | I30: =F30*H30 -> 81308.7 | J30: 587 | K30: 0 | L30: 2278 | M30: =J30*H30 -> 16659.06 | N30: 0 | O30: =L30*H30 -> 64649.64
A31: * Pacientu skaits un sadalījums sadalījums atbilstoši 2024. gada statistikai | I31: =SUM(I26:I30) -> 887783.79 | J31: =SUM(J26:J30) -> 105964 | L31: =SUM(L26:L30) -> 20798 | M31: =SUM(M26:M30) -> 682625.91 | O31: =SUM(O26:O30) -> 205157.88
A32: ** atbilstoši VSIA "Paula Stradiņa klīniskā universitātes slimnīca" iesniegumiem

Sheet 2.1.6.2
J1: Pielikums Nr.2.1.6.2.
A2: Izstrādāti vienoti doplerogrāfijas (galvas, kakla un kāju asinsvadiem) izmeklējumu apraksti un pacientu ceļi
A3: Pasākums | B3: Finansējums indikatīvi ar PVN, euro
B4: 2026.gads* | C4: 2027.gads*
A5: Izstrādāti vienoti doplerogrāfijas (galvas, kakla un kāju asinsvadiem) izmeklējumu apraksti un pacientu ceļi | B5: 0 | C5: =27900*1.21 -> 33759
A6: *Eiropas Sociālā fonda Plus (ESF+) finansējums, Eiropas Savienības kohēzijas politikas programmas 2021.–2027.gadam 4.1.2.SAM "Uzlabot vienlīdzīgu un savlaicīgu piekļuvi kvalitatīviem, ilgtspējīgiem un izmaksu ziņā pieejamiem veselības aprūpes, veselības veicināšanas un slimību profilakses pakalpojumiem, uzlabojot veselības aprūpes sistēmu efektivitāti un izturētspēju” 4.1.2.7. pasākuma "Nacionāla mēroga veselības veicināšanas un slimību profilakses pasākumi" projektā "Nacionāla mēroga veselības veicināšanas un slimību profilakses pasākumi". Šobrīd nav zināms ar kādu finanšu apjomu rezultēsies plānotie 4.1.2.7. pasākuma "Pilnveidot pacientu drošību un aprūpes kvalitāti" projekta "Pilnveidot pacientu drošību un aprūpes kvalitāti" iepirkumi 2027.gadam, līdz ar to Sirds un asinsvadu veselības uzlabošanas rīcības plānā 2025.–2027. gadam, norādītais finansējuma apjoms var mainīties
J9: Pielikums Nr.
A10: Izstrādāti vienoti doplerogrāfijas (galvas, kakla un kāju asinsvadiem) izmeklējumu apraksti un pacientu ceļi
B11: Pasākums | C11: Darbības rezultāts | D11: Rezultatīvais rādītājs | E11: Plānotie nodevumi | F11: Plānoto nodevumu skaits | G11: Vienas vienības summa bez PVN, euro | H11: KOPĀ bez PVN, euro | I11: PVN likme (%) | J11: Vienas vienības summa ar PVN, euro | K11: KOPĀ ar PVN, euro*
A12: Algoritmi | B12: Izstrādāti vienoti doplerogrāfijas (galvas, kakla un kāju asinsvadiem) izmeklējumu apraksti un pacientu ceļi | E12: Algoritms | F12: 1 | G12: 13950 | H12: =F12*G12 -> 13950 | I12: 21 | J12: =G12*1.21 -> 16879.5 | K12: =F12*J12 -> 16879.5
E13: Ceļš | F13: 1 | G13: 13950 | H13: =F13*G13 -> 13950 | I13: 21 | J13: =G13*1.21 -> 16879.5 | K13: =F13*J13 -> 16879.5
H14: =SUM(H12:H13) -> 27900 | K14: =SUM(K12:K13) -> 33759
A15: *Eiropas Sociālā fonda Plus (ESF+) finansējums, Eiropas Savienības kohēzijas politikas programmas 2021.–2027.gadam 4.1.2.SAM "Uzlabot vienlīdzīgu un savlaicīgu piekļuvi kvalitatīviem, ilgtspējīgiem un izmaksu ziņā pieejamiem veselības aprūpes, veselības veicināšanas un slimību profilakses pakalpojumiem, uzlabojot veselības aprūpes sistēmu efektivitāti un izturētspēju” 4.1.2.7. pasākuma "Nacionāla mēroga veselības veicināšanas un slimību profilakses pasākumi" projektā "Nacionāla mēroga veselības veicināšanas un slimību profilakses pasākumi". Šobrīd nav zināms ar kādu finanšu apjomu rezultēsies plānotie 4.1.2.7. pasākuma "Pilnveidot pacientu drošību un aprūpes kvalitāti" projekta "Pilnveidot pacientu drošību un aprūpes kvalitāti" iepirkumi 2027.gadam, līdz ar to Sirds un asinsvadu veselības uzlabošanas rīcības plānā 2025.–2027. gadam, norādītais finansējuma apjoms var mainīties

Sheet 2.1.7.
Q1: Pielikums Nr.2.1.7.
E3: Nodrošināts valsts apmaksāts 18-24h asinsspiediena monitorēšanas pakalpojums
A5: Apakšprogrammas nosaukums | B5: Esošais finansējums | C5: Papildus nepieciešamais finansējums indikatīvi 2027.gadam | D5: Papildus nepieciešamais finansējums indikatīvi 2028. gadam un turpmāk ik gadu (ja pasākums nav terminēts)
A6: 33.16.00 Pārējo ambulatoro veselības aprūpes pakalpojumu nodrošināšana | B6: 0 | C6: =H22 -> 83080 | D6: =C6 -> 83080
B9: Ārsts | C9: Māsa | D9: Palīgpersonāls | E9: Soc.nodoklis | J9: Pieskaitāmās un netiešās ražošanas izmaksas | K9: Administratīvās izmaksas | L9: Pārējo pamatlīdzekļu amortizācija
A10: Mēneša darba samaksa | B10: 2304 | C10: 1388 | D10: 925
A11: 1 minūtes vērtība darba samaksai | B11: =ROUND(B10/9600,4) -> 0.24 | C11: =ROUND(C10/9600,4) -> 0.1446 | D11: =ROUND(D10/9600,4) -> 0.0964 | E11: 0.2359 | I11: Koeficienti | J11: 0.2857 | K11: 0.0202 | L11: 0.0322
A13: Manipulācijas kods | B13: Manipulācijas nosaukums | C13: Mainīgās izmaksas | Q13: Kopējās izmaksas, euro | R13: Pacienta līdzmaksājums, euro* | S13: Tarifs, euro
C14: Darba laiks (minūtes) | F14: Darba samaksa D, euro | I14: Valsts sociālās apdrošināšanas obligātās iemaksas S, euro | J14: Ārstniecības līdzekļi M, euro | M14: Iekārtu amortizācija N, euro | N14: Pieskaitāmās un netiešās ražošanas izmaksas U, euro | O14: Administratīvās izmaksas A, euro | P14: Pārējo pamatlīdzekļu amortizācija n, euro
C15: ārstam | D15: māsai | E15: jaunākajam personālām | F15: ārstam | G15: māsai | H15: jaunākajam personālam | I15: ārstam, māsai un jaunākajam personālām kopā | J15: M kopā | K15: Medikamenti | L15: Materiāli
A16: JAUNS | B16: Neinvazīvā asinspiediena monitorēšana no 18 līdz 24 stundām | C16: 20 | D16: 40 | E16: 0 | F16: =ROUND((C16*B11),2) -> 4.8 | G16: =ROUND((D16*C11),2) -> 5.78 | H16: =ROUND((E16*D11),2) -> 0 | I16: =ROUND(((F16+G16+H16)*E11),2) -> 2.5 | J16: =K16+L16 -> 3.76 | K16: 0.6 | L16: 3.16 | M16: 8.39 | N16: =ROUND(((F16+G16+H16)*J11),2) -> 3.02 | O16: =ROUND(((F16+G16+H16)*K11),2) -> 0.21 | P16: =ROUND(((F16+G16+H16)*L11),2) -> 0.34 | Q16: =ROUND((F16+G16+H16+I16+J16+M16+N16+O16+P16),2) -> 28.8 | R16: 4 | S16: =Q16-R16 -> 24.8
A17: *Atbilstoši MK Nr.555 13.pielikuma 7.2. punktam
A20: Manipulācijas kods | B20: Manipulācijas nosaukums | C20: Manip. tarifs, eiro | D20: Plānotais manipulāciju skaits vienam pacientam gadā | E20: Provizoriskais pacientu skaits** | H20: Nepieciešamais finansējums indikatīvi gadā, eiro
E21: Ambulatori | F21: Dienas stacionārā | G21: Stacionārā
