Workbook
Name _1_2_d_NMP_lim: #REF!
Name _Hlk199328070: Kopsavilkums!$C$86
Name _Hlk200019317: Kopsavilkums!$C$52
Name _Hlk200028924: Kopsavilkums!$C$73
Name _msoanchor_1: Kopsavilkums!$N$39
Name aa: #REF!
Name b: #REF!
Name bt: #REF!
Name BX: #REF!
Name CalendarYear: #REF!
Name ccc: #REF!
Name d: #REF!
Name D_Evija3: #REF!
Name DaysAndWeeks: {0,1,2,3,4,5,6} + {0;1;2;3;4;5}*7
Name DaysAndWeeks: {0,1,2,3,4,5,6} + {0;1;2;3;4;5}*7
Name DaysAndWeeks: {0,1,2,3,4,5,6} + {0;1;2;3;4;5}*7
Name DaysAndWeeks: {0,1,2,3,4,5,6} + {0;1;2;3;4;5}*7
Name DaysAndWeeks: {0,1,2,3,4,5,6} + {0;1;2;3;4;5}*7
Name DaysAndWeeks: {0,1,2,3,4,5,6} + {0;1;2;3;4;5}*7
Name de: #REF!
Name dff: #NAME?
Name DRGNAMES: #REF!
Name e: #REF!
Name ee: #REF!
Name Excel_BuiltIn__FilterDatabase_2: #REF!
Name Excel_BuiltIn__FilterDatabase_3: #REF!
Name Excel_BuiltIn_Print_Titles_2: #REF!
Name Excel_BuiltIn_Print_Titles_3: #REF!
Name gad_skaits: #REF!
Name gad_skaits_1: #REF!
Name gala: {0,1,2,3,4,5,6} + {0;1;2;3;4;5}*7
Name gala: {0,1,2,3,4,5,6} + {0;1;2;3;4;5}*7
Name gala: {0,1,2,3,4,5,6} + {0;1;2;3;4;5}*7
Name gala: {0,1,2,3,4,5,6} + {0;1;2;3;4;5}*7
Name gala: {0,1,2,3,4,5,6} + {0;1;2;3;4;5}*7
Name gala: {0,1,2,3,4,5,6} + {0;1;2;3;4;5}*7
Name Gala_kopsavilkums: #REF!
Name gggg: #REF!
Name ghy: #REF!
Name h: #REF!
Name hh: #REF!
Name hjh: #REF!
Name hyh: #REF!
Name i: #REF!
Name izm.kods: #REF!
Name izm.kods_1: [3]izm.posteni!$A$2:$A$216
Name izm.kods_1: [4]izm.posteni!$A$2:$A$216
Name izm.nos: #REF!
Name izm.nos_1: [3]izm.posteni!$B$2:$B$216
Name izm.nos_1: [4]izm.posteni!$B$2:$B$216
Name jhg: #REF!
Name kk: #REF!
Name l: #REF!
Name Limeni_7_9group: #REF!
Name Macro1: #REF!
Name Macro2: #REF!
Name Macro3: #REF!
Name Macro4: #REF!
Name Macro5: #REF!
Name Macro6: #REF!

Sheet Kopsavilkums
L2: Pielikums Sirds un asinsvadu veselības uzlabošanas rīcības plāns 2026.–2027. gadam
A4: Nr.p.k. | B4: Pasākums | C4: Darbības rezultāts | D4: Rezultatīvais rādītājs | E4: Budžeta programmas (apakšprogrammas kods un nosaukums) | F4: Uzdevumu īstenošanai plānotais finansējums atbilstoši likumam "Par valsts budžetu 2025.gadam un budžeta ietvaru 2025., 2026. un 2027.gadam" | H4: Nepieciešamais papildu finansējums indikatīvi | M4: Atbildīgā institūcija | N4: Līdzatbildīgās institūcijas | O4: Finansējuma avots | P4: Termiņš
F5: 2026.gads | G5: 2027.gads | H5: 2025.gads | I5: 2026.gads | J5: 2027.gads | K5: Turpmākajā laikposmā līdz pasākuma pabeigšanai (ja pasākuma īstenošana ir terminēta) | L5: Turpmāk ik gadu (ja pasākuma izpilde nav terminēta)
A6: KOPĒJAIS NEPIECIEŠAMAIS FINANSĒJUMS PLĀNA REALIZĀCIJAI: | F6: =F10+F11 -> 1.1576166e+08 | G6: =G10+G11 -> 1.1665257e+08 | H6: =H10+H11 -> 0 | I6: =I10+I11 -> 0 | J6: =J10+J11 -> 42230607 | K6: =K10+K11 -> 0 | L6: =L10+L11 -> 47229137
B7: Finansējums valsts pamatfunkciju īstenošanai | F7: =F10 -> 1.1558016e+08 | G7: =G10 -> 1.1577108e+08 | H7: =H10 -> 0 | I7: =I10 -> 0 | J7: =J10 -> 42230607 | K7: =K10 -> 0 | L7: =L10 -> 47229137
B8: Finansējums ES politiku instrumentu un pārējās ĀFP līdzfinansēto un finansēto projektu un pasākumu īstenošanai | F8: =F11 -> 181500 | G8: =G11 -> 881485 | H8: =H11 -> 0 | I8: =I11 -> 0 | J8: =J11 -> 0 | K8: =K11 -> 0 | L8: =L11 -> 0
B9: Veselības ministrija | F9: =F10+F11 -> 1.1576166e+08 | G9: =G10+G11 -> 1.1665257e+08 | H9: =H10+H11 -> 0 | I9: =I10+I11 -> 0 | J9: =J10+J11 -> 42230607 | K9: =K10+K11 -> 0 | L9: =L10+L11 -> 47229137
B10: VBF | F10: =F12+F13+F14+F15+F16+F17+F18+F19 -> 1.1558016e+08 | G10: =G12+G13+G14+G15+G16+G17+G18+G19 -> 1.1577108e+08 | H10: =H12+H13+H14+H15+H16+H17+H18+H19 -> 0 | I10: =I12+I13+I14+I15+I16+I17+I18+I19 -> 0 | J10: =J12+J13+J14+J15+J16+J17+J18+J19 -> 42230607 | K10: =K12+K13+K14+K15+K16+K17+K18+K19 -> 0 | L10: =L12+L13+L14+L15+L16+L17+L18+L19 -> 47229137
B11: ES fondi | F11: =F20 -> 181500 | G11: =G20 -> 881485 | H11: =H20 -> 0 | I11: =I20 -> 0 | J11: =J20 -> 0 | K11: =K20 -> 0 | L11: =L20 -> 0
E12: 33.03.00 "Kompensējamo medikamentu un materiālu apmaksāšana" | F12: =F58+F68+F71+F72+F73+F76 -> 50872681 | G12: =G58+G68+G71+G72+G73+G76 -> 51039892 | H12: =H58+H68+H71+H72+H73+H76 -> 0 | I12: =I58+I68+I71+I72+I73+I76+I69+I70 -> 0 | J12: =J58+J68+J71+J72+J73+J76+J69+J70 -> 15181192 | K12: =K58+K68+K71+K72+K73+K76+K69+K70 -> 0 | L12: =L58+L68+L71+L72+L73+L76+L69+L70 -> 16162130
E13: 33.04.00 "Centralizēta medikamentu un materiālu iegāde" | F13: =F26+F29 -> 2402897 | G13: =G26+G29 -> 2402897 | H13: =H26+H29 -> 0 | I13: =I26+I29 -> 0 | J13: =J26+J29 -> 2653890 | K13: =K26+K29 -> 0 | L13: =L26+L29 -> 2906394
E14: 33.14.00 "Primārās ambulatorās veselības aprūpes nodrošināšana" | F14: =F27+F36+F30 -> 899332 | G14: =G27+G36+G30 -> 899332 | H14: =H27+H36+H30 -> 0 | I14: =I27+I36+I30 -> 0 | J14: =J27+J36+J30 -> 344725 | K14: =K27+K36+K30 -> 0 | L14: =L27+L36+L30 -> 344725
E15: 33.15.00 "Laboratorisko izmeklējumu nodrošināšana ambulatorajā aprūpē" | F15: =F38+F42+F60 -> 722263 | G15: =G38+G42+G60 -> 722263 | H15: =H38+H42+H60 -> 0 | I15: =I38+I42+I60 -> 0 | J15: =J38+J42+J60 -> 3358163.9 | K15: =K38+K42+K60 -> 0 | L15: =L38+L42+L60 -> 3409646.8
E16: 33.16.00 "Pārējo ambulatoro veselības aprūpes pakalpojumu nodrošināšana" | F16: =F43+F46+F49+F51+F54+F57+F61+F85+F87 -> 34374957 | G16: =G43+G46+G49+G51+G54+G57+G61+G85+G87 -> 34398673 | H16: =H43+H46+H49+H51+H54+H57+H61+H85+H87 -> 0 | I16: =I43+I46+I49+I51+I54+I57+I61+I85+I87 -> 0 | J16: =J43+J46+J49+J51+J54+J57+J61+J85+J87 -> 8947240.6 | K16: =K43+K46+K49+K51+K54+K57+K61+K85+K87 -> 0 | L16: =L43+L46+L49+L51+L54+L57+L61+L85+L87 -> 9235804.5
E17: 33.18.00 "Plānveida stacionāro veselības aprūpes pakalpojumu nodrošināšana" | F17: =F45+F50+F74+F84+F86+F88+F89+F90 -> 26308026 | G17: =G45+G50+G74+G84+G86+G88+G89+G90 -> 26308026 | H17: =H45+H50+H74+H84+H86+H88+H89+H90 -> 0 | I17: =I45+I50+I74+I84+I86+I88+I89+I90 -> 0 | J17: =J45+J50+J74+J84+J86+J88+J89+J90 -> 11745396 | K17: =K45+K50+K74+K84+K86+K88+K89+K90 -> 0 | L17: =L45+L50+L74+L84+L86+L88+L89+L90 -> 15170437
E18: 45.01.00 "Veselības aprūpes finansējuma administrēšana un ekonomiskā novērtēšana" | F18: =F35+F37+F80+F81+F82+F91+F92+F93 -> 0 | G18: =G35+G37+G80+G81+G82+G91+G92+G93 -> 0 | H18: =H35+H37+H80+H81+H82+H91+H92+H93 -> 0 | I18: =I35+I37+I80+I81+I82+I91+I92+I93 -> 0 | J18: =J35+J37+J80+J81+J82+J91+J92+J93 -> 0 | K18: =K35+K37+K80+K81+K82+K91+K92+K93 -> 0 | L18: =L35+L37+L80+L81+L82+L91+L92+L93 -> 0
E19: 46.03.00 "Slimību profilakses nodrošināšana" | F19: =F23+F25+F28 -> 0 | G19: =G23+G25+G28 -> 0 | H19: =H23+H25+H28 -> 0 | I19: =I23+I25+I28 -> 0 | J19: =J23+J25+J28 -> 0 | K19: =K23+K25+K28 -> 0 | L19: =L23+L25+L28 -> 0
E20: 63.08.00 Eiropas Sociālā fonda Plus (ESF+) projektu īstenošana (2021-2027) | F20: =F24+F39+F48+F52+F55+F56+F59+F62+F64+F65+F79+F104+F105+F106+F107+F108+F109+F47+F100 -> 181500 | G20: =G24+G39+G52+G55+G56+G59+G62+G64+G65+G79+G104+G105+G106+G107+G108+G109+G47+G100+G44 -> 881485 | H20: =H24+H39+H48+H52+H55+H56+H59+H62+H64+H65+H79+H104+H105+H106+H107+H108+H109+H47+H100 -> 0 | I20: =I24+I39+I48+I52+I55+I56+I59+I62+I64+I65+I79+I104+I105+I106+I107+I108+I109+I47+I100 -> 0 | J20: =J24+J39+J48+J52+J55+J56+J59+J62+J64+J65+J79+J104+J105+J106+J107+J108+J109+J47+J100 -> 0 | K20: =K24+K39+K48+K52+K55+K56+K59+K62+K64+K65+K79+K104+K105+K106+K107+K108+K109+K47+K100 -> 0 | L20: =L24+L39+L48+L52+L55+L56+L59+L62+L64+L65+L79+L104+L105+L106+L107+L108+L109+L47+L100 -> 0
A21: 1. Rīcības virziens | C21: SAS profilakse, tās veicināšana un riska faktoru ietekmes mazināšana | F21: =SUM(F22) -> 3114639 | G21: =SUM(G22) -> 3114639 | H21: =SUM(H22) -> 0 | I21: =SUM(I22) -> 0 | J21: =SUM(J22) -> 2998615 | K21: =SUM(K22) -> 0 | L21: =SUM(L22) -> 3251119
A22: 1.1. Veselību veicinošo paradumu uzlabošana populācijas līmenī | F22: =SUM(F23:F30) -> 3114639 | G22: =SUM(G23:G30) -> 3114639 | H22: =SUM(H23:H30) -> 0 | I22: =SUM(I23:I30) -> 0 | J22: =SUM(J23:J30) -> 2998615 | K22: =SUM(K23:K30) -> 0 | L22: =SUM(L23:L30) -> 3251119
A23: 1.1.1. | B23: Īstenot veselības veicināšanas un slimību profilakses pasākumus, lai mazinātu SAS riska faktorus, ievērojot veselīgu dzīvesveidu. | C23: Veicināta Latvijas iedzīvotāju veselību ietekmējošo paradumu maiņa, mazinot SAS riska faktorus. | D23: Īstenots vismaz viens veselības veicināšanas un slimību profilakses pasākums gadā (piemēram, tiešsaistes diskusija ar veselības jomas speciālistiem, tematiskās dienas aktivitātes u.tml.) SAS riska faktoru novēršanai un veselīga dzīvesveida veicināšanai. | E23: 46.03.00 "Slimību profilakses nodrošināšana" | F23: 0 | G23: 0 | I23: 0 | J23: 0 | K23: 0 | L23: 0 | M23: SPKC | N23: LKB, LĢĀA, LLĢĀA, NVO | O23: Esošā budžeta ietvaros | P23: 2027. gada II pusgads. (Turpmāk ik gadu?)
A24: 1.1.2. | B24: Izglītot iedzīvotājus par regulāras paškontroles veikšanu SAS profilaksei, lai mazinātu negatīvo ietekmi uz veselību. | C24: Palielinājusies iedzīvotāju izpratne par paškontroles veikšanu SAS profilaksei, kā arī līdzestība savas veselības veicināšanā. | D24: Sadarbībā ar veselības jomas speciālistiem un pacientu organizācijām īstenoti vismaz divi sabiedrības informēšanas pasākumi par regulāras paškontroles veikšanu SAS profilaksei un negatīvās ietekmes uz veselību mazināšanai. | E24: 63.08.00 Eiropas Sociālā fonda Plus (ESF+) projektu īstenošana (2021-2027) | F24: 18150 | G24: ='1.1.2.'!C5 -> 18150 | I24: 0 | J24: 0 | K24: 0 | L24: 0 | M24: SPKC, VM | N24: LKB, LĢĀA, LLĢĀA, NVO | O24: Eiropas Sociālā fonda Plus (ESF+) finansējums, Eiropas Savienības kohēzijas politikas programmas 2021.–2027.gadam 4.1.2.SAM "Uzlabot vienlīdzīgu un savlaicīgu piekļuvi kvalitatīviem, ilgtspējīgiem un izmaksu ziņā pieejamiem veselības aprūpes, veselības veicināšanas un slimību profilakses pakalpojumiem, uzlabojot veselības aprūpes sistēmu efektivitāti un izturētspēju” 4.1.2.1. pasākuma "Nacionāla mēroga veselības veicināšanas un slimību profilakses pasākumi" projektā "Nacionāla mēroga veselības veicināšanas un slimību profilakses pasākumi" (Nr.4.1.2.1./1/24/I/001). Šobrīd nav zināms ar kādu finanšu apjomu rezultēsies plānotie 4.1.2.1. pasākuma "Nacionāla mēroga veselības veicināšanas un slimību profilakses pasākumi" projekta "Nacionāla mēroga veselības veicināšanas un slimību profilakses pasākumi" iepirkumi 2027.gadam, līdz ar to Sirds un asinsvadu veselības uzlabošanas rīcības plānā 2025.–2027. gadam, norādītais finansējuma apjoms var mainīties. | P24: 2026.gada II pusgads 2027. gada II pusgads
A25: 1.1.3. | B25: Pilnveidot komunikāciju ar sabiedrību par veselīga dzīvesveida nozīmi ikdienā un SAS attīstības riskiem (t.sk. infarkta vai insulta pazīmju atpazīšana, riska faktori, diabētu veicinošie faktori u.c.) un to novēršanu. | C25: Palielinājusies zinātnē balstītas informācijas par veselīgu dzīvesveidu un SAS riska faktoriem izmantošana Latvijas iedzīvotāju vidū. | D25: Pilnveidoti komunikācijas kanāli (piemēram, tīmekļa vietnes) ar veselību saistītas informācijas pieejamības, atpazīstamības un uzticamības uzlabošanai, kā arī iedzīvotāju izpratnes par SAS riska faktoru ierobežošanas un veselīga dzīvesveida nozīmi veicināšanai. | E25: 46.03.00 "Slimību profilakses nodrošināšana" | F25: 0 | G25: 0 | I25: 0 | J25: 0 | K25: 0 | L25: 0 | M25: SPKC, VM | N25: BKUS, LKB, LĢĀA, LLĢĀA, NVO, | O25: Esošā budžeta ietvaros | P25: 2027. gada II pusgads (Turpmāk ik gadu)
A26: 1.1.4. | B26: Samazināt saslimstību ar gripu un tās izraisīto komplikāciju skaitu | C26: 1.1.4.1. Palielināt valsts apmaksāto devu skaitu riska grupu vakcinācijai pret gripu | D26: Vakcinācijas pret gripu aptveres palielinājums par 30% riska grupās attiecībā pret iepriekšējā sezonā izlietoto vakcīnu devu skaitu | E26: 33.04.00 Centralizēta medikamentu un materiālu iegāde | F26: 2402897 | G26: 2402897 | I26: 0 | J26: ='1.1.4.1.'!C6 -> 1625170 | K26: 0 | L26: ='1.1.4.1.'!D6 -> 1826238 | M26: NVD, SPKC, VM | N26: LĢĀA, LLĢĀA | O26: VBF indikatīvi | P26: 2027. gada I pusgads (turpmāk ik gadu)
E27: 33.14.00 Primārās ambulatorās veselības aprūpes nodrošināšana | F27: 693592 | G27: 693592 | I27: 0 | J27: ='1.1.4.1.'!C7 -> 167371 | K27: 0 | L27: ='1.1.4.1.'!D7 -> 167371
C28: 1.1.4.2. Īstenot gripas profilakses kampaņu gripas vakcinācijas aptveres palielināšanai | D28: Veikta vismaz viena sabiedrības informēšanas kampaņa pirms gripas sezonas sākuma | E28: 46.03.00 "Slimību profilakses nodrošināšana" | F28: 0 | G28: 0 | I28: 0 | J28: 0 | K28: 0 | L28: 0 | M28: SPKC | N28: LĢĀA, LLĢĀA | O28: Esošā budžeta ietvaros | P28: 2027. gada II pusgads (turpmāk ik gadu)
A29: 1.1.5. | B29: Samazināt saslimstību ar pneimokoku infekciju un tās izraisīto komplikāciju skaitu | C29: Ieviesta valsts apmaksātu riska grupu vakcināciju pret pneimokoku infekciju pieaugušajiem, kas pieder noteiktai riska grupai (augsta riska kardioloģijas pacienti; augsta riska plaušu slimību pacienti) | D29: Sasniegta 50% vakcinācijas aptvere pret pneimokoku infekciju riska grupās | E29: 33.04.00 Centralizēta medikamentu un materiālu iegāde | F29: 0 | G29: 0 | I29: 0 | J29: ='1.1.5.'!D5 -> 1028720 | K29: 0 | L29: ='1.1.5.'!E5 -> 1080156 | M29: NVD, SPKC, VM | N29: LĢĀA, LLĢĀA | O29: VBF indikatīvi | P29: 2027. gada I pusgads (turpmāk ik gadu)
E30: 33.14.00 Primārās ambulatorās veselības aprūpes nodrošināšana | F30: 0 | G30: 0 | I30: 0 | J30: ='1.1.5.'!D6 -> 177354 | K30: 0 | L30: ='1.1.5.'!F6 -> 177354
A31: 1.1.6. | B31: Mazināt tabakas un nikotīna saturošu izstrādājumu pievilcību patērētāju vidū | C31: Izstrādāt normatīvo regulējumu, lai ieviestu Latvijā standartizēto iepakojumu tabakas un nikotīna saturošiem izstrādājumiem | D31: Veikti grozījumi tabakas izstrādājumu, tabakas aizstājējproduktu, augu smēķēšanas produktu, elektronisko smēķēšanas ierīču un to šķidrumu aprites likumā | F31: 0 | G31: 0 | I31: 0 | J31: 0 | K31: 0 | L31: 0 | M31: VM | N31: VI, SPKC | O31: Esošā budžeta ietvaros | P31: 2026. gada II pusgads
D32: Izstrādāti grozījumi Ministru kabineta 2016. gada 17. maija noteikumos Nr. 306 "Noteikumi par prasībām uz iepakojumiem izvietojamiem brīdinājumiem par ietekmi uz veselību” | F32: 0 | G32: 0 | I32: 0 | J32: 0 | K32: 0 | L32: 0 | M32: VM | N32: VI, SPKC | O32: Esošā budžeta ietvaros | P32: 2027.gada II pusgads
A33: 2. Rīcības virziens | C33: Savlaicīga riska faktoru atklāšana, agrīna slimību diagnostika, ārstēšana un rehabilitācija | F33: =F34+F53+F67+F78+F95+F98 -> 1.1264702e+08 | G33: =G34+G53+G67+G78+G95+G98 -> 1.1343532e+08 | H33: =H34+H53+H67+H78+H95+H98 -> 0 | I33: =I34+I53+I67+I78+I95+I98 -> 0 | J33: =J34+J53+J67+J78+J95+J98 -> 39231992 | K33: =K34+K53+K67+K78+K95+K98 -> 0 | L33: =L34+L53+L67+L78+L95+L98 -> 43978018
A34: 2.1. Savlaicīga riska faktoru un slimību agrīna diagnostika | F34: =SUM(F35:F52) -> 6187177 | G34: =SUM(G35:G52) -> 6254695 | H34: =SUM(H35:H52) -> 0 | I34: =SUM(I35:I52) -> 0 | J34: =SUM(J35:J52) -> 1862334.8 | K34: =SUM(K35:K52) -> 0 | L34: =SUM(L35:L52) -> 1671579.1
A35: 2.1.1. | B35: Pilnveidot kardiovaskulārā riska noteikšanu PVA | C35: 2.1.1.1.Pārskatīts esošā SCORE algoritms PVA un izstrādāts SCORE algoritms atbilstoši aktualizētajam SCORE2 algoritmam (augsta riska mirstības valstīm) | D35: Izstrādāts aktualizēts algoritms lietošanai PVA un rekomendācijas SCORE ieviešanai | E35: 45.01.00 "Veselības aprūpes finansējuma administrēšana un ekonomiskā novērtēšana" | F35: 0 | G35: 0 | I35: 0 | J35: 0 | K35: 0 | L35: 0 | M35: VM | N35: MVI KJ, LĢĀA, LLĢĀA, LKB | O35: Esošā budžeta ietvaros | P35: 2026. gada I pusgads
C36: 2.1.1.2. Palielināta pacientu iesaiste SCORE programmas veikšanā | D36: SCORE programmas izpildes aptvere palielināta vismaz par 5% 2026.gadā un par 10% 2027.gadā | E36: 33.14.00 Primārās ambulatorās veselības aprūpes nodrošināšana | F36: 205740 | G36: 205740 | I36: 0 | J36: 0 | K36: 0 | L36: 0 | M36: NVD, VM | N36: LĢĀA, LLĢĀA | O36: Esošā budžeta ietvaros | P36: 2026. gada II pusgads 2027. gada II pusgads
D37: Izstrādāts pasākumu plāns pacientu iesaistīšanā SCORE noteikšanā, tostarp izvērtētas iespējas izmantot digitālos rīkus | E37: 45.01.00 "Veselības aprūpes finansējuma administrēšana un ekonomiskā novērtēšana" | F37: 0 | G37: 0 | I37: 0 | J37: 0 | K37: 0 | L37: 0 | M37: SPKC, NVD, VM | N37: LDVC, LĢĀA, LLĢĀA, NVO | O37: Esošā budžeta ietvaros | P37: 2027. gada I pusgads
A38: 2.1.2. | B38: Uzlabot cukura diabēta diagnostiku PVA | C38: 2.1.2.1. Paplašināta cukura diabēta un prediabēta skrīninga programma | D38: 27 430 pacientiem vecumā no 35-39 gadiem veikts cukura diabēta skrīnings (2027. gads); 34 600 pacientiem vecumā no 35-39 gadiem veikts cukura diabēta skrīnings (2028.gads); 41 771 pacientiem vecumā no 35-39 gadiem veikts cukura diabēta skrīnings (2029.gads). | E38: 33.15.00 Laboratorisko izmeklējumu nodrošināšana ambulatorajā aprūpē | F38: 66229 | G38: 66229 | I38: 0 | J38: ='2.1.2.1.'!C5 -> 45675.9 | K38: 0 | L38: ='2.1.2.1.'!D5 -> 54177.2 | M38: NVD, VM | N38: LEA, LĢĀA, LLĢĀA | O38: VBF indikatīvi | P38: 2027.gada II pusgads (turpmāk ik gadu)
C39: 2.1.2.2. Uzlabota cukura diabēta pacientu diagnostika, skaidri nodalot ģimenes ārsta un endokrinologa pacientu plūsmu | D39: Izstrādāts savlaicīga cukura diabēta diagnostikas algoritms, kā arī pacienta ceļš diagnostikai | E39: 63.08.00 Eiropas Sociālā fonda Plus (ESF+) projektu īstenošana (2021-2027) | F39: 36300 | G39: 0 | I39: 0 | J39: 0 | K39: 0 | L39: 0 | M39: VM | N39: LEA, LLĢĀA, LĢĀA | O39: Eiropas Sociālā fonda Plus (ESF+) finansējums, Eiropas Savienības kohēzijas politikas programmas 2021.–2027.gadam 4.1.2.SAM "Uzlabot vienlīdzīgu un savlaicīgu piekļuvi kvalitatīviem, ilgtspējīgiem un izmaksu ziņā pieejamiem veselības aprūpes, veselības veicināšanas un slimību profilakses pakalpojumiem, uzlabojot veselības aprūpes sistēmu efektivitāti un izturētspēju” 4.1.2.7. pasākuma "Pilnveidot pacientu drošību un aprūpes kvalitāti" projektā "Pilnveidot pacientu drošību un aprūpes kvalitāti" (Nr. 4.1.2.7/1/24/I/001). Šobrīd nav zināms ar kādu finanšu apjomu rezultēsies plānotie 4.1.2.7. pasākuma "Pilnveidot pacientu drošību un aprūpes kvalitāti" projekta "Pilnveidot pacientu drošību un aprūpes kvalitāti" iepirkumi 2027.gadam, līdz ar to Sirds un asinsvadu veselības uzlabošanas rīcības plānā 2025.–2027. gadam, norādītais finansējuma apjoms var mainīties. | P39: 2026.gada II pusgads
A40: 2.1.3. | B40: Noteikt plašāku obligātās veselības pārbaudes laikā nosakāmo laboratorisko izmeklējumu klāstu | C40: Izvērtēta iespēja obligāto veselības pārbaužu laboratorisko izmeklējumu sarakstā, iekļaut glikozes līmeņa, kopējā holesterīna un ABLH un triglicerīdu noteikšanu tukšā dūšā | D40: Pēc izvērtējuma veikšanas nepieciešamības gadījumā izstrādāti priekšlikumi grozījumiem normatīvajos aktos | F40: 0 | G40: 0 | I40: 0 | J40: 0 | K40: 0 | L40: 0 | M40: VM | N40: LM, LLĢĀA, LĢĀA, LKB, LEA, LAĀB | O40: Esošā budžeta ietvaros | P40: 2027. gada I pusgads
A41: 2.1.4. | B41: Pilnveidot kardiovaskulārā riska noteikšanu ieslodzītajiem | C41: Izvērtēta iespēja pārskatītā SCORE algoritma veikšanai ieslodzītajiem | D41: Izstrādāts pacienta kardiovaskulārā riska novērtēšanas ceļš ieslodzījuma vietā | F41: 0 | G41: 0 | I41: 0 | J41: 0 | K41: 0 | L41: 0 | M41: VM, TM | N41: Ieslodzījumu vietu pārvalde, NVD | O41: Esošā budžeta ietvaros | P41: 2027. gada I pusgads
A42: 2.1.5. | B42: Veicināt ģimenes hiperholesterinēmijas un citu smagu primāru vai komplicētu hiperlipidēmiju pacientu novērtēšanu, diagnostiku, uzraudzību, uzskaiti, ārstēšanu un kaskādes skrīninga organizēšanu | C42: 2.1.5.1. Ieviesta valsts apmaksātu lipoproteīna (a) noteikšana pacientiem no 40-75 gadiem vienreiz mūžā | D42: Noteikts lipoproteīns (a) 266 915 pacientiem no 40-75 gadiem (2027.gads); Noteikts lipoproteīns (a) 191 927 pacientiem no 40-75 gadiem (2028.gads); Noteikts lipoproteīns (a) 140 441 pacientiem no 40-75 gadiem (2029.gads). | E42: 33.15.00 Laboratorisko izmeklējumu nodrošināšana ambulatorajā aprūpē | F42: 365 | G42: 365 | I42: 0 | J42: ='2.1.5.1.'!C5 -> 756702 | K42: 0 | L42: ='2.1.5.1.'!D5 -> 544105 | M42: NVD | N42: MVI KJ, LKB, LĢĀA, LLĢĀA | O42: VBF indikatīvi | P42: 2027. gada II pusgads (turpmāk ik gadu)
C43: 2.1.5.2. Attīstīts ģimenes hiperholisterinēmijas komandas pakalpojums | D43: Vismaz 2 000 pacienti saņēmuši kardiologa konsultāciju, kas specializējies ģimenes hiperholisterinēmijā 2027.gadā Vismaz 2 500 pacienti saņēmuši kardiologa konsultāciju, kas specializējies ģimenes hiperholisterinēmijā 2028.gadā | E43: 33.16.00 Pārējo ambulatoro veselības aprūpes pakalpojumu nodrošināšana | F43: 0 | G43: 0 | I43: 0 | J43: ='2.1.5.2.'!C5 -> 73945.15 | K43: 0 | L43: ='2.1.5.2.'!D5 -> 87285.15 | M43: VM, NVD | N43: MVI KJ, LKB | O43: VBF indikatīvi | P43: 2027. gada II pusgads (turpmāk ik gadu)
C44: 2.1.5.3. Uzlabota ģimenes hiperholisterinēmijas un citu smagu primāru vai komplicētu hiperlipidēmiju diagnostikas pieejamība | D44: Izstrādāts ģimenes hiperholisterinēmijas un citu smagu primāru vai komplicētu hiperlipidēmiju pacientu novērtēšanu, diagnostikas algoritms, kā arī pacienta ceļš un kvalitātes indikatori diagnostikai | E44: 63.08.00 Eiropas Sociālā fonda Plus (ESF+) projektu īstenošana (2021-2027) | F44: 0 | G44: ='2.1.5.3.'!C5 -> 36300 | I44: 0 | J44: 0 | K44: 0 | L44: 0 | M44: VM | N44: LKB, LĢĀA, LLĢĀA | O44: Eiropas Sociālā fonda Plus (ESF+) finansējums, Eiropas Savienības kohēzijas politikas programmas 2021.–2027.gadam 4.1.2.SAM "Uzlabot vienlīdzīgu un savlaicīgu piekļuvi kvalitatīviem, ilgtspējīgiem un izmaksu ziņā pieejamiem veselības aprūpes, veselības veicināšanas un slimību profilakses pakalpojumiem, uzlabojot veselības aprūpes sistēmu efektivitāti un izturētspēju” 4.1.2.7. pasākuma "Pilnveidot pacientu drošību un aprūpes kvalitāti" projektā "Pilnveidot pacientu drošību un aprūpes kvalitāti" (Nr. 4.1.2.7/1/24/I/001). Šobrīd nav zināms ar kādu finanšu apjomu rezultēsies plānotie 4.1.2.7. pasākuma "Pilnveidot pacientu drošību un aprūpes kvalitāti" projekta "Pilnveidot pacientu drošību un aprūpes kvalitāti" iepirkumi 2027.gadam, līdz ar to Sirds un asinsvadu veselības uzlabošanas rīcības plānā 2025.–2027. gadam, norādītais finansējuma apjoms var mainīties. | P44: 2027. gada II pusgads
A45: 2.1.6. | B45: Uzlabot SAS izmeklējumu pieejamību SAVA | C45: 2.1.6.1. Nodrošināta SAVA diagnostikas (veloergometrijas, ehokardiogrāfijas) apmaksa atbilstoši faktiskajām izmaksām | D45: Pārskatīti SAS diagnostikas (veloergometrijas, ehokardiogrāfijas) izmeklējumu tarifi. 2027.gadā un turpmāk ik gadu - stacionārā - 20 798 pacientiem un ambulatori - 105 964 pacientiem veikti izmeklējumi | E45: 33.18.00 Plānveida stacionāro veselības aprūpes pakalpojumu nodrošināšana | F45: 1045810 | G45: 1045810 | I45: 0 | J45: ='2.1.6.1.'!C6 -> 205157.88 | K45: 0 | L45: ='2.1.6.1.'!D6 -> 205157.88 | M45: VM, NVD | N45: MVI KJ, LKB | O45: VBF indikatīvi | P45: 2027.gada I pusgads (turpmāk ik gadu)
E46: 33.16.00 Pārējo ambulatoro veselības aprūpes pakalpojumu nodrošināšana | F46: 4830207 | G46: 4830207 | I46: 0 | J46: ='2.1.6.1.'!C7 -> 682625.91 | K46: 0 | L46: ='2.1.6.1.'!D7 -> 682625.91
C47: 2.1.6.2. Definēta pacientu plūsma un uzlabota kvalitāte doplerogrāfijas izmeklējuma saņemšanai | D47: Izstrādāti vienoti doplerogrāfijas (galvas, kakla un kāju asinsvadiem) izmeklējumu apraksti un pacientu ceļi | E47: 63.08.00 Eiropas Sociālā fonda Plus (ESF+) projektu īstenošana (2021-2027) | F47: 0 | G47: ='2.1.6.2'!C5 -> 33759 | I47: 0 | J47: 0 | K47: 0 | L47: 0 | M47: VM | N47: LDVC, LAĶB | O47: Eiropas Sociālā fonda Plus (ESF+) finansējums, Eiropas Savienības kohēzijas politikas programmas 2021.–2027.gadam 4.1.2.SAM "Uzlabot vienlīdzīgu un savlaicīgu piekļuvi kvalitatīviem, ilgtspējīgiem un izmaksu ziņā pieejamiem veselības aprūpes, veselības veicināšanas un slimību profilakses pakalpojumiem, uzlabojot veselības aprūpes sistēmu efektivitāti un izturētspēju” 4.1.2.7. pasākuma "Pilnveidot pacientu drošību un aprūpes kvalitāti" projektā "Pilnveidot pacientu drošību un aprūpes kvalitāti" (Nr. 4.1.2.7/1/24/I/001). Šobrīd nav zināms ar kādu finanšu apjomu rezultēsies plānotie 4.1.2.7. pasākuma "Pilnveidot pacientu drošību un aprūpes kvalitāti" projekta "Pilnveidot pacientu drošību un aprūpes kvalitāti" iepirkumi 2027.gadam, līdz ar to Sirds un asinsvadu veselības uzlabošanas rīcības plānā 2025.–2027. gadam, norādītais finansējuma apjoms var mainīties. | P47: 2027.gada I pusgads
C48: 2.1.6.3. Definēta pacientu plūsma ehokardiogrāfijas izmeklējumu saņemšanai | D48: Pārskatīta ārstu kompetence ehokardiogrāfijas izmeklējumu veikšanai un definētas prasības iekārtām | F48: 0 | G48: 0 | I48: 0 | J48: 0 | K48: 0 | L48: 0 | M48: VM, VI | N48: MVI KJ, LKB | O48: Esošā budžeta ietvaros | P48: 2027.gada II pusgads
A49: 2.1.7. | B49: Attīstīt rezistentas arteriālās hipertensijas diagnostiku | C49: Nodrošināts valsts apmaksāts 18-24h asinsspiediena monitorēšanas pakalpojums | D49: 3 350 pacienti saņēmuši no 18-24h asinsspiediena monitorēšanu | E49: 33.16.00 Pārējo ambulatoro veselības aprūpes pakalpojumu nodrošināšana | F49: 0 | G49: 0 | I49: 0 | J49: ='2.1.7.'!C6 -> 83080 | K49: 0 | L49: ='2.1.7.'!D6 -> 83080 | M49: NVD, VM | O49: VBF indikatīvi | P49: 2027.gada I pusgads (turpmāk ik gadu)
A50: 2.1.8. | B50: Veicināt sirds un plaušu slimību diagnostiku | C50: Nodrošināts valsts apmaksāts kardiopulmonālā testa izmeklējums | D50: 321 pacienti saņēmuši kardiopulmonālā testa izmeklējumu | E50: 33.18.00 Plānveida stacionāro veselības aprūpes pakalpojumu nodrošināšana | F50: 534 | G50: 534 | I50: 0 | J50: =SUM('2.1.8.'!E6) -> 4560 | K50: 0 | L50: =SUM('2.1.8.'!E6) -> 4560 | M50: NVD, VM | O50: VBF indikatīvi | P50: 2027.gada I pusgads (turpmāk ik gadu)
E51: 33.16.00 Pārējo ambulatoro veselības aprūpes pakalpojumu nodrošināšana | F51: 1992 | G51: 1992 | I51: 0 | J51: =SUM('2.1.8.'!E7) -> 10588 | K51: 0 | L51: =SUM('2.1.8.'!E7) -> 10588
A52: 2.1.9. | B52: Uzlabot asinsvadu saslimšanu diagnostiku | C52: Nodalīts PVA un SAVA pacientu plūsma perifēro artēriju slimības, kakla asinsvadu aterosklerozes un aortas aneirismu diagnostikā | D52: Izstrādāts klīniskais algoritms un pacientu ceļš perifēro artēriju slimību, kakla asinsvadu aterosklerozes un aortas aneirismu diagnostikai | E52: 63.08.00 Eiropas Sociālā fonda Plus (ESF+) projektu īstenošana (2021-2027) | F52: 0 | G52: ='2.1.9.'!C5 -> 33759 | I52: 0 | J52: 0 | K52: 0 | L52: 0 | M52: VM | N52: LAĶB | O52: Eiropas Sociālā fonda Plus (ESF+) finansējums, Eiropas Savienības kohēzijas politikas programmas 2021.–2027.gadam 4.1.2.SAM "Uzlabot vienlīdzīgu un savlaicīgu piekļuvi kvalitatīviem, ilgtspējīgiem un izmaksu ziņā pieejamiem veselības aprūpes, veselības veicināšanas un slimību profilakses pakalpojumiem, uzlabojot veselības aprūpes sistēmu efektivitāti un izturētspēju” 4.1.2.7. pasākuma "Pilnveidot pacientu drošību un aprūpes kvalitāti" projektā "Pilnveidot pacientu drošību un aprūpes kvalitāti" (Nr. 4.1.2.7/1/24/I/001). Šobrīd nav zināms ar kādu finanšu apjomu rezultēsies plānotie 4.1.2.7. pasākuma "Pilnveidot pacientu drošību un aprūpes kvalitāti" projekta "Pilnveidot pacientu drošību un aprūpes kvalitāti" iepirkumi 2027.gadam, līdz ar to Sirds un asinsvadu veselības uzlabošanas rīcības plānā 2025.–2027. gadam, norādītais finansējuma apjoms var mainīties. | P52: 2027.gada I pusgads
A53: 2.2. SAS un to saistīto slimību pacientu uzraudzības uzlabošana PVA un SAVA | F53: =SUM(F54:F66) -> 22629030 | G53: =SUM(G54:G66) -> 22762966 | H53: =SUM(H54:H66) -> 0 | I53: =SUM(I54:I66) -> 0 | J53: =SUM(J54:J66) -> 5490618.5 | K53: =SUM(K54:K66) -> 0 | L53: =SUM(L54:L66) -> 5770551.9
A54: 2.2.1. | B54: Ieviest akūtu notikumu ārstēšanas nepārtrauktību, nodrošinot stacionāros ārstēto pacientu pēctecīgu ārstēšanu ambulatorā sektorā | C54: Īstenots SAS hronisku pacientu pilotprojekts piecās ārstniecības iestādēs intensificētas dinamiskās novērošanas efektivitātes izvērtēšanai un hronisko pacientu dinamiskā novērošana pēc akūta notikuma vai vaskulāras intervences | D54: 5 000 pacientu saņēmuši hroniskas slimības intensificētu dinamisko novērošanu 2 500 pacienti saņēmuši elektrokardiostimulatora darbības pārbaudi un programmēšanu, 5 000 pacientiem vismaz 1 reizi pēc simptomātiska insulta vai tranzitoras išēmiskas lēkmes saņemta neirologa konsultācija un veikta neirosonoloģiskā izmeklēšana | E54: 33.16.00 Pārējo ambulatoro veselības aprūpes pakalpojumu nodrošināšana | F54: 21010828 | G54: 21010828 | I54: 0 | J54: ='2.2.1.'!C5 -> 2254308.3 | K54: 0 | L54: ='2.2.1.'!D5 -> 2254308.3 | M54: VM, NVD | N54: MVI KJ, LKB, LAĶB, LNB | O54: VBF indikatīvi | P54: 2027. gada II pusgads (turpmāk ik gadu)
A55: 2.2.2. | B55: Uzlabota cukura diabēta pacientu dinamiskā novērošana | C55: Noteikti ģimenes ārsta un endokrinologa aprūpes līmeņi, , kā arī definēti kritēriji komplicētu pacientu identifikācijai, balstoties uz klīniskiem kritērijiem, esošām blakus slimībām (SAS un nieru slimības) un saņemtās terapijas | D55: Izstrādāti un apstiprināti cukura diabēta klīniskie algoritmi, pacientu ceļi un kvalitātes indikatori dinamiskai novērošanai | E55: 63.08.00 Eiropas Sociālā fonda Plus (ESF+) projektu īstenošana (2021-2027) | F55: 36300 | G55: 0 | I55: 0 | J55: 0 | K55: 0 | L55: 0 | M55: VM | N55: LEA, LĢĀA, LLĢĀA | O55: Eiropas Sociālā fonda Plus (ESF+) finansējums, Eiropas Savienības kohēzijas politikas programmas 2021.–2027.gadam 4.1.2.SAM "Uzlabot vienlīdzīgu un savlaicīgu piekļuvi kvalitatīviem, ilgtspējīgiem un izmaksu ziņā pieejamiem veselības aprūpes, veselības veicināšanas un slimību profilakses pakalpojumiem, uzlabojot veselības aprūpes sistēmu efektivitāti un izturētspēju” 4.1.2.7. pasākuma "Pilnveidot pacientu drošību un aprūpes kvalitāti" projektā "Pilnveidot pacientu drošību un aprūpes kvalitāti" (Nr. 4.1.2.7/1/24/I/001). Šobrīd nav zināms ar kādu finanšu apjomu rezultēsies plānotie 4.1.2.7. pasākuma "Pilnveidot pacientu drošību un aprūpes kvalitāti" projekta "Pilnveidot pacientu drošību un aprūpes kvalitāti" iepirkumi 2027.gadam, līdz ar to Sirds un asinsvadu veselības uzlabošanas rīcības plānā 2025.–2027. gadam, norādītais finansējuma apjoms var mainīties. | P55: 2026. gada II pusgads
A56: 2.2.3. | B56: Savlaicīgi atklāt ar cukura diabētu saistītos komplikāciju riskus | C56: 2.2.3.1.Uzlabota cukura diabēta komplikāciju savlaicīga atklāšana un ārstēšana | D56: Izstrādāts klīniskais algoritms, kvalitātes indikatori, pacientu ceļš cukura diabētu komplikāciju diagnostikai un aprūpei (sirds un asinsvadu, neiroloģiskai, acu) | E56: 63.08.00 Eiropas Sociālā fonda Plus (ESF+) projektu īstenošana (2021-2027) | F56: 36300 | G56: 0 | I56: 0 | J56: 0 | K56: 0 | L56: 0 | M56: VM | N56: LEA, LKB, MVI ģimenes medicīnā, LAĶB | O56: Eiropas Sociālā fonda Plus (ESF+) finansējums, Eiropas Savienības kohēzijas politikas programmas 2021.–2027.gadam 4.1.2.SAM "Uzlabot vienlīdzīgu un savlaicīgu piekļuvi kvalitatīviem, ilgtspējīgiem un izmaksu ziņā pieejamiem veselības aprūpes, veselības veicināšanas un slimību profilakses pakalpojumiem, uzlabojot veselības aprūpes sistēmu efektivitāti un izturētspēju” 4.1.2.7. pasākuma "Pilnveidot pacientu drošību un aprūpes kvalitāti" projektā "Pilnveidot pacientu drošību un aprūpes kvalitāti" (Nr. 4.1.2.7/1/24/I/001). Šobrīd nav zināms ar kādu finanšu apjomu rezultēsies plānotie 4.1.2.7. pasākuma "Pilnveidot pacientu drošību un aprūpes kvalitāti" projekta "Pilnveidot pacientu drošību un aprūpes kvalitāti" iepirkumi 2027.gadam, līdz ar to Sirds un asinsvadu veselības uzlabošanas rīcības plānā 2025.–2027. gadam, norādītais finansējuma apjoms var mainīties. | P56: 2026.gada II pusgads
C57: 2.2.3.2. Uzlabota cukura diabēta acu komplikāciju savlaicīga atklāšana un ārstēšana | D57: 200 pacienti saņēmuši intravitreālās injekcijas (2027.gads); 300 pacienti saņēmuši intravitreālās injekcijas (2028.gads); 350 pacienti saņēmuši intravitreālās injekcijas (2029.gads). | E57: 33.16.00 Pārējo ambulatoro veselības aprūpes pakalpojumu nodrošināšana | F57: 71148 | G57: 94864 | I57: 0 | J57: ='2.2.3.2.'!E7 -> 94864 | K57: 0 | L57: ='2.2.3.2.'!F7 -> 94864 | M57: NVD, VM | N57: LAĀA | O57: VBF indikatīvi | P57: 2027.gada II pusgads (turpmāk ik gadu)
E58: 33.03.00 "Kompensējamo medikamentu un materiālu apmaksāšana" | F58: 390159 | G58: 557370 | I58: 0 | J58: ='2.2.3.2.'!E8 -> 342112 | K58: 0 | L58: ='2.2.3.2.'!F8 -> 342112
C59: 2.2.3.3. Uzlabota cukura diabēta neiroloģisko komplikāciju savlaicīga atklāšana un ārstēšana | D59: Izstrādāts klīniskais algoritms, kvalitātes indikatori un pacienta ceļš diabētiskās pēdas un trofisko čūlu aprūpei | E59: 63.08.00 Eiropas Sociālā fonda Plus (ESF+) projektu īstenošana (2021-2027) | F59: 36300 | G59: 0 | I59: 0 | J59: 0 | K59: 0 | L59: 0 | M59: VM | N59: LEA, LNB | O59: Eiropas Sociālā fonda Plus (ESF+) finansējums, Eiropas Savienības kohēzijas politikas programmas 2021.–2027.gadam 4.1.2.SAM "Uzlabot vienlīdzīgu un savlaicīgu piekļuvi kvalitatīviem, ilgtspējīgiem un izmaksu ziņā pieejamiem veselības aprūpes, veselības veicināšanas un slimību profilakses pakalpojumiem, uzlabojot veselības aprūpes sistēmu efektivitāti un izturētspēju” 4.1.2.7. pasākuma "Pilnveidot pacientu drošību un aprūpes kvalitāti" projektā "Pilnveidot pacientu drošību un aprūpes kvalitāti" (Nr. 4.1.2.7/1/24/I/001). Šobrīd nav zināms ar kādu finanšu apjomu rezultēsies plānotie 4.1.2.7. pasākuma "Pilnveidot pacientu drošību un aprūpes kvalitāti" projekta "Pilnveidot pacientu drošību un aprūpes kvalitāti" iepirkumi 2027.gadam, līdz ar to Sirds un asinsvadu veselības uzlabošanas rīcības plānā 2025.–2027. gadam, norādītais finansējuma apjoms var mainīties. | P59: 2026.gada II pusgads
A60: 2.2.4. | B60: Ieviest hroniskas nieru slimības diagnostika cukura diabēta un arteriālās hipertensijas pacientiem PVA | C60: 2.2.4.1. Cukura diabēta un arteriālās hipertensijas pacientiem vismaz 1xgadā noteikts kreatinīns (t.sk. glomerulu filtrācijas ātrums) un veikta urīna analīze, kur noteikta mikroalbumīnūrijas klātesamība | D60: 50% aptvere riska grupas pacientiem hroniskas nieru slimības (2027.gads); 55% aptvere riska grupas pacientiem hroniskas nieru slimības (2028.gads); 60% aptvere riska grupas pacientiem hroniskas nieru slimības (2029.gads). | E60: 33.15.00 Laboratorisko izmeklējumu nodrošināšana ambulatorajā aprūpē | F60: 655669 | G60: 655669 | I60: 0 | J60: ='2.2.4.1.'!C6 -> 2555786 | K60: 0 | L60: ='2.2.4.1.'!D6 -> 2811364.6 | M60: NVD, VM | N60: MVI ģimenes medicīnā, LĢĀA, LLĢĀA, LNA, LNMAA | O60: VBF indikatīvi | P60: 2027.gada II pusgads (turpmāk ik gadu)
E61: 33.16.00 Pārējo ambulatoro veselības aprūpes pakalpojumu nodrošināšana | F61: 374176 | G61: 374176 | I61: 0 | J61: ='2.2.4.1.'!C7 -> 243548.19 | K61: 0 | L61: ='2.2.4.1.'!D7 -> 267903
C62: 2.2.4.2. Veicināta PVA iesaiste un nodalītas ārstniecības personu kompetences hroniskas nieru slimības diagnostikā | D62: Izstrādāts hroniskas nieru slimības skrīningā atklāto gadījumu tālākas uzraudzības algoritms, kvalitātes indikatori un pacienta ceļš | E62: 63.08.00 Eiropas Sociālā fonda Plus (ESF+) projektu īstenošana (2021-2027) | F62: 0 | G62: ='2.2.4.2'!C5 -> 36300 | I62: 0 | J62: 0 | K62: 0 | L62: 0 | M62: VM | N62: LNA, LNMAA | O62: Eiropas Sociālā fonda Plus (ESF+) finansējums, Eiropas Savienības kohēzijas politikas programmas 2021.–2027.gadam 4.1.2.SAM "Uzlabot vienlīdzīgu un savlaicīgu piekļuvi kvalitatīviem, ilgtspējīgiem un izmaksu ziņā pieejamiem veselības aprūpes, veselības veicināšanas un slimību profilakses pakalpojumiem, uzlabojot veselības aprūpes sistēmu efektivitāti un izturētspēju” 4.1.2.7. pasākuma "Pilnveidot pacientu drošību un aprūpes kvalitāti" projektā "Pilnveidot pacientu drošību un aprūpes kvalitāti" (Nr. 4.1.2.7/1/24/I/001). Šobrīd nav zināms ar kādu finanšu apjomu rezultēsies plānotie 4.1.2.7. pasākuma "Pilnveidot pacientu drošību un aprūpes kvalitāti" projekta "Pilnveidot pacientu drošību un aprūpes kvalitāti" iepirkumi 2027.gadam, līdz ar to Sirds un asinsvadu veselības uzlabošanas rīcības plānā 2025.–2027. gadam, norādītais finansējuma apjoms var mainīties. | P62: 2027. gada II pusgads
A63: 2.2.5. | B63: Uzlabot sirds mazspējas pacientu un aritmijas pacientu dinamisko novērošanos | C63: Noteiktas ģimenes ārsta un kardiologa aprūpes jomas, kā arī definēti kritēriji komplicētu pacientu identifikācijai, balstoties uz klīniskiem kritērijiem, esošām blakus slimībām un saņemtās terapijas | D63: Pārskatīti sirds mazspējas un aritmiju klīniskie algoritmi, pacientu ceļi un kvalitātes indikatori diagnostikā un dinamiskā novērošanai | E63: 33.16.00 Pārējo ambulatoro veselības aprūpes pakalpojumu nodrošināšana | F63: 0 | G63: 0 | I63: 0 | J63: 0 | K63: 0 | L63: 0 | M63: VM | N63: MVI KJ, LKB, LĢĀA, LLĢĀA | O63: Esošā budžeta ietvaros | P63: 2027.gada I pusgads
A64: 2.2.6. | B64: Uzlabot perifēro asinsvadu saslimšanu dinamisko novērošanu | C64: Nodalītas PVA un SAVA pacientu plūsmas perifēro artēriju slimības, kakla asinsvadu aterosklerozes un aortas aneirismu dinamiskā novērošanā | D64: Izstrādāts klīniskais algoritms un pacientu ceļš perifēro artēriju slimību, kakla asinsvadu aterosklerozes un aortas aneirismu dinamiskai novērošanai | E64: 63.08.00 Eiropas Sociālā fonda Plus (ESF+) projektu īstenošana (2021-2027) | F64: 0 | G64: ='2.2.6.'!C5 -> 33759 | I64: 0 | J64: 0 | K64: 0 | L64: 0 | M64: VM | N64: LAĶB | O64: Eiropas Sociālā fonda Plus (ESF+) finansējums, Eiropas Savienības kohēzijas politikas programmas 2021.–2027.gadam 4.1.2.SAM "Uzlabot vienlīdzīgu un savlaicīgu piekļuvi kvalitatīviem, ilgtspējīgiem un izmaksu ziņā pieejamiem veselības aprūpes, veselības veicināšanas un slimību profilakses pakalpojumiem, uzlabojot veselības aprūpes sistēmu efektivitāti un izturētspēju” 4.1.2.7. pasākuma "Pilnveidot pacientu drošību un aprūpes kvalitāti" projektā "Pilnveidot pacientu drošību un aprūpes kvalitāti" (Nr. 4.1.2.7/1/24/I/001). Šobrīd nav zināms ar kādu finanšu apjomu rezultēsies plānotie 4.1.2.7. pasākuma "Pilnveidot pacientu drošību un aprūpes kvalitāti" projekta "Pilnveidot pacientu drošību un aprūpes kvalitāti" iepirkumi 2027.gadam, līdz ar to Sirds un asinsvadu veselības uzlabošanas rīcības plānā 2025.–2027. gadam, norādītais finansējuma apjoms var mainīties. | P64: 2027.gada I pusgads
A65: 2.2.7. | B65: Veicināt pacientu līdzestību hronisku slimību (īpaši, SAS) slimību dinamiskā novērošanā un medikamentu lietošanā | C65: Palielinājusies pacientu izpratne par viņu līdzestības nozīmi ārstēšanas procesā, akcentējot veselības ilgtermiņa ieguvumus no pacienta līdzestības | D65: Organizēts vismaz viens informatīvs pasākums 1xgadā pacientu līdzestības veicināšanai | E65: 63.08.00 Eiropas Sociālā fonda Plus (ESF+) projektu īstenošana (2021-2027) | F65: 18150 | G65: 0 | I65: 0 | J65: 0 | K65: 0 | L65: 0 | M65: SPKC, VM | N65: MVI KJ, NVO | O65: Eiropas Sociālā fonda Plus (ESF+) finansējums, Eiropas Savienības kohēzijas politikas programmas 2021.–2027.gadam 4.1.2.SAM "Uzlabot vienlīdzīgu un savlaicīgu piekļuvi kvalitatīviem, ilgtspējīgiem un izmaksu ziņā pieejamiem veselības aprūpes, veselības veicināšanas un slimību profilakses pakalpojumiem, uzlabojot veselības aprūpes sistēmu efektivitāti un izturētspēju” 4.1.2.7. pasākuma "Pilnveidot pacientu drošību un aprūpes kvalitāti" projektā "Pilnveidot pacientu drošību un aprūpes kvalitāti" (Nr. 4.1.2.7/1/24/I/001). Šobrīd nav zināms ar kādu finanšu apjomu rezultēsies plānotie 4.1.2.7. pasākuma "Pilnveidot pacientu drošību un aprūpes kvalitāti" projekta "Pilnveidot pacientu drošību un aprūpes kvalitāti" iepirkumi 2027.gadam, līdz ar to Sirds un asinsvadu veselības uzlabošanas rīcības plānā 2025.–2027. gadam, norādītais finansējuma apjoms var mainīties. | P65: 2026. gada II pusgads (turpmāk ik gadu)
A66: 2.2.8. | B66: Izvērtēt telemedicīnas izmantošanu pacientu līdzestības veicināšanai SAS un to saistīto saslimšanu uzraudzībā | C66: Veikta analīze par esošajiem digitālajiem un telemedicīnas pakalpojumiem līdzestības veicināšanā SAS pacientiem | D66: Sniegti priekšlikumi par digitālajiem un telemedicīnas pakalpojumu izmantošanu pacienta līdzestības veicināšanai SAS un to saistīto saslimšanu uzraudzībā | F66: 0 | G66: 0 | I66: 0 | J66: 0 | K66: 0 | L66: 0 | M66: VM | N66: BKUS, PSKUS, RAKUS, Nacionālais rehabilitācijas centrs "Vaivari”, LDVC | O66: Esošā budžeta ietvaros | P66: 2027.gada II pusgads
A67: 2.3. Medikamentu pieejamības uzlabošana | F67: =SUM(F68:F76) -> 51845041 | G67: =SUM(G68:G76) -> 51845041 | H67: =SUM(H68:H76) -> 0 | I67: =SUM(I68:I76) -> 0 | J67: =SUM(J68:J76) -> 14839080 | K67: =SUM(K68:K76) -> 0 | L67: =SUM(L68:L76) -> 15820018
A68: 2.3.1. | B68: Uzlabot antikoagulantu TOAK pieejamību pacientiem ar perifēro asinsvadu saslimšanām komplikāciju attīstības novēršanai | C68: 2.3.1.1. Kompensēti antikoagulanti TOAK pacientiem pēc asinsvadu revaskularizācijas 3 mēnešus | D68: 1 750 pacientiem kompensēts antikoagulants 3 mēnešus pēc asinsvadu revaskularizācijas (2027.gads); 3 500 pacientiem kompensēts antikoagulants 3 mēnešus pēc asinsvadu revaskularizācijas (2028.gads un turpmāk ik gadu). | E68: 33.03.00 "Kompensējamo medikamentu un materiālu apmaksāšana" | F68: 12162113 | G68: 12162113 | I68: 0 | J68: ='2.3.1.1.-2.3.1.3.,2.3.2.-2.3.5.'!J12 -> 141697.5 | K68: 0 | L68: ='2.3.1.1.-2.3.1.3.,2.3.2.-2.3.5.'!K12 -> 283395 | M68: NVD, VM | O68: VBF indikatīvi | P68: 2027.gada II pusgads (turpmāk ik gadu)
C69: 2.3.1.2. Kompensēti antikoagulanti pacientiem ar dziļo vēnu trombozi 3-6 mēnešus | D69: 969 pacientiem kompensēts antikoagulants 3 mēnešus (2027.gads); 1 453 pacientiem kompensēts antikoagulants 3 mēnešus (2028.gads); 1 938 pacientiem kompensēts antikoagulants 3 mēnešus (2029.gads un turpmāk ik gadu). | E69: 33.03.00 "Kompensējamo medikamentu un materiālu apmaksāšana" | I69: 0 | J69: ='2.3.1.1.-2.3.1.3.,2.3.2.-2.3.5.'!J13 -> 156897.16 | K69: 0 | L69: ='2.3.1.1.-2.3.1.3.,2.3.2.-2.3.5.'!K13 -> 235345.74 | M69: NVD, VM | O69: VBF indikatīvi | P69: 2027.gada II pusgads (turpmāk ik gadu)
C70: 2.3.1.3. Kompensēti antikoagulanti pacientiem ar plaušu trombemboliju 12 mēnešu garumā no diagnozes uzstādīšanas brīža | D70: 475 pacientiem kompensēts antikoagulants 12 mēnešus (2027.gads); 949 pacientiem kompensēts antikoagulants 12 mēnešus (2028.gads un turpmāk ik gadu). | E70: 33.03.00 "Kompensējamo medikamentu un materiālu apmaksāšana" | I70: 0 | J70: ='2.3.1.1.-2.3.1.3.,2.3.2.-2.3.5.'!J14 -> 153847.75 | K70: 0 | L70: ='2.3.1.1.-2.3.1.3.,2.3.2.-2.3.5.'!K14 -> 307371.61 | M70: NVD, VM | O70: VBF indikatīvi | P70: 2027.gada II pusgads (turpmāk ik gadu)
A71: 2.3.2. | B71: Kompensēt sirds glikozīdus mirdzaritmijas pacientiem, ja nevar ar cita veida medikamentiem panākt normosistoliju | C71: Uzlabot mirdzaritmijas pacientu aprūpi | D71: 2027.gadā - 3 967 pacientiem, 2028.gadā - 7 934 pacientiem, 2029.gadā un turpmāk ik gadu - 7 934 pacientiem pacientiem kompensēts sirds glikozīdus mirdzaritimijas pacientiem, ja nevar ar cita veida medikamentiem panākt normosistoliju | E71: 33.03.00 "Kompensējamo medikamentu un materiālu apmaksāšana" | F71: 0 | G71: 0 | I71: 0 | J71: ='2.3.1.1.-2.3.1.3.,2.3.2.-2.3.5.'!J15 -> 607268.36 | K71: 0 | L71: ='2.3.1.1.-2.3.1.3.,2.3.2.-2.3.5.'!K15 -> 1214536.7 | M71: NVD, VM | O71: VBF indikatīvi | P71: 2027.gada I pusgads (turpmāk ik gadu)
A72: 2.3.3. | B72: Palielināt kardiovaskulāro pacientu līdzestību medikamentu lietošanā | C72: Uzlabota SAS un to saistīto slimību slimojošo pacientu līdzestība medikamentu lietošanā | D72: 504 402 pacientu skaits, kam nodrošināta 100% kompensācija | E72: 33.03.00 "Kompensējamo medikamentu un materiālu apmaksāšana" | F72: 38320409 | G72: 38320409 | I72: 0 | J72: ='2.3.1.1.-2.3.1.3.,2.3.2.-2.3.5.'!J16 -> 12771914 | K72: 0 | L72: ='2.3.1.1.-2.3.1.3.,2.3.2.-2.3.5.'!K16 -> 12771914 | M72: NVD, VM | O72: VBF indikatīvi | P72: 2027.gada II pusgads (turpmāk ik gadu)
A73: 2.3.4. | B73: Veicināt jauniešu (18-24 gadu vecumam) iesaisti I tipa cukura diabēta dinamiskā novērošanā | C73: Apmaksāta nepārtrauktās glikozes līmeņa noteikšanas sistēma pacientiem pēc 18 gadu vecuma (līdz 24 gadu vecumam (ieskaitot), kas lieto nepārtrauktās glikozes līmeņa noteikšanas sistēmu vai/un insulīna sūkņus līdz 18 gadu vecumam | D73: 150 pacientiem no 18-24 gadu vecuma apmaksāta nepārtrauktās glikozes līmeņa noteikšanas sistēma | E73: 33.03.00 "Kompensējamo medikamentu un materiālu apmaksāšana" | F73: 0 | G73: 0 | I73: 0 | J73: ='2.3.1.1.-2.3.1.3.,2.3.2.-2.3.5.'!J17 -> 232489.5 | K73: 0 | L73: ='2.3.1.1.-2.3.1.3.,2.3.2.-2.3.5.'!K17 -> 232489.5 | M73: NVD, VM | N73: LEA | O73: VBF indikatīvi | P73: 2027.gada I pusgads (turpmāk ik gadu)
E74: 33.18.00 Plānveida stacionāro veselības aprūpes pakalpojumu nodrošināšana | F74: 1362519 | G74: 1362519 | I74: 0 | J74: 0 | K74: 0 | L74: 0
A75: 2.3.5. | B75: Veicināt I tipa cukura diabēta pacientu ar smagām un/ vai biežām hipoglikēmijām, labilu diabēta gaitu, nopietnām diabēta vēlīnām komplikācijām iesaisti I tipa cukura diabēta dinamiskā novērošanā | C75: Apmaksāta nepārtrauktās glikozes līmeņa noteikšanas sistēma pacientiem cukura diabēta pacientiem ar smagām un/ vai biežām hipoglikēmijām, labilu diabēta gaitu, nopietnām diabēta vēlīnām komplikācijām | D75: 500 pacientiem apmaksāta nepārtrauktās glikozes līmeņa noteikšanas sistēma | E75: 33.18.00 Plānveida stacionāro veselības aprūpes pakalpojumu nodrošināšana | I75: 0 | J75: 0 | K75: 0 | L75: 0 | M75: NVD, VM | N75: LEA | O75: VBF indikatīvi | P75: 2027.gada I pusgads
E76: 33.03.00 "Kompensējamo medikamentu un materiālu apmaksāšana" | F76: 0 | G76: 0 | I76: 0 | J76: ='2.3.1.1.-2.3.1.3.,2.3.2.-2.3.5.'!J18 -> 774965 | K76: 0 | L76: ='2.3.1.1.-2.3.1.3.,2.3.2.-2.3.5.'!K18 -> 774965
A77: 2.3.6. | B77: Izskatīt iespēju paplašināt izrakstīšanas nosacījumus kompensējamo zāļu sarakstā esošajiem medikamentiem un/vai iekļaut valsts kompensējamo zāļu sarakstā jaunus medikamentus | C77: Izvērtēta medikamentozās terapijas pieejamība atbilstoši aktuālajām SAS ārstēšanas un profilakses vadlīnijām | D77: Sagatavoti priekšlikumi medikamentu izrakstīšanas nosacījumu paplašināšanai un jaunu medikamentu iekļaušanai KZS | F77: 0 | G77: 0 | I77: 0 | J77: 0 | K77: 0 | L77: 0 | M77: VM | N77: NVD, ārstu profesionālās asociācijas, NVO | O77: Esošā budžeta ietvaros | P77: 2027. gada II pusgads
A78: 2.4. Stacionārās veselības aprūpes pilnveidošanas pasākumi | F78: =SUM(F79:F94) -> 31985769 | G78: =SUM(G79:G94) -> 32568384 | H78: =SUM(H79:H94) -> 0 | I78: =SUM(I79:I94) -> 0 | J78: =SUM(J79:J94) -> 17039959 | K78: =SUM(K79:K94) -> 0 | L78: =SUM(L79:L94) -> 20715869
A79: 2.4.1. | B79: Izvērtēt pašreizējo situāciju akūta insulta ārstēšanā, insulta sekundārajā profilaksē, pacientu ilgtermiņa novērošanā un rehabilitācijā | C79: Veikta esošo insulta vienību kvalitātes prasību izpildes tematiskā pārbaude: 1. Insultu vienību pieejamības/sasniedzamības analīze; 2. Insulta vienību kvalitātes prasību izpildes audits, ar mērķi uzlabot to darbu un sniegtās specializētās terapijas kvalitāti; 3. Medicīnisko tehnoloģiju nodrošinājuma analīze | D79: Realizēts insulta vienību audits, izstrādāti un VM iesniegti priekšlikumi par nepieciešamajām izmaiņām, kā arī sagatavots cerebrālo asinsvadu slimību invazīvās ārstēšanas rīcības algoritms. | E79: 63.08.00 Eiropas Sociālā fonda Plus (ESF+) projektu īstenošana (2021-2027) | F79: 0 | G79: ='2.4.1'!C5 -> 582615 | I79: 0 | J79: 0 | K79: 0 | L79: 0 | M79: VM | N79: VI, LNB | O79: Eiropas Sociālā fonda Plus (ESF+) finansējums, Eiropas Savienības kohēzijas politikas programmas 2021.–2027.gadam 4.1.2.SAM "Uzlabot vienlīdzīgu un savlaicīgu piekļuvi kvalitatīviem, ilgtspējīgiem un izmaksu ziņā pieejamiem veselības aprūpes, veselības veicināšanas un slimību profilakses pakalpojumiem, uzlabojot veselības aprūpes sistēmu efektivitāti un izturētspēju” 4.1.2.7. pasākuma "Pilnveidot pacientu drošību un aprūpes kvalitāti" projektā "Pilnveidot pacientu drošību un aprūpes kvalitāti" (Nr. 4.1.2.7/1/24/I/001). Šobrīd nav zināms ar kādu finanšu apjomu rezultēsies plānotie 4.1.2.7. pasākuma "Pilnveidot pacientu drošību un aprūpes kvalitāti" projekta "Pilnveidot pacientu drošību un aprūpes kvalitāti" iepirkumi 2027.gadam, līdz ar to Sirds un asinsvadu veselības uzlabošanas rīcības plānā 2025.–2027. gadam, norādītais finansējuma apjoms var mainīties. | P79: 2026. gada II pusgads
A80: 2.4.2. | B80: Izpildīt tematiskās pārbaudes "Akūta koronāra sindroma pacientu aprūpe” secinājumus | C80: 2.4.2.1. Nodrošināta vienota akūta koronāra sindroma simptomu atpazīšana un diagnostikas interpretācija veselības aprūpes darbinieku vidū | D80: Atjaunoti 2019. gadā publicētie klīniskie algoritmi un pacientu ceļi SAS jomā | E80: 45.01.00 Veselības aprūpes finansējuma administrēšana un ekonomiskā novērtēšana | F80: 0 | G80: 0 | I80: 0 | J80: 0 | K80: 0 | L80: 0 | M80: VM, NMPD | N80: MVI KJ, slimnīcas, LKB, SPKC | O80: Esošā budžeta ietvaros | P80: 2026. gada II pusgads
C81: 2.4.2.2. Veicināta vienota rīcība akūta koronāra sindroma gadījumā NMP etapā | D81: Pilnveidotas NMP dienestā izstrādātās procedūras un metodiskie ieteikumi pacientiem ar aizdomām par akūtu koronāru sindromu | E81: 45.01.00 Veselības aprūpes finansējuma administrēšana un ekonomiskā novērtēšana | F81: 0 | G81: 0 | I81: 0 | J81: 0 | K81: 0 | L81: 0 | M81: NMPD, VM | N81: MVI KJ, slimnīcas, LKB | O81: Esošā budžeta ietvaros | P81: 2026. gada II pusgads
C82: 2.4.2.3. Veicināta vienota rīcība akūta koronāra sindroma gadījumā | D82: Atjaunotas NMP, slimnīcu uzņemšanas un citās nodaļās izstrādātās procedūras, metodiskās rekomendācijas | E82: 45.01.00 Veselības aprūpes finansējuma administrēšana un ekonomiskā novērtēšana | F82: 0 | G82: 0 | I82: 0 | J82: 0 | K82: 0 | L82: 0 | M82: VM, NMPD | N82: MVI KJ, slimnīcas, LKB | O82: Esošā budžeta ietvaros | P82: 2026. gada II pusgads
A83: 2.4.3. | B83: Mazināt insulta attīstības risku Latvijas iedzīvotājiem | C83: 2.4.3.1. Pārskatīts stacionārā un dienas stacionārā veicamo manipulāciju klāsts, pacientu plūsmas strukturēšanai | D83: 20% stacionārā ārstējamo pacientu pārvirzīti aritmoloģiskas intervences saņemšanai dienas stacionārā, tādējādi atbrīvojot vietu pacientiem stacionāra pakalpojumu saņemšanai aritmoloģijā | F83: 0 | G83: 0 | I83: 0 | J83: 0 | K83: 0 | L83: 0 | M83: NVD, VM | N83: PSKUS, RAKUS | O83: Esošā budžeta ietvaros | P83: 2026.gada I pusgads (turpmāk ik gadu)
C84: 2.4.3.2. Pārskatīti radiofrekventās katetra ablācijas tarifi un diagnostikas manipulācijas aritmijas diagnostikai atbilstoši faktiskajām izmaksām | D84: Veiktas 8113 intervences kardioloģiskiem pacientiem ar sirds ritma traucējumiem (2027.gads); Veiktas 8550 intervences kardioloģiskiem pacientiem ar sirds ritma traucējumiem (2028.gads un turpmāk ik gadu). | E84: 33.18.00 Plānveida stacionāro veselības aprūpes pakalpojumu nodrošināšana | F84: 1476006 | G84: 1476006 | I84: 0 | J84: ='2.4.3.1.-2.4.3.2.'!D5 -> 5174226.7 | K84: 0 | L84: ='2.4.3.1.-2.4.3.2.'!E5 -> 6039196 | M84: NVD, VM | N84: PSKUS, RAKUS | O84: VBF indikatīvi | P84: 2027.gada II pusgads (turpmāk ik gadu)
E85: 33.16.00 Pārējo ambulatoro veselības aprūpes pakalpojumu nodrošināšana | F85: 0 | G85: 0 | I85: 0 | J85: ='2.4.3.1.-2.4.3.2.'!D6 -> 1580720.6 | K85: 0 | L85: ='2.4.3.1.-2.4.3.2.'!E6 -> 1831589.6
A86: 2.4.4. | B86: Papildināt valsts apmaksāto pakalpojumu grozu ar nieru simpātisko denervāciju pacientiem ar izteikti grūti kontrolējamām SAS (ar cukura diabētu, smagu adipozitāti, rezistentas hipertensijas gadījumā) | C86: Mazināts kardiovaskulārais risks rezistentas hipertensijas gadījumā grūti kontrolējamo SAS pacientu vidū | D86: 35 pacienti saņēmuši nieru simpātisko denervāciju rezistentas hipertensijas gadījumā | E86: 33.18.00 Plānveida stacionāro veselības aprūpes pakalpojumu nodrošināšana | F86: 0 | G86: 0 | I86: 0 | J86: ='2.4.4.'!D5 -> 247567.51 | K86: 0 | L86: ='2.4.4.'!E5 -> 346594.52 | M86: NVD, VM | N86: PSKUS, RAKUS | O86: VBF indikatīvi | P86: 2027.gada II pusgads (turpmāk ik gadu)
A87: 2.4.5. | B87: Uzlabot aterosklerozes izraisīto seku ārstēšanas pieejamību Latvijas iedzīvotājiem | C87: 2.4.5.1. Mazināts pacientu gaidīšanas laiks plānveida invazīvās kardioloģijas pakalpojuma saņemšanai | D87: 3 166 pacienti saņēmuši invazīvas kardioloģijas pakalpojumu dienas stacionārā (2027.gads); 2029 pacienti saņēmuši invazīvas kardioloģijas pakalpojumu dienas stacionārā (2028. gads un turpmāk ik gadu). | E87: 33.16.00 Pārējo ambulatoro veselības aprūpes pakalpojumu nodrošināšana | F87: 8086606 | G87: =F87 -> 8086606 | I87: 0 | J87: ='2.4.5.1. '!C6 -> 3923560.5 | K87: 0 | L87: =SUM(J87) -> 3923560.5 | M87: NVD, VM | N87: MVI KJ, PSKUS, RAKUS, DRS, LRS, Rīgas 1.slimnīca | O87: VBF indikatīvi | P87: 2027.gada II pusgads (turpmāk ik gadu)
C88: 2.4.5.2. Mazināts pacientu gaidīšanas laiks vēdera aortas endoprotezēšanas procedūras saņemšanai | D88: 35 pacienti saņēmuši vēdera aortas endoprotezēšanas procedūras (2026. gads un turpmāk ik gadu) | E88: 33.18.00 Plānveida stacionāro veselības aprūpes pakalpojumu nodrošināšana | F88: 18885327 | G88: =F88 -> 18885327 | I88: 0 | J88: ='2.4.5.2. '!C6 -> 3948743.9 | K88: 0 | L88: =SUM(J88) -> 3948743.9 | M88: NVD, VM | N88: PSKUS, RAKUS | O88: VBF indikatīvi
A89: 2.4.6. | B89: Pārskatīt transkatetra vārstuļa implantācijas procedūras tarifs atbilstoši faktiskajām izmaksām un palielināts plānoto pacientu skaits | C89: 2.4.6.1. Uzlabot (mazinvazīvu) aortas vārstuļu implantācijas pieejamību 2.4.6.2. Papildināts valsts apmaksāto pakalpojumu grozs ar valsts apmaksātu (mazinvazīvu) trikuspidālā, mitrālā, pulmonālā vārstuļa implantācijas procedūru | D89: 2.4.6.1. - 2027.gadā - 150 pacienti, 2028.gadā un turpmāk ik gadu - 200 pacienti saņēmuši transkatetra aortālā vārstuļa implantāciju 2.4.6.2. - 2027.gadā - 30 pacienti, 2028.gadā un turpmāk ik gadu - 50 pacienti saņēmuši transkatetra trikuspidālā, mitrālā, pulmonālā vārstuļa implantāciju | E89: ='2.4.6'!A6 -> 33.18.00 Plānveida stacionāro veselības aprūpes pakalpojumu nodrošināšana | F89: 3537830.4 | G89: 3537830.4 | I89: 0 | J89: ='2.4.6'!C6 -> 1672783.8 | K89: 0 | L89: ='2.4.6'!D6 -> 3764561.6 | M89: NVD, VM | N89: PSKUS | O89: VBF indikatīvi | P89: 2027.gada II pusgads (turpmāk ik gadu)
A90: 2.4.7. | B90: Veicināta ātrāka pacienta atveseļošanās sirds ķirurģijas anestezioloģijas un intensīvās terapijas nodaļā | C90: Papildināts valsts apmaksāto pakalpojumu grozs ar sirds palīgcirkulācijas ierīcēm pēc sarežģītām sirds operācijām vai hronisku sirds saslimšanu dekompensācijas gadījumos | D90: 30 pacientiem implantētas perkutānas implantējamas sirds kreisā kambara mehāniskas palīgcirkulācijas iekārta | E90: ='2.4.7.'!A6 -> 33.18.00 Plānveida stacionāro veselības aprūpes pakalpojumu nodrošināšana | F90: 0 | G90: 0 | I90: 0 | J90: ='2.4.7.'!C6 -> 492356 | K90: 0 | L90: ='2.4.7.'!D6 -> 861623 | M90: NVD, VM | N90: PSKUS, RAKUS | O90: VBF indikatīvi | P90: 2027.gada II pusgads (turpmāk ik gadu)
A91: 2.4.8. | B91: Analizēt speciālistu un tehnoloģiju klāstu universitātes un IV līmeņa slimnīcās sirds mazspējas pacientu ārstēšanas nodrošināšanai | C91: Uzlabota sirds mazspējas pacientu ārstēšanu stacionārā | D91: Izstrādāta sirds mazspējas stacionārā programma un definētas prasības nepieciešamajam speciālistu un tehnoloģiju klāstam ātrākai sirds mazspējas pacienta veselības stāvokļa stabilizēšanai | E91: 45.01.00 Veselības aprūpes finansējuma administrēšana un ekonomiskā novērtēšana | F91: 0 | G91: 0 | I91: 0 | J91: 0 | K91: 0 | L91: 0 | M91: VM, NVD | N91: MVI KJ | O91: Esošā budžeta ietvaros | P91: 2026.gada II pusgads (turpmāk ik gadu)
A92: 2.4.9. | B92: Analizēt sirds ķirurģijas un asinsvadu ķirurģijas klīniku kapacitāti, kā arī pielietotās tehnoloģijas pacientu ārstēšanas uzlabošanai | C92: Izvērtēta jaunu tehnoloģiju nepieciešamība un aprēķināts finansējums sirds ķirurģijas un asinsvadu ķirurģijas pieejamības uzlabošanai | D92: Sagatavot priekšlikumi sirds ķirurģijas un asinsvadu ķirurģijas pieejamības uzlabošanai un kapacitātes stiprināšanai efektīvai pacientu ārstēšanas nodrošināšanai | E92: 45.01.00 Veselības aprūpes finansējuma administrēšana un ekonomiskā novērtēšana | F92: 0 | G92: 0 | I92: 0 | J92: 0 | K92: 0 | L92: 0 | M92: VM | N92: MVI KJ, LAĶB, LSĶA, LKB | O92: Esošā budžeta ietvaros | P92: 2027. gada II pusgads
A93: 2.4.10. | B93: Veicināt pāreju pieaugušo pacienta vecumā uz PSKUS ar bērnībā operētu kombinētu sirdskaiti | C93: Īstenots pilotprojekts pārejai ar bērnībā operētām kombinētām sirds kaitēm no BKUS uz PSKUS pieaugušo vecumā | D93: Izstrādāta ambulatorā programma ar nepieciešamo speciālistu un izmeklējumu klāstu pieaugušo pacientiem ar bērnībā operētu sirdskaiti | E93: 45.01.00 Veselības aprūpes finansējuma administrēšana un ekonomiskā novērtēšana | F93: 0 | G93: 0 | I93: 0 | J93: 0 | K93: 0 | L93: 0 | M93: VM | N93: MVI KJ, MVI pediatrijā, BKUS, LSĶB, NVD, LDVC | O93: Esošā budžeta ietvaros | P93: 2027.gada II pusgads (turpmāk ik gadu)
A94: 2.4.11. | B94: Definēt diabēta pēdas aprūpes specializētā centra funkcijas, nepieciešamo speciālistu un tehnoloģiju klāstu universitātes un reģionālās slimnīcās | C94: Izvērtēta jaunu tehnoloģiju nepieciešamība un aprēķināts finansējums cukura diabēta pacientiem ar diabēta pēdu, amputācijas vai invaliditātes riska samazināšanai | D94: Sagatavoti priekšlikumi diabēta pēdas aprūpei universitāšu un reģionālās slimnīcā, definētas speciālistu kvalifikācijas un nepieciešamo tehnoloģiju prasības | F94: 0 | G94: 0 | I94: 0 | J94: 0 | K94: 0 | L94: 0 | M94: VM, NVD | N94: RAKUS, PSKUS, reģionālās slimnīcas, LEA | O94: Esošā budžeta ietvaros | P94: 2027. gada II pusgads
A95: 2.5. Rehabilitācijas pakalpojumu pieejamības veicināšana | F95: =SUM(F96:F97) -> 0 | G95: =SUM(G96:G97) -> 0 | H95: =SUM(H96:H97) -> 0 | I95: =SUM(I96:I97) -> 0 | J95: =SUM(J96:J97) -> 0 | K95: =SUM(K96:K97) -> 0 | L95: =SUM(L96:L97) -> 0
A96: 2.5.1. | B96: Izvērtēt līdzšinējo rehabilitācijas pieejamību uzreiz pēc insulta/cerebrovaskulāras saslimšanas akūtā perioda | C96: Sasaistē ar 2.4.1. pasākumu veikta esošo insulta vienību kvalitātes prasību izpildes tematiskā pārbaude | D96: Sniegti priekšlikumi rehabilitācijas pieejamības uzlabošanai insulta/cerebrovaskulāras saslimšanas akūtā periodā | F96: 0 | G96: 0 | I96: 0 | J96: 0 | K96: 0 | L96: 0 | M96: VM | N96: BKUS, PSKUS, RAKUS, Nacionālais rehabilitācijas centrs "Vaivari” | O96: Esošā budžeta ietvaros | P96: 2027.gada II pusgads
A97: 2.5.2. | B97: Nodrošināt savlaicīgas rehabilitācijas pieejamību pacientiem ar iedzimtām SAS (SabVesPam 3.1.6.5.) | C97: Izvērtēta savlaicīgas rehabilitācijas pieejamība pacientiem ar iedzimtām SAS | D97: Sniegti priekšlikumi savlaicīgas rehabilitācijas saņemšanai pacientiem ar iedzimtām SAS | F97: 0 | G97: 0 | I97: 0 | J97: 0 | K97: 0 | L97: 0 | M97: VM | N97: MVI pediatrijā, MVI KJ, BKUS, PSKUS, nacionālais rehabilitācijas centrs "Vaivari” | O97: Esošā budžeta ietvaros | P97: 2027.gada II pusgads
A98: 2.6. Veselības aprūpes kvalitātes uzlabošana | F98: =SUM(F99:F101) -> 0 | G98: =SUM(G99:G101) -> 4235 | H98: =SUM(H99:H101) -> 0 | I98: =SUM(I99:I101) -> 0 | J98: =SUM(J99:J101) -> 0 | K98: =SUM(K99:K101) -> 0 | L98: =SUM(L99:L101) -> 0
A99: 2.6.1. | B99: Sekmēt kvalitatīvu ārstēšanu insulta, AKS, aritmiju un sirds mazspējas pacientiem | C99: Izvērtēti līdzšinējie un definēti kvalitātes kritēriji sekmīgai insulta, AKS, aritmiju un sirds mazspējas ārstēšanai | D99: Izstrādāti un atjaunoti kvalitatīvas ārstēšanas kritēriji AKS, aritmiju un sirds mazspēju saņemtās ārstēšanas novērtēšanai | E99: 46.03.00 "Slimību profilakses nodrošināšana" | F99: 0 | G99: 0 | I99: 0 | J99: 0 | K99: 0 | L99: 0 | M99: VM, NVD, SPKC | N99: MVI KJ, BKUS, PSKUS, RAKUS, Nacionālais rehabilitācijas centrs "Vaivari” | O99: Esošā budžeta ietvaros | P99: 2027.gada II pusgads
D100: Izstrādāti un atjaunoti kvalitatīvas ārstēšanas kritēriji insulta saņemtās ārstēšanas novērtēšanai | E100: 63.08.00 Eiropas Sociālā fonda Plus (ESF+) projektu īstenošana (2021-2027) | F100: 0 | G100: 4235 | I100: 0 | J100: 0 | K100: 0 | L100: 0 | M100: VM, NVD, SPKC | N100: BKUS, PSKUS, RAKUS, Nacionālais rehabilitācijas centrs "Vaivari”, LNB | O100: Eiropas Sociālā fonda Plus (ESF+) finansējums, Eiropas Savienības kohēzijas politikas programmas 2021.–2027.gadam 4.1.2.SAM "Uzlabot vienlīdzīgu un savlaicīgu piekļuvi kvalitatīviem, ilgtspējīgiem un izmaksu ziņā pieejamiem veselības aprūpes, veselības veicināšanas un slimību profilakses pakalpojumiem, uzlabojot veselības aprūpes sistēmu efektivitāti un izturētspēju” 4.1.2.7. pasākuma "Pilnveidot pacientu drošību un aprūpes kvalitāti" projektā "Pilnveidot pacientu drošību un aprūpes kvalitāti" (Nr. 4.1.2.7/1/24/I/001). Šobrīd nav zināms ar kādu finanšu apjomu rezultēsies plānotie 4.1.2.7. pasākuma "Pilnveidot pacientu drošību un aprūpes kvalitāti" projekta "Pilnveidot pacientu drošību un aprūpes kvalitāti" iepirkumi 2027.gadam, līdz ar to Sirds un asinsvadu veselības uzlabošanas rīcības plānā 2025.–2027. gadam, norādītais finansējuma apjoms var mainīties. | P100: 2027.gada II pusgads
A101: 2.6.2. | B101: Izvērtēt nāves cēloņa medicīnisko apliecību kvalitāti | C101: Realizēts Nāves cēloņa medicīnisko apliecību kvalitātes kontroles pētījums, nodrošinot rezultātu un iespējamo neatbilstību analīzi | D101: Veikts 1000 nejauši atlasītu nāves cēloņa medicīnisko apliecību kvalitātes kontroles pētījums par laika periodu 2025.gada 1.janvāris – 30.decembris un sniegti priekšlikumi pareiza (precizētā) nāves cēloņa formulēšanai | E101: 46.03.00 "Slimību profilakses nodrošināšana" | F101: 0 | G101: 0 | I101: 0 | J101: 0 | K101: 0 | L101: 0 | M101: SPKC | N101: MVI KJ, LĢĀA, LLĢĀA, LIB, LKB | O101: Esošā budžeta ietvaros | P101: 2027. gada II pusgads
A102: 3. Rīcības virziens | C102: Veselības aprūpes personāla zināšanu un prasmju pilnveidošana | F102: =SUM(F103) -> 0 | G102: =SUM(G103) -> 102608 | H102: =SUM(H103) -> 0 | I102: =SUM(I103) -> 0 | J102: =SUM(J103) -> 0 | K102: =SUM(K103) -> 0 | L102: =SUM(L103) -> 0
...

Sheet 1.1.2.
J1: Pielikums Nr.1.1.2.
A2: Sabiedrības informēšanas pasākumi pacientu līdzestības dienā par regulāras paškontroles veikšanu SAS profilaksei un negatīvās ietekmes uz veselību mazināšanai
A3: Pasākums | B3: Finansējums indikatīvi ar PVN, euro
B4: 2026.gads* | C4: 2027.gads*
A5: Sadarbībā ar veselības jomas speciālistiem un pacientu organizācijām īstenoti vismaz divi sabiedrības informēšanas pasākumi par regulāras paškontroles veikšanu SAS profilaksei un negatīvās ietekmes uz veselību mazināšanai. | B5: =15000*1.21 -> 18150 | C5: =15000*1.21 -> 18150
A6: Eiropas Sociālā fonda Plus (ESF+) finansējums, Eiropas Savienības kohēzijas politikas programmas 2021.–2027.gadam 4.1.2.SAM "Uzlabot vienlīdzīgu un savlaicīgu piekļuvi kvalitatīviem, ilgtspējīgiem un izmaksu ziņā pieejamiem veselības aprūpes, veselības veicināšanas un slimību profilakses pakalpojumiem, uzlabojot veselības aprūpes sistēmu efektivitāti un izturētspēju” 4.1.2.1. pasākuma "Nacionāla mēroga veselības veicināšanas un slimību profilakses pasākumi" projektā "Nacionāla mēroga veselības veicināšanas un slimību profilakses pasākumi" (Nr.4.1.2.1./1/24/I/001). Šobrīd nav zināms ar kādu finanšu apjomu rezultēsies plānotie 4.1.2.1. pasākuma "Nacionāla mēroga veselības veicināšanas un slimību profilakses pasākumi" projekta "Nacionāla mēroga veselības veicināšanas un slimību profilakses pasākumi" iepirkumi 2027.gadam, līdz ar to Sirds un asinsvadu veselības uzlabošanas rīcības plānā 2025.–2027. gadam, norādītais finansējuma apjoms var mainīties.
A10: Sabiedrības informēšanas pasākumi pacientu līdzestības dienā par regulāras paškontroles veikšanu SAS profilaksei un negatīvās ietekmes uz veselību mazināšanai
B11: Pasākums | C11: Darbības rezultāts | D11: Rezultatīvais rādītājs | E11: Plānotie nodevumi | F11: Plānoto nodevumu skaits | G11: Vienas vienības summa bez PVN, euro | H11: KOPĀ bez PVN, euro | I11: PVN likme (%) | J11: Vienas vienības summa ar PVN, euro | K11: KOPĀ ar PVN, euro*
A12: Sabiedrības informēšanas pasākumi | B12: Sadarbībā ar veselības jomas speciālistiem un pacientu organizācijām īstenoti vismaz divi sabiedrības informēšanas pasākumi par regulāras paškontroles veikšanu SAS profilaksei un negatīvās ietekmes uz veselību mazināšanai. | E12: Pasākums | F12: 2 | G12: 15000 | H12: =F12*G12 -> 30000 | I12: 21 | J12: =G12*1.21 -> 18150 | K12: =F12*J12 -> 36300
H13: =SUM(H12:H12) -> 30000 | K13: =SUM(K12:K12) -> 36300
A14: Eiropas Sociālā fonda Plus (ESF+) finansējums, Eiropas Savienības kohēzijas politikas programmas 2021.–2027.gadam 4.1.2.SAM "Uzlabot vienlīdzīgu un savlaicīgu piekļuvi kvalitatīviem, ilgtspējīgiem un izmaksu ziņā pieejamiem veselības aprūpes, veselības veicināšanas un slimību profilakses pakalpojumiem, uzlabojot veselības aprūpes sistēmu efektivitāti un izturētspēju” 4.1.2.1. pasākuma "Nacionāla mēroga veselības veicināšanas un slimību profilakses pasākumi" projektā "Nacionāla mēroga veselības veicināšanas un slimību profilakses pasākumi" (Nr.4.1.2.1./1/24/I/001). Šobrīd nav zināms ar kādu finanšu apjomu rezultēsies plānotie 4.1.2.1. pasākuma "Nacionāla mēroga veselības veicināšanas un slimību profilakses pasākumi" projekta "Nacionāla mēroga veselības veicināšanas un slimību profilakses pasākumi" iepirkumi 2027.gadam, līdz ar to Sirds un asinsvadu veselības uzlabošanas rīcības plānā 2025.–2027. gadam, norādītais finansējuma apjoms var mainīties.

Sheet 1.1.5.
G1: Pielikums Nr.1.1.5.
A2: Riska grupu vakcinācija pret pneimokoku infekciju
A4: Apakšprogrammas nosaukums | C4: Esošais finansējums | D4: Papildus nepieciešamais finansējums indikatīvi 2027.gadam | E4: Papildus nepieciešamais finansējums indikatīvi 2028.gadam (ar 5% pieaugumu vakcīnām pret iepriekšējo gadu) | F4: Papildu nepieciešamais finansējums indikatīvi 2029.gadam (ar 5% pieaugumu vakcīnām pret iepriekšējo gadu) | G4: Papildus nepieciešamais finansējums indikatīvi turpmāk ik gadu (ja pasākums nav terminēts) (ar 5% pieaugumu vakcīnām pret iepriekšējo gadu)
A5: 33.04.00 Centralizēta medikamentu un materiālu iegāde | C5: 0 | D5: =SUM(F21) -> 1028720 | E5: =D5*1.05 -> 1080156 | F5: =E5*1.05 -> 1134163.8 | G5: =F5*1.05 -> 1190872
A6: 33.14.00 Primārās ambulatorās veselības aprūpes nodrošināšana | C6: 0 | D6: =SUM(F22) -> 177354 | E6: =SUM(D6) -> 177354 | F6: =SUM(E6) -> 177354 | G6: =SUM(F6) -> 177354
A8: Papildus nepieciešamais finansējums 2027.gadam un turpmāk ik gadu
A9: Riska grupa | B9: Unikālo pacientu skaits 2024. gadā* | C9: Nepieciešamais devu skaits (prognozējamā atsaucība - 50%) | D9: Cena ar PVN** | E9: Apskate un vakcīnu ievade | F9: Kopā ar PVN
A10: 1.1.augsta riska kardioloģijas pacienti: | B10: =B11+B12+B13 -> 47018 | C10: =SUM(C11:C13) -> 23510 | D10: 30.8 | E10: 5.31 | F10: =SUM(C10*D10+(C10*E10)) -> 848946.1
A11: I50 personas ar sirds mazspēju | B11: 42703 | C11: =ROUNDUP(B11*0.5,0) -> 21352
A12: Q20–Q25 persoas ar iedzimtu sirds defektu | B12: 987 | C12: =ROUNDUP(B12*0.5,0) -> 494
A13: M05–M08, M30–M36, M79.0 personas ar reimatiskajām slimībām | B13: 3328 | C13: =ROUNDUP(B13*0.5,0) -> 1664
A14: 1.2.augsta riska plaušu slimību pacienti: | B14: =B15+B16+B17+B18 -> 19780 | C14: =SUM(C15:C18) -> 9890 | D14: 30.8 | E14: 5.31 | F14: =SUM(C14*D14+(C14*E14)) -> 357127.9
A15: J44 personas ar citu hronisku obstruktīvu plaušu slimību | B15: 7450 | C15: =ROUNDUP(B15*0.5,0) -> 3725
A16: J45-J46 personas ar bronhiālo astmu | B16: 11478 | C16: =ROUNDUP(B16*0.5,0) -> 5739
A17: E84 personas ar cistisko fibrozi | B17: 36 | C17: =ROUNDUP(B17*0.5,0) -> 18
A18: J47 personas ar bronhektāziju | B18: 816 | C18: =ROUNDUP(B18*0.5,0) -> 408
A19: Datu avots: SPKC Ar noteiktām slimībām slimojošu pacientu reģistrs | D19: Kopā: | F19: =ROUND(F10+F14,0) -> 1206074
D20: tai skaitā:
E21: Budžeta apakšprogramma 33.04.00 | F21: =ROUND(SUM(C14+C10)*D14,0) -> 1028720
E22: Budžeta apakšprogramma 33.14.00 | F22: =ROUND(SUM(C14+C10)*E14,0) -> 177354
A23: *Slimību profilakses un kontroles centra rīcībā esoši Nacionālā veselības dienesta dati par valsts apmaksātiem veselības aprūpes pakalpojumiem. Datu avots: Veselības aprūpes kvalitātes un efektivitātes monitorēšanas sistēma.
A24: *attiecīgās diagnozes gan stacionārās, gan ambulatorās (izņemot palīgkabinetu apmeklējumiem) pamata vai papilddiagnozes.
A26: **PCV15 cena ar PVN (ieskaitot manipulāciju) atbilstoši NVD iepirkumam par vakcīnu un šļirču piegādi 2024. un 2025.gadam
A27: Cena no iepirkuma bez PVN | B27: 25
A28: Sadārdzinājums +10% | B28: 27.5
A29: Cena ar PVN | B29: 30.8
A30: Manipulācija | B30: 5.31
A31: Vakc.+ manip. | B31: 36.11

Sheet 1.1.4.1.
F1: Pielikums Nr.1.1.4.1.
A3: Valsts apmaksāto devu skaitu riska grupu vakcinācijai pret gripu pieejamības nodrošināšana
A5: Apakšprogrammas nosaukums | C5: Papildus nepieciešamais finansējums indikatīvi 2027.gadam | D5: Papildus nepieciešamais finansējums indikatīvi 2028.gadam | E5: Papildu nepieciešamais finansējums indikatīvi 2029.gadam | F5: Papildus nepieciešamais finansējums indikatīvi turpmāk ik gadu (ja pasākums nav terminēts)
A6: 33.04.00 Centralizēta medikamentu un materiālu iegāde | C6: =SUM(F26) -> 1625170 | D6: =SUM(F44) -> 1826238 | E6: =SUM(F64) -> 2038011.9 | F6: =SUM(E6) -> 2038011.9
A7: 33.14.00 Primārās ambulatorās veselības aprūpes nodrošināšana | C7: =SUM(F27) -> 167371 | D7: =SUM(F45) -> 167371 | E7: =SUM(F65) -> 167371.2 | F7: =SUM(E7) -> 167371.2
A10: 2027.gads
A11: Sezona | B11: Vakcīnas tips | C11: Vakcīnu skaits | D11: Cena ar PVN | E11: Apskate un vakcīnu ievade | F11: Kopā ar PVN
A12: 2026/2027 | B12: Intranazālā (Fluenz) | C12: 6816 | D12: 30.26 | E12: 5.31 | F12: =SUM(C12*D12)+E12*C12 -> 242445.12
B13: Augstas devas (Efluelda vai Fluad) | C13: 78366 | D13: 42.69 | E13: 5.31 | F13: =SUM(C13*D13)+E13*C13 -> 3761568
B14: Standarta (influvac) | C14: 76958 | D14: 6.19 | E14: 5.31 | F14: =SUM(C14*D14)+E14*C14 -> 885017
C15: Kopā: | F15: =SUM(F12:F14) -> 4889030.1
C16: no tā:
C17: Budžeta apakšprogramma 33.04.00 | F17: =SUM(C12*D12)+(C13*D13)+(C14*D14) -> 4028066.7
C18: Budžeta apakšprogramma 33.14.00 | F18: =SUM(C12+C13+C14)*E12 -> 860963.4
C20: Bāzes finansējums
C21: Budžeta apakšprogramma 33.04.00 | F21: 2402897
C22: Budžeta apakšprogramma 33.14.00 | F22: =130620*E12 -> 693592.2
C24: Papildu nepieciešamais finansējums 2026.gadam: | F24: =ROUND(SUM(F15)-F21-F22,0) -> 1792541
C25: no tā:
C26: Budžeta apakšprogramma 33.04.00 | F26: =ROUND(SUM(F17-F21),0) -> 1625170
C27: Budžeta apakšprogramma 33.14.00 | F27: =ROUND(SUM(F18-F22),0) -> 167371
A29: 2028.gads
A30: Sezona | B30: Vakcīnas tips | C30: Vakcīnu skaits | D30: Cena ar PVN* | E30: Apskate un vakcīnu ievade | F30: Kopā ar PVN
A31: 2027/2028 | B31: Intranazālā (Fluenz) | C31: 6816 | D31: 31.77 | E31: 5.31 | F31: =SUM(C31*D31)+E31*C31 -> 252737.28
B32: Augstas devas (Efluelda vai Fluad) | C32: 78366 | D32: 44.82 | E32: 5.31 | F32: =SUM(C32*D32)+E32*C32 -> 3928487.6
B33: Standarta (influvac) | C33: 76958 | D33: 6.5 | E33: 5.31 | F33: =SUM(C33*D33)+E33*C33 -> 908873.98
A34: Kopā: | F34: =SUM(F31:F33) -> 5090098.8
C35: no tā:
C36: Budžeta apakšprogramma 33.04.00 | F36: =SUM(C31*D31)+(C32*D32)+(C33*D33) -> 4229135.4
C37: Budžeta apakšprogramma 33.14.00 | F37: =SUM(C31+C32+C33)*E31 -> 860963.4
C38: Bāzes finansējums
C39: Budžeta apakšprogramma 33.04.00 | F39: 2402897
C40: Budžeta apakšprogramma 33.14.00 | F40: =130620*E31 -> 693592.2
C42: Papildu nepieciešamais finansējums 2027.gadam: | F42: =ROUND(SUM(F34)-F39-F40,0) -> 1993610
C43: no tā:
C44: Budžeta apakšprogramma 33.04.00 | F44: =ROUND(SUM(F36-F39),0) -> 1826238
C45: Budžeta apakšprogramma 33.14.00 | F45: =ROUND(SUM(F37-F40),0) -> 167371
A47: * cenai piemērots koeficients 1.05, jo ik gadu pieaug gripas vakcīnas cena
A49: 2029.gads un turpmāk ik gadu
A50: Sezona | B50: Vakcīnas tips | C50: Vakcīnu skaits | D50: Cena ar PVN | E50: Apskate un vakcīnu ievade | F50: Kopā ar PVN
A51: 2028/2029 | B51: Intranazālā (Fluenz) | C51: 6816 | D51: 33.36 | E51: 5.31 | F51: =SUM(C51*D51)+E51*C51 -> 263574.72
B52: Augstas devas (Efluelda vai Fluad) | C52: 78366 | D52: 47.06 | E52: 5.31 | F52: =SUM(C52*D52)+E52*C52 -> 4104027.4
B53: Standarta (influvac) | C53: 76958 | D53: 6.83 | E53: 5.31 | F53: =SUM(C53*D53)+E53*C53 -> 934270.12
C54: Kopā: | F54: =SUM(F51:F53) -> 5301872.3
C55: no tā:
C56: Budžeta apakšprogramma 33.04.00 | F56: =SUM(C51*D51)+(C52*D52)+(C53*D53) -> 4440908.9
C57: Budžeta apakšprogramma 33.14.00 | F57: =SUM(C53+C51+C52)*E51 -> 860963.4
C58: Bāzes finansējums
C59: Budžeta apakšprogramma 33.04.00 | F59: 2402897
C60: Budžeta apakšprogramma 33.14.00 | F60: =130620*E51 -> 693592.2
C62: Papildu nepieciešamais finansējums 2028.gadam un turpmākik gadu: | F62: =SUM(F54)-F59-F60 -> 2205383.1
C63: no tā:
C64: Budžeta apakšprogramma 33.04.00 | F64: =SUM(F56-F59) -> 2038011.9
C65: Budžeta apakšprogramma 33.14.00 | F65: =SUM(F57-F60) -> 167371.2
A67: * cenai piemērots koeficients 1.05, jo ik gadu pieaug gripas vakcīnas cena

Sheet 2.1.2.1.
J1: Pielikums Nr.2.1.2.1.
C2: Cukura diabēta un prediabēta skrīninga programmas paplašinājums
A4: Apakšprogrammas nosaukums | B4: Esošais finansējums | C4: Papildus nepieciešamais finansējums indikatīvi 2027. gadam | D4: Papildus nepieciešamais finansējums indikatīvi 2028. gadam | E4: Papildus nepieciešamais finansējums indikatīvi 2029. gadam un turpmāk ik gadu (ja pasākums nav terminēts)
A5: 33.15.00 Laboratorisko izmeklējumu nodrošināšana ambulatorajā aprūpē | B5: =(C10*C26)+(C11*C32)+(C12*G26) -> 80094.4 | C5: =F10+F11+F12 -> 45675.9 | D5: =H10+H11+H12 -> 54177.2 | E5: =J10+J11+J12 -> 63723.05
A9: Manipulācijas nosaukums | B9: Manipulācijas kods | C9: Tarifs, euro | D9: Plānotais manipulāciju skaits pacientam gadā | E9: Plānotais pacientu skaits 2027. gadā, ja atsaucība ir 50 % | F9: Papildus nepieciešamais finansējums indikatīvi 2027. gadā, ja atsaucība ir 50 %, euro | G9: Plānotais pacientu skaits 2028. gadā, ja atsaucība ir 55 % | H9: Papildus nepieciešamais finansējums indikatīvi 2028. gadā, ja atsaucība ir 55 %, euro | I9: Plānotais pacientu skaits 2029. gadam un turpmāk ik gadu, ja atsaucība ir 60 % | J9: Papildus nepieciešamais finansējums indikatīvi 2029. gadā un turpmāk ik gadu, ja atsaucība ir 60 %, euro
A10: Glikoze asinīs | B10: 41095 | C10: 1.15 | D10: 1 | E10: =ROUND(B16*0.5,0)-C26 -> 27430 | F10: =C10*D10*E10 -> 31544.5 | G10: =ROUND(B16*0.55,0)-C26 -> 34600 | H10: =G10*C10 -> 39790 | I10: =ROUND(B16*0.6,0)-C26 -> 41771 | J10: =I10*C10 -> 48036.65
A11: Glikozes slodzes tests* | B11: 41096 | C11: 6.6 | D11: 1 | E11: =ROUND(((B16-C32)*0.016)*0.5,0) -> 1129 | F11: =C11*E11*D11 -> 7451.4 | G11: =ROUND(((B16-C32)*0.016)*0.55,0) -> 1242 | H11: =G11*C11 -> 8197.2 | I11: =ROUND(((B16-C32)*0.016)*0.6,0) -> 1354 | J11: =C11*I11 -> 8936.4
A12: Glikohemoglobīns** | B12: 41103, 41104, 41105 | C12: 5 | D12: 1 | E12: =ROUND(((B16-G26)*0.019)*0.5,0) -> 1336 | F12: =C12*D12*E12 -> 6680 | G12: =ROUND(((B16-G26)*0.016)*0.55,0) -> 1238 | H12: =G12*C12 -> 6190 | I12: =ROUND(((B16-G26)*0.016)*0.6,0) -> 1350 | J12: =I12*C12 -> 6750
A13: *0.016 - iedzīvotāju skaits (vecuma grupā no 35-39 gadi) pret veikto manipulāciju 41096 | F13: =F10+F11+F12 -> 45675.9 | H13: =H10+H11+H12 -> 54177.2 | J13: =J10+J11+J12 -> 63723.05
A14: ** 0.019 - iedzīvotāju skaits (vecuma grupā no 35-39 gadi) pret veiktajām manipulācijām 41103, 41104, 41105
A16: Iedzīvotāju skaits vecuma grupā 35-39 gadi | B16: 143411
A17: 10 % iedzīvotāju skaita vecuma grupā 35-39 gadi | B17: =ROUND(0.1*143411,0) -> 14341
A19: 2024. gadā unikālajaiem pacientiem veiktais manipulāciju skaits vecuma grupās | E19: 2024. gadā unikālajiem pacientiem veiktais manipulāciju skaits vecuma grupās
A20: Manipulācijas kods | B20: Vecums | C20: Unikālo pacientu skaits | E20: Manipulācijas kods | F20: Vecums | G20: Unikālo pacientu skaits
A21: 41095 | B21: 35 | C21: 8136 | E21: 41103+41104+41105 | F21: 35 | G21: 489
B22: 36 | C22: 8750 | F22: 36 | G22: 553
B23: 37 | C23: 9210 | F23: 37 | G23: 610
B24: 38 | C24: 9135 | F24: 38 | G24: 561
B25: 39 | C25: 9045 | F25: 39 | G25: 560
B26: Kopā | C26: =SUM(C21:C25) -> 44276 | F26: Kopā | G26: =SUM(G21:G25) -> 2773
A27: 41096 | B27: 35 | C27: 552
B28: 36 | C28: 528
B29: 37 | C29: 455
B30: 38 | C30: 411
B31: 39 | C31: 374
B32: Kopā | C32: =SUM(C27:C31) -> 2320

Sheet 2.1.2.2
K1: Pielikums Nr.2.1.2.2.
A2: Izstrādāts savlaicīga cukura diabēta diagnostikas algoritms, kā arī pacienta ceļš diagnostikai
A3: Pasākums | B3: Finansējums indikatīvi ar PVN, euro
B4: 2026.gads* | C4: 2027.gads*
A5: Izstrādāts savlaicīga cukura diabēta diagnostikas algoritms, kā arī pacienta ceļš diagnostikai | B5: =30000*1.21 -> 36300 | C5: 0
A6: *Eiropas Sociālā fonda (ESF+) finansējums, 2021.-2027.gada plānošanas perioda Darbības programmas 4.1.2.SAM "Uzlabot vienlīdzīgu un savlaicīgu piekļuvi kvalitatīviem, ilgtspējīgiem un izmaksu ziņā pieejamiem veselības aprūpes, veselības veicināšanas un slimību profilakses pakalpojumiem, uzlabojot veselības aprūpes sistēmu efektivitāti un izturētspēju” 4.1.2.7. pasākums "Pilnveidot pacientu drošību un aprūpes kvalitāti"
A10: Izstrādāts savlaicīga cukura diabēta diagnostikas algoritms, kā arī pacienta ceļš diagnostikai
B11: Pasākums | C11: Darbības rezultāts | D11: Rezultatīvais rādītājs | E11: Plānotie nodevumi | F11: Plānoto nodevumu skaits | G11: Vienas vienības summa bez PVN, euro | H11: KOPĀ bez PVN, euro | I11: PVN likme (%) | J11: Vienas vienības summa ar PVN, euro | K11: KOPĀ ar PVN, euro*
A12: Algoritmi | B12: Izstrādāts savlaicīga cukura diabēta diagnostikas algoritms, kā arī pacienta ceļš diagnostikai | E12: Algoritms | F12: 1 | G12: 13950 | H12: =F12*G12 -> 13950 | I12: 21 | J12: =G12*1.21 -> 16879.5 | K12: =F12*J12 -> 16879.5
E13: Ceļš | F13: 1 | G13: 13950 | H13: =F13*G13 -> 13950 | I13: 21 | J13: =G13*1.21 -> 16879.5 | K13: =F13*J13 -> 16879.5
E14: Indikators | F14: 3 | G14: 700 | H14: =F14*G14 -> 2100 | I14: 21 | J14: =G14*1.21 -> 847 | K14: =F14*J14 -> 2541
H15: =SUM(H12:H14) -> 30000 | K15: =SUM(K12:K14) -> 36300
A16: *Eiropas Sociālā fonda (ESF+) finansējums, 2021.-2027.gada plānošanas perioda Darbības programmas 4.1.2.SAM "Uzlabot vienlīdzīgu un savlaicīgu piekļuvi kvalitatīviem, ilgtspējīgiem un izmaksu ziņā pieejamiem veselības aprūpes, veselības veicināšanas un slimību profilakses pakalpojumiem, uzlabojot veselības aprūpes sistēmu efektivitāti un izturētspēju” 4.1.2.7. pasākums "Pilnveidot pacientu drošību un aprūpes kvalitāti"

Sheet 2.1.5.1.
M1: Pielikums Nr.2.1.5.1.
B2: Lipoproteīna (a) noteikšana pacientiem no 40-75 gadiem vienreiz mūžā
A4: Apakšprogrammas nosaukums | B4: Esošais finansējums* | C4: Papildus nepieciešamais finansējums indikatīvi 2027.gadam | D4: Papildus nepieciešamais finansējums indikatīvi 2028.gadam | E4: Papildus nepieciešamais finansējums indikatīvi 2029. gadam | F4: Papildus nepieciešamais finansējums indikatīvi 2030. gadam un turpmāk ik gadu (ja pasākums nav terminēts)
A5: 33.15.00 Laboratorisko izmeklējumu nodrošināšana ambulatorajā aprūpē | B5: =ROUND(C12*88,0) -> 356 | C5: =ROUND(G12,0) -> 756702 | D5: =ROUND(I12,0) -> 544105 | E5: =ROUND(K12,0) -> 398164 | F5: =ROUND(M12,0) -> 297436
A7: * 2024. gadā Lipoproteīna (a) analīze veikta 88 reizes
A11: Manipulācijas kods | B11: Manipulācijas nosaukums | C11: Manip. tarifs, eiro | D11: Pacienta līdmaksājums, eiro | E11: Plānotais manipulāciju skaits vienam pacientam gadā | F11: Plānotais ambulatoro pacientu skaits 2027. gadam* | G11: Papildus nepieciešamais finansējums indikatīvi 2027. gadā, euro | H11: Plānotais ambulatoro pacientu skaits 2028. gadam* | I11: Papildus nepieciešamais finansējums indikatīvi 2028. gadā, euro | J11: Plānotais ambulatoro pacientu skaits 2029. gadam un turpmāk ik gadu* | K11: Papildus nepieciešamais finansējums indikatīvi 2029.gadā un turpmāk ik gadu, euro | L11: Plānotais ambulatoro pacientu skaits 2030. gadam | M11: Papildus nepieciešamais finansējums indikatīvi 2030.gadā, euro
A12: 41051 | B12: Lipoproteīns (a) | C12: 4.05 | D12: =P9 -> 0 | E12: 1 | F12: =C16 -> 186840 | G12: =F12*C12 -> 756702 | H12: =C17 -> 134347 | I12: =ROUND(H12*C12,0) -> 544105 | J12: =C18 -> 98312 | K12: =ROUND(J12*C12,0) -> 398164 | L12: =C19 -> 73441 | M12: =L12*C12 -> 297436.05
A13: * pieņemot, ka atsaucība būtu 30 % ik gadu
A15: Gads | B15: Vecums 2025. gadā | C15: Pacientu skaits | D15: Finansējums
A16: 2027 | B16: 39-74 gadi | C16: =SUM(E29:E64) -> 186840 | D16: =$C$12*C16 -> 756702
A17: 2028 | B17: 38-73 gadi | C17: =SUM(G29:G63)+E28 -> 134347 | D17: =$C$12*C17 -> 544105.35 | E17: 38 gadus veci pacienti nebūs testējušies 2027. gadā, tāpēc pieskaitīti 30 % par 2027. gadu
A18: 2029 | B18: 37-72 gadi | C18: =SUM(I29:I62)+G28+E27 -> 98312 | D18: =$C$12*C18 -> 398163.6 | E18: 37 gadus veci pacienti nebūs testējušies 2027. un 2028. gadā, tāpēc pieskaitīti 30 % par 2027. gadu, 38 gadus veci pacienti pirmo reizi testēti 2028. gadā, tāpēc pieskaitīti 30 % par 2028. gadu
A19: 2030 | B19: 36-71 gadi | C19: =SUM(K29:K61)+I28+G27+E26 -> 73441 | D19: =$C$12*C19 -> 297436.05
A23: 2025. gada statistikas dati no data.stat.gov.lv | C23: 2026 | E23: 2027 | G23: 2028 | I23: 2029 | K23: 2030
C24: 0.3 | D24: 0.7 | E24: 0.3 | F24: 0.7 | G24: 0.3 | H24: 0.7 | I24: 0.3 | J24: 0.7 | K24: 0.3 | L24: 0.7
A25: 35 gadi | B25: 27470 | C25: =ROUND(B25*0.3,0) -> 8241 | D25: =B25-C25 -> 19229 | E25: =ROUND(D25*0.3,0) -> 5769 | F25: =D25-E25 -> 13460 | G25: =ROUND(F25*0.3,0) -> 4038 | H25: =F25-G25 -> 9422 | I25: =ROUND(H25*0.3,0) -> 2827 | J25: =H25-I25 -> 6595 | K25: =ROUND(J25*0.3,0) -> 1979 | L25: =J25-K25 -> 4616
A26: 36 gadi | B26: 28696 | C26: =ROUND(B26*0.3,0) -> 8609 | D26: =B26-C26 -> 20087 | E26: =ROUND(D26*0.3,0) -> 6026 | F26: =D26-E26 -> 14061 | G26: =ROUND(F26*0.3,0) -> 4218 | H26: =F26-G26 -> 9843 | I26: =ROUND(H26*0.3,0) -> 2953 | J26: =H26-I26 -> 6890 | K26: =ROUND(J26*0.3,0) -> 2067 | L26: =J26-K26 -> 4823
A27: 37 gadi | B27: 29540 | C27: =ROUND(B27*0.3,0) -> 8862 | D27: =B27-C27 -> 20678 | E27: =ROUND(D27*0.3,0) -> 6203 | F27: =D27-E27 -> 14475 | G27: =ROUND(F27*0.3,0) -> 4343 | H27: =F27-G27 -> 10132 | I27: =ROUND(H27*0.3,0) -> 3040 | J27: =H27-I27 -> 7092 | K27: =ROUND(J27*0.3,0) -> 2128 | L27: =J27-K27 -> 4964
A28: 38 gadi | B28: 29410 | C28: =ROUND(B28*0.3,0) -> 8823 | D28: =B28-C28 -> 20587 | E28: =ROUND(D28*0.3,0) -> 6176 | F28: =D28-E28 -> 14411 | G28: =ROUND(F28*0.3,0) -> 4323 | H28: =F28-G28 -> 10088 | I28: =ROUND(H28*0.3,0) -> 3026 | J28: =H28-I28 -> 7062 | K28: =ROUND(J28*0.3,0) -> 2119 | L28: =J28-K28 -> 4943
A29: 39 gadi | B29: 28295 | C29: =ROUND(B29*0.3,0) -> 8489 | D29: =B29-C29 -> 19806 | E29: =ROUND(D29*0.3,0) -> 5942 | F29: =D29-E29 -> 13864 | G29: =ROUND(F29*0.3,0) -> 4159 | H29: =F29-G29 -> 9705 | I29: =ROUND(H29*0.3,0) -> 2912 | J29: =H29-I29 -> 6793 | K29: =ROUND(J29*0.3,0) -> 2038 | L29: =J29-K29 -> 4755
A30: 40 gadi | B30: 28492 | C30: =ROUND(B30*0.3,0) -> 8548 | D30: =B30-C30 -> 19944 | E30: =ROUND(D30*0.3,0) -> 5983 | F30: =D30-E30 -> 13961 | G30: =ROUND(F30*0.3,0) -> 4188 | H30: =F30-G30 -> 9773 | I30: =ROUND(H30*0.3,0) -> 2932 | J30: =H30-I30 -> 6841 | K30: =ROUND(J30*0.3,0) -> 2052 | L30: =J30-K30 -> 4789
A31: 41 gads | B31: 28566 | C31: =ROUND(B31*0.3,0) -> 8570 | D31: =B31-C31 -> 19996 | E31: =ROUND(D31*0.3,0) -> 5999 | F31: =D31-E31 -> 13997 | G31: =ROUND(F31*0.3,0) -> 4199 | H31: =F31-G31 -> 9798 | I31: =ROUND(H31*0.3,0) -> 2939 | J31: =H31-I31 -> 6859 | K31: =ROUND(J31*0.3,0) -> 2058 | L31: =J31-K31 -> 4801
A32: 42 gadi | B32: 26507 | C32: =ROUND(B32*0.3,0) -> 7952 | D32: =B32-C32 -> 18555 | E32: =ROUND(D32*0.3,0) -> 5567 | F32: =D32-E32 -> 12988 | G32: =ROUND(F32*0.3,0) -> 3896 | H32: =F32-G32 -> 9092 | I32: =ROUND(H32*0.3,0) -> 2728 | J32: =H32-I32 -> 6364 | K32: =ROUND(J32*0.3,0) -> 1909 | L32: =J32-K32 -> 4455
A33: 43 gadi | B33: 25656 | C33: =ROUND(B33*0.3,0) -> 7697 | D33: =B33-C33 -> 17959 | E33: =ROUND(D33*0.3,0) -> 5388 | F33: =D33-E33 -> 12571 | G33: =ROUND(F33*0.3,0) -> 3771 | H33: =F33-G33 -> 8800 | I33: =ROUND(H33*0.3,0) -> 2640 | J33: =H33-I33 -> 6160 | K33: =ROUND(J33*0.3,0) -> 1848 | L33: =J33-K33 -> 4312
A34: 44 gadi | B34: 25200 | C34: =ROUND(B34*0.3,0) -> 7560 | D34: =B34-C34 -> 17640 | E34: =ROUND(D34*0.3,0) -> 5292 | F34: =D34-E34 -> 12348 | G34: =ROUND(F34*0.3,0) -> 3704 | H34: =F34-G34 -> 8644 | I34: =ROUND(H34*0.3,0) -> 2593 | J34: =H34-I34 -> 6051 | K34: =ROUND(J34*0.3,0) -> 1815 | L34: =J34-K34 -> 4236
A35: 45 gadi | B35: 24571 | C35: =ROUND(B35*0.3,0) -> 7371 | D35: =B35-C35 -> 17200 | E35: =ROUND(D35*0.3,0) -> 5160 | F35: =D35-E35 -> 12040 | G35: =ROUND(F35*0.3,0) -> 3612 | H35: =F35-G35 -> 8428 | I35: =ROUND(H35*0.3,0) -> 2528 | J35: =H35-I35 -> 5900 | K35: =ROUND(J35*0.3,0) -> 1770 | L35: =J35-K35 -> 4130
A36: 46 gadi | B36: 24172 | C36: =ROUND(B36*0.3,0) -> 7252 | D36: =B36-C36 -> 16920 | E36: =ROUND(D36*0.3,0) -> 5076 | F36: =D36-E36 -> 11844 | G36: =ROUND(F36*0.3,0) -> 3553 | H36: =F36-G36 -> 8291 | I36: =ROUND(H36*0.3,0) -> 2487 | J36: =H36-I36 -> 5804 | K36: =ROUND(J36*0.3,0) -> 1741 | L36: =J36-K36 -> 4063
... A65: 75 gadi | B65: 18467 | C65: =ROUND(B65*0.3,0) -> 5540 | D65: =B65-C65 -> 12927 | E65: =ROUND(D65*0.3,0) -> 3878 | F65: =D65-E65 -> 9049 | G65: =ROUND(F65*0.3,0) -> 2715 | H65: =F65-G65 -> 6334 | I65: =ROUND(H65*0.3,0) -> 1900 | J65: =H65-I65 -> 4434 | K65: =ROUND(J65*0.3,0) -> 1330 | L65: =J65-K65 -> 3104

Sheet 2.1.5.2.
H1: Pielikums Nr.2.1.5.2.
C2: Attīstīts ģimenes hiperholisterinēmijas komandas pakalpojums
A4: Apakšprogrammas nosaukums | B4: Esošais finansējums | C4: Papildus nepieciešamais finansējums indikatīvi 2027. gadam | D4: Papildus nepieciešamais finansējums indikatīvi 2028. gadam | E4: Papildus nepieciešamais finansējums indikatīvi 2029. gadam un turpmāk ik gadu (ja pasākums nav terminēts)
A5: 33.16.00 Pārējo ambulatoro veselības aprūpes pakalpojumu nodrošināšana | B5: 0 | C5: =H14+E19 -> 73945.15 | D5: =SUM(H14+G19) -> 87285.15 | E5: =D5 -> 87285.15
B8: Ārsts | C8: Māsa | D8: Palīgpersonāls | E8: Soc.nodoklis
A9: Mēneša darba samaksa | B9: 2304 | C9: 1388 | D9: 925
A10: 1 minūtes vērtība darba samaksai | B10: =ROUND(B9/9600,4) -> 0.24 | C10: =ROUND(C9/9600,4) -> 0.1446 | D10: =ROUND(D9/9600,4) -> 0.0964 | E10: 0.2359
A12: Koordinators
A13: Slodze | C13: Alga mēnesī* | D13: Soc. nodoklis | E13: Alga ar soc. nodokli mēnesī | F13: Alga gadā | G13: Soc. nodoklis gadā | H13: Alga ar soc. nodokli gadā
A14: 1 | C14: =C9 -> 1388 | D14: =ROUND(C14*E10,2) -> 327.43 | E14: =C14+D14 -> 1715.43 | F14: =C14*12 -> 16656 | G14: =F14*E10 -> 3929.1504 | H14: =F14+G14 -> 20585.15
A15: *koordinatoram tiek piemērota māsas alga
A17: Aprūpes epizodes
A18: Specialitāte | C18: Aprūpes epizodes tarifs | D18: 2027.gada pacientu skaits | E18: Izmaksas 2027.gadā | F18: 2028.gadā un turpmāk ik gadu pacientu skaits | G18: Izmaksas 2028. gadā un turpmāk ik gadu
A19: Kardiologs | C19: 26.68 | D19: 2000 | E19: =C19*D19 -> 53360 | F19: 2500 | G19: =SUM(F19*C19) -> 66700
A20: **16 pacienti dienā, gadā 254 darba dienas

Sheet 2.1.5.3.
C1: Pielikums Nr. 2.1.5.3.
A2: Izstrādāts ģimenes hiperholisterinēmijas un citu smagu primāru vai komplicētu hiperlipidēmiju pacientu novērtēšanu, diagnostikas algoritms, kā arī pacienta ceļš un kvalitātes indikatori diagnostikai
A3: Pasākums | B3: Finansējums indikatīvi ar PVN, euro
B4: 2026.gads* | C4: 2027.gads*
A5: Izstrādāts ģimenes hiperholisterinēmijas un citu smagu primāru vai komplicētu hiperlipidēmiju pacientu novērtēšanu, diagnostikas algoritms, kā arī pacienta ceļš un kvalitātes indikatori diagnostikai | C5: =30000*1.21 -> 36300
A6: *Eiropas Sociālā fonda Plus (ESF+) finansējums, Eiropas Savienības kohēzijas politikas programmas 2021.–2027.gadam 4.1.2.SAM "Uzlabot vienlīdzīgu un savlaicīgu piekļuvi kvalitatīviem, ilgtspējīgiem un izmaksu ziņā pieejamiem veselības aprūpes, veselības veicināšanas un slimību profilakses pakalpojumiem, uzlabojot veselības aprūpes sistēmu efektivitāti un izturētspēju” 4.1.2.7. pasākuma "Nacionāla mēroga veselības veicināšanas un slimību profilakses pasākumi" projektā "Nacionāla mēroga veselības veicināšanas un slimību profilakses pasākumi". Šobrīd nav zināms ar kādu finanšu apjomu rezultēsies plānotie 4.1.2.7. pasākuma "Pilnveidot pacientu drošību un aprūpes kvalitāti" projekta "Pilnveidot pacientu drošību un aprūpes kvalitāti" iepirkumi 2027.gadam, līdz ar to Sirds un asinsvadu veselības uzlabošanas rīcības plānā 2025.–2027. gadam, norādītais finansējuma apjoms var mainīties
A14: Izstrādāts ģimenes hiperholisterinēmijas un citu smagu primāru vai komplicētu hiperlipidēmiju pacientu novērtēšanu, diagnostikas algoritms, kā arī pacienta ceļš un kvalitātes indikatori diagnostikai
B15: Pasākums | C15: Darbības rezultāts | D15: Rezultatīvais rādītājs | E15: Plānotie nodevumi | F15: Plānoto nodevumu skaits | G15: Vienas vienības summa bez PVN, euro | H15: KOPĀ bez PVN, euro | I15: PVN likme (%) | J15: Vienas vienības summa ar PVN, euro | K15: KOPĀ ar PVN, euro*
A16: Algoritmi | B16: Izstrādāts ģimenes hiperholisterinēmijas un citu smagu primāru vai komplicētu hiperlipidēmiju pacientu novērtēšanu, diagnostikas algoritms, kā arī pacienta ceļš un kvalitātes indikatori diagnostikai | E16: Algoritms | F16: 1 | G16: 13950 | H16: =F16*G16 -> 13950 | I16: 21 | J16: =G16*1.21 -> 16879.5 | K16: =F16*J16 -> 16879.5
E17: Ceļš | F17: 1 | G17: 13950 | H17: =F17*G17 -> 13950 | I17: 21 | J17: =G17*1.21 -> 16879.5 | K17: =F17*J17 -> 16879.5
E18: Indikators | F18: 3 | G18: 700 | H18: =F18*G18 -> 2100 | I18: 21 | J18: =G18*1.21 -> 847 | K18: =F18*J18 -> 2541
H19: =SUM(H16:H18) -> 30000 | K19: =SUM(K16:K18) -> 36300
A20: *Eiropas Sociālā fonda Plus (ESF+) finansējums, Eiropas Savienības kohēzijas politikas programmas 2021.–2027.gadam 4.1.2.SAM "Uzlabot vienlīdzīgu un savlaicīgu piekļuvi kvalitatīviem, ilgtspējīgiem un izmaksu ziņā pieejamiem veselības aprūpes, veselības veicināšanas un slimību profilakses pakalpojumiem, uzlabojot veselības aprūpes sistēmu efektivitāti un izturētspēju” 4.1.2.7. pasākuma "Nacionāla mēroga veselības veicināšanas un slimību profilakses pasākumi" projektā "Nacionāla mēroga veselības veicināšanas un slimību profilakses pasākumi". Šobrīd nav zināms ar kādu finanšu apjomu rezultēsies plānotie 4.1.2.7. pasākuma "Pilnveidot pacientu drošību un aprūpes kvalitāti" projekta "Pilnveidot pacientu drošību un aprūpes kvalitāti" iepirkumi 2027.gadam, līdz ar to Sirds un asinsvadu veselības uzlabošanas rīcības plānā 2025.–2027. gadam, norādītais finansējuma apjoms var mainīties

Sheet 2.1.6.1.
R1: Pielikums Nr.2.1.6.1.
D3: Nodrošināta SAVA diagnostikas (veloergometrijas, ehokardiogrāfijas) apmaksa atbilstoši faktiskajām izmaksām
A5: Apakšprogrammas nosaukums | B5: Esošais finansējums | C5: Papildus nepieciešamais finansējums indikatīvi 2027. gadam | D5: Papildus nepieciešamais finansējums indikatīvi 2028. gadā un turpmāk ik gadu (ja pasākums nav terminēts)
A6: 33.18.00 Plānveida stacionāro veselības aprūpes pakalpojumu nodrošināšana | B6: =(L26*D26)+(L27*D27)+(L28*D28)+(L29*D29)+(L30*D30) -> 1045810.2 | C6: =SUM(O26:O30) -> 205157.88 | D6: =C6 -> 205157.88
A7: 33.16.00 Pārējo ambulatoro veselības aprūpes pakalpojumu nodrošināšana | B7: =(J26*D26)+(J27*D27)+(J28*D28)+(J29*D29)+(J30*D30) -> 4830207.4 | C7: =SUM(M26:M30) -> 682625.91 | D7: =C7 -> 682625.91
F10: Ārsts | G10: Māsa | H10: Palīgpersonāls | I10: Soc.nodoklis | N10: Pieskaitāmās un netiešās ražošanas izmaksas | O10: Administratīvās izmaksas | P10: Pārējo pamatlīdzekļu amortizācija
E11: Mēneša darba samaksa | F11: 2304 | G11: 1388 | H11: 925
E12: 1 minūtes vērtība darba samaksai | F12: =ROUND(F11/9600,4) -> 0.24 | G12: =ROUND(G11/9600,4) -> 0.1446 | H12: =ROUND(H11/9600,4) -> 0.0964 | I12: 0.2359 | M12: Koeficienti | N12: 0.2857 | O12: 0.0202 | P12: 0.0322
A14: Manipulācijas kods | B14: Manipulācijas nosaukums | C14: Mainīgās izmaksas | Q14: Kopējās izmaksas, euro | R14: Pacienta līdzmaksājums, euro | S14: Tarifs, euro
C15: Darba laiks (minūtes) | F15: Darba samaksa D, euro | I15: Valsts sociālās apdrošināšanas obligātās iemaksas S, euro | J15: Ārstniecības līdzekļi M, euro | M15: Iekārtu amortizācija N, euro | N15: Pieskaitāmās un netiešās ražošanas izmaksas U, euro | O15: Administratīvās izmaksas A, euro | P15: Pārējo pamatlīdzekļu amortizācija n, euro
C16: ārstam | D16: māsai | E16: jaunākajam personālām | F16: ārstam | G16: māsai | H16: jaunākajam personālam | I16: ārstam, māsai un jaunākajam personālām kopā | J16: M kopā | K16: Medikamenti | L16: Materiāli
A17: =0&6021 -> 06021 | B17: Veloergometrijas slodzes tests | C17: 45 | D17: 45 | E17: 0 | F17: =C17*$F$12 -> 10.8 | G17: =D17*$G$12 -> 6.507 | H17: 0 | I17: =(F17+G17)*$I$12 -> 4.0827213 | J17: =K17+L17 -> 3.2 | K17: 0.93 | L17: 2.27 | M17: 2.24 | N17: =ROUNDUP((F17+G17)*$N$12,2) -> 4.95 | O17: =(F17+G17)*$O$12 -> 0.3496014 | P17: =(F17+G17)*$P$12 -> 0.5572854 | Q17: =ROUND(F17+G17+I17+J17+M17+N17+O17+P17,2) -> 32.69 | R17: 4 | S17: =ROUND(Q17-R17,2) -> 28.69
A18: =0&6033 -> 06033 | B18: Ehokardiogrāfija ar doplerogrāfiju | C18: 81 | D18: 50 | E18: 0 | F18: =C18*$F$12 -> 19.44 | G18: =D18*$G$12 -> 7.23 | H18: 0 | I18: =(F18+G18)*$I$12 -> 6.291453 | J18: =K18+L18 -> 7.87 | K18: 1.83 | L18: 6.04 | M18: 12.94 | N18: =(F18+G18)*$N$12 -> 7.619619 | O18: =(F18+G18)*$O$12 -> 0.538734 | P18: =(F18+G18)*$P$12 -> 0.858774 | Q18: =ROUND(F18+G18+I18+J18+M18+N18+O18+P18,2) -> 62.79 | R18: 4 | S18: =ROUND(Q18-R18,2) -> 58.79
A19: =0&6034 -> 06034 | B19: Stresehokardiogrāfija ar fizisku slodzi vai medicīniskām provēm. Nenorādīt kopā ar manipulācijām 06011, 06012 un 06021 | C19: 110 | D19: 110 | E19: 0 | F19: =C19*$F$12 -> 26.4 | G19: =D19*$G$12 -> 15.906 | H19: 0 | I19: =(F19+G19)*$I$12 -> 9.9799854 | J19: =K19+L19 -> 18.29 | K19: 11.65 | L19: 6.64 | M19: 23.03 | N19: =(F19+G19)*$N$12 -> 12.086824 | O19: =(F19+G19)*$O$12 -> 0.8545812 | P19: =(F19+G19)*$P$12 -> 1.3622532 | Q19: =ROUND(F19+G19+I19+J19+M19+N19+O19+P19,2) -> 107.91 | R19: 4 | S19: =ROUND(Q19-R19,2) -> 103.91
A20: =0&6035 -> 06035 | B20: Skrīningehokardiogrāfija | C20: 46 | D20: 46 | E20: 0 | F20: =ROUND(C20*$F$12,2) -> 11.04 | G20: =ROUND(D20*$G$12,2) -> 6.65 | H20: 0 | I20: =(F20+G20)*$I$12 -> 4.173071 | J20: =K20+L20 -> 5.23 | K20: 1.64 | L20: 3.59 | M20: 11.69 | N20: =(F20+G20)*$N$12 -> 5.054033 | O20: =(F20+G20)*$O$12 -> 0.357338 | P20: =(F20+G20)*$P$12 -> 0.569618 | Q20: =ROUND(F20+G20+I20+J20+M20+N20+O20+P20,2) -> 44.76 | R20: 4 | S20: =ROUND(Q20-R20,2) -> 40.76
A21: =0&6041 -> 06041 | B21: Transezofageāla ehokardiogrāfija M un B režīmos ar krāsas doplerogrāfiju, spektra analīzi un hemodinamikas rādītāju noteikšana | C21: 85 | D21: 55 | E21: 0 | F21: =ROUND(C21*$F$12,2) -> 20.4 | G21: =ROUND(D21*$G$12,2) -> 7.95 | H21: 0 | I21: =(F21+G21)*$I$12 -> 6.687765 | J21: =K21+L21 -> 21.99 | K21: 13.69 | L21: 8.3 | M21: 26.78 | N21: =(F21+G21)*$N$12 -> 8.099595 | O21: =(F21+G21)*$O$12 -> 0.57267 | P21: =(F21+G21)*$P$12 -> 0.91287 | Q21: =ROUND(F21+G21+I21+J21+M21+N21+O21+P21,2) -> 93.39 | R21: 4 | S21: =ROUND(Q21-R21,2) -> 89.39
A24: Manipulācijas kods | B24: Manipulācijas pašreizējais nosaukums | C24: Manipulācijas plānotais nosaukums | D24: Manipulācijas pašreizējais tarifs | E24: Manipulācijas pārrēķinātais tarifs** | F24: Plānotais pacientu skaits gadā | G24: Plānotais manipulāciju skaits vienam pacientam gadā | H24: Tarifa pieaugumam nepieciešamais finansējums | I24: Nepieciešamais papildus finansējums indikatīvi gadā, eiro | J24: Plānotie apmaksas nosacījumi* | M24: Finansējuma sadalījums pa apakšprogrammām
J25: Ambulatori | K25: Dienas stacionārā | L25: Stacionārā | M25: Ambulatori | N25: Dienas stacionārā | O25: Stacionārā
A26: =0&6021 -> 06021 | B26: =B17 -> Veloergometrijas slodzes tests | C26: Bez izmaiņām | D26: 26.23 | E26: =S17 -> 28.69 | F26: =J26+L26 -> 25704 | G26: 1 | H26: =E26-D26 -> 2.46 | I26: =F26*H26 -> 63231.84 | J26: 25296 | K26: 0 | L26: 408 | M26: =J26*H26 -> 62228.16 | N26: 0 | O26: =L26*H26 -> 1003.68
A27: =0&6033 -> 06033 | B27: Ehokardiogrāfija ar doplerogrāfiju | C27: Bez izmaiņām | D27: 51.33 | E27: =S18 -> 58.79 | F27: =J27+L27 -> 95952 | G27: 1 | H27: =E27-D27 -> 7.46 | I27: =F27*H27 -> 715801.92 | J27: 79472 | K27: 0 | L27: 16480 | M27: =J27*H27 -> 592861.12 | N27: 0 | O27: =L27*H27 -> 122940.8
A28: =0&6034 -> 06034 | B28: Stresehokardiogrāfija ar fizisku slodzi vai medicīniskām provēm. Nenorādīt kopā ar manipulācijām 06011, 06012 un 06021 | C28: Bez izmaiņām | D28: 85.88 | E28: =S19 -> 103.91 | F28: =J28+L28 -> 600 | G28: 1 | H28: =E28-D28 -> 18.03 | I28: =F28*H28 -> 10818 | J28: 596 | K28: 0 | L28: 4 | M28: =J28*H28 -> 10745.88 | N28: 0 | O28: =L28*H28 -> 72.12
A29: =0&6035 -> 06035 | B29: Skrīningehokardiogrāfija | C29: Bez izmaiņām | D29: 30.63 | E29: =S20 -> 40.76 | F29: =J29+L29 -> 1641 | G29: 1 | H29: =E29-D29 -> 10.13 | I29: =F29*H29 -> 16623.33 | J29: 13 | K29: 0 | L29: 1628 | M29: =J29*H29 -> 131.69 | N29: 0 | O29: =L29*H29 -> 16491.64
A30: =0&6041 -> 06041 | B30: Transezofageāla ehokardiogrāfija M un B režīmos ar krāsas doplerogrāfiju, spektra analīzi un hemodinamikas rādītāju noteikšana | C30: Bez izmaiņām | D30: 61.01 | E30: =S21 -> 89.39 | F30: =J30+L30 -> 2865 | G30: 1 | H30: =E30-D30 -> 28.38 | I30: =F30*H30 -> 81308.7 | J30: 587 | K30: 0 | L30: 2278 | M30: =J30*H30 -> 16659.06 | N30: 0 | O30: =L30*H30 -> 64649.64
A31: * Pacientu skaits un sadalījums sadalījums atbilstoši 2024. gada statistikai | I31: =SUM(I26:I30) -> 887783.79 | J31: =SUM(J26:J30) -> 105964 | L31: =SUM(L26:L30) -> 20798 | M31: =SUM(M26:M30) -> 682625.91 | O31: =SUM(O26:O30) -> 205157.88
A32: ** atbilstoši VSIA "Paula Stradiņa klīniskā universitātes slimnīca" iesniegumiem

Sheet 2.1.6.2
J1: Pielikums Nr.2.1.6.2.
A2: Izstrādāti vienoti doplerogrāfijas (galvas, kakla un kāju asinsvadiem) izmeklējumu apraksti un pacientu ceļi
A3: Pasākums | B3: Finansējums indikatīvi ar PVN, euro
B4: 2026.gads* | C4: 2027.gads*
A5: Izstrādāti vienoti doplerogrāfijas (galvas, kakla un kāju asinsvadiem) izmeklējumu apraksti un pacientu ceļi | B5: 0 | C5: =27900*1.21 -> 33759
A6: *Eiropas Sociālā fonda Plus (ESF+) finansējums, Eiropas Savienības kohēzijas politikas programmas 2021.–2027.gadam 4.1.2.SAM "Uzlabot vienlīdzīgu un savlaicīgu piekļuvi kvalitatīviem, ilgtspējīgiem un izmaksu ziņā pieejamiem veselības aprūpes, veselības veicināšanas un slimību profilakses pakalpojumiem, uzlabojot veselības aprūpes sistēmu efektivitāti un izturētspēju” 4.1.2.7. pasākuma "Nacionāla mēroga veselības veicināšanas un slimību profilakses pasākumi" projektā "Nacionāla mēroga veselības veicināšanas un slimību profilakses pasākumi". Šobrīd nav zināms ar kādu finanšu apjomu rezultēsies plānotie 4.1.2.7. pasākuma "Pilnveidot pacientu drošību un aprūpes kvalitāti" projekta "Pilnveidot pacientu drošību un aprūpes kvalitāti" iepirkumi 2027.gadam, līdz ar to Sirds un asinsvadu veselības uzlabošanas rīcības plānā 2025.–2027. gadam, norādītais finansējuma apjoms var mainīties
J9: Pielikums Nr.
A10: Izstrādāti vienoti doplerogrāfijas (galvas, kakla un kāju asinsvadiem) izmeklējumu apraksti un pacientu ceļi
B11: Pasākums | C11: Darbības rezultāts | D11: Rezultatīvais rādītājs | E11: Plānotie nodevumi | F11: Plānoto nodevumu skaits | G11: Vienas vienības summa bez PVN, euro | H11: KOPĀ bez PVN, euro | I11: PVN likme (%) | J11: Vienas vienības summa ar PVN, euro | K11: KOPĀ ar PVN, euro*
A12: Algoritmi | B12: Izstrādāti vienoti doplerogrāfijas (galvas, kakla un kāju asinsvadiem) izmeklējumu apraksti un pacientu ceļi | E12: Algoritms | F12: 1 | G12: 13950 | H12: =F12*G12 -> 13950 | I12: 21 | J12: =G12*1.21 -> 16879.5 | K12: =F12*J12 -> 16879.5
E13: Ceļš | F13: 1 | G13: 13950 | H13: =F13*G13 -> 13950 | I13: 21 | J13: =G13*1.21 -> 16879.5 | K13: =F13*J13 -> 16879.5
H14: =SUM(H12:H13) -> 27900 | K14: =SUM(K12:K13) -> 33759
A15: *Eiropas Sociālā fonda Plus (ESF+) finansējums, Eiropas Savienības kohēzijas politikas programmas 2021.–2027.gadam 4.1.2.SAM "Uzlabot vienlīdzīgu un savlaicīgu piekļuvi kvalitatīviem, ilgtspējīgiem un izmaksu ziņā pieejamiem veselības aprūpes, veselības veicināšanas un slimību profilakses pakalpojumiem, uzlabojot veselības aprūpes sistēmu efektivitāti un izturētspēju” 4.1.2.7. pasākuma "Nacionāla mēroga veselības veicināšanas un slimību profilakses pasākumi" projektā "Nacionāla mēroga veselības veicināšanas un slimību profilakses pasākumi". Šobrīd nav zināms ar kādu finanšu apjomu rezultēsies plānotie 4.1.2.7. pasākuma "Pilnveidot pacientu drošību un aprūpes kvalitāti" projekta "Pilnveidot pacientu drošību un aprūpes kvalitāti" iepirkumi 2027.gadam, līdz ar to Sirds un asinsvadu veselības uzlabošanas rīcības plānā 2025.–2027. gadam, norādītais finansējuma apjoms var mainīties

Sheet 2.1.7.
Q1: Pielikums Nr.2.1.7.
E3: Nodrošināts valsts apmaksāts 18-24h asinsspiediena monitorēšanas pakalpojums
A5: Apakšprogrammas nosaukums | B5: Esošais finansējums | C5: Papildus nepieciešamais finansējums indikatīvi 2027.gadam | D5: Papildus nepieciešamais finansējums indikatīvi 2028. gadam un turpmāk ik gadu (ja pasākums nav terminēts)
A6: 33.16.00 Pārējo ambulatoro veselības aprūpes pakalpojumu nodrošināšana | B6: 0 | C6: =H22 -> 83080 | D6: =C6 -> 83080
B9: Ārsts | C9: Māsa | D9: Palīgpersonāls | E9: Soc.nodoklis | J9: Pieskaitāmās un netiešās ražošanas izmaksas | K9: Administratīvās izmaksas | L9: Pārējo pamatlīdzekļu amortizācija
A10: Mēneša darba samaksa | B10: 2304 | C10: 1388 | D10: 925
A11: 1 minūtes vērtība darba samaksai | B11: =ROUND(B10/9600,4) -> 0.24 | C11: =ROUND(C10/9600,4) -> 0.1446 | D11: =ROUND(D10/9600,4) -> 0.0964 | E11: 0.2359 | I11: Koeficienti | J11: 0.2857 | K11: 0.0202 | L11: 0.0322
A13: Manipulācijas kods | B13: Manipulācijas nosaukums | C13: Mainīgās izmaksas | Q13: Kopējās izmaksas, euro | R13: Pacienta līdzmaksājums, euro* | S13: Tarifs, euro
C14: Darba laiks (minūtes) | F14: Darba samaksa D, euro | I14: Valsts sociālās apdrošināšanas obligātās iemaksas S, euro | J14: Ārstniecības līdzekļi M, euro | M14: Iekārtu amortizācija N, euro | N14: Pieskaitāmās un netiešās ražošanas izmaksas U, euro | O14: Administratīvās izmaksas A, euro | P14: Pārējo pamatlīdzekļu amortizācija n, euro
C15: ārstam | D15: māsai | E15: jaunākajam personālām | F15: ārstam | G15: māsai | H15: jaunākajam personālam | I15: ārstam, māsai un jaunākajam personālām kopā | J15: M kopā | K15: Medikamenti | L15: Materiāli
A16: JAUNS | B16: Neinvazīvā asinspiediena monitorēšana no 18 līdz 24 stundām | C16: 20 | D16: 40 | E16: 0 | F16: =ROUND((C16*B11),2) -> 4.8 | G16: =ROUND((D16*C11),2) -> 5.78 | H16: =ROUND((E16*D11),2) -> 0 | I16: =ROUND(((F16+G16+H16)*E11),2) -> 2.5 | J16: =K16+L16 -> 3.76 | K16: 0.6 | L16: 3.16 | M16: 8.39 | N16: =ROUND(((F16+G16+H16)*J11),2) -> 3.02 | O16: =ROUND(((F16+G16+H16)*K11),2) -> 0.21 | P16: =ROUND(((F16+G16+H16)*L11),2) -> 0.34 | Q16: =ROUND((F16+G16+H16+I16+J16+M16+N16+O16+P16),2) -> 28.8 | R16: 4 | S16: =Q16-R16 -> 24.8
A17: *Atbilstoši MK Nr.555 13.pielikuma 7.2. punktam
A20: Manipulācijas kods | B20: Manipulācijas nosaukums | C20: Manip. tarifs, eiro | D20: Plānotais manipulāciju skaits vienam pacientam gadā | E20: Provizoriskais pacientu skaits** | H20: Nepieciešamais finansējums indikatīvi gadā, eiro
E21: Ambulatori | F21: Dienas stacionārā | G21: Stacionārā
A22: JAUNS | B22: Neinvazīvā asinspiediena monitorēšana no 18 līdz 24 stundām | C22: =S16 -> 24.8 | D22: 1 | E22: 3350 | F22: 0 | G22: 0 | H22: =C22*E22 -> 83080
A23: ** Latvijas Kardiologu biedrības sniegtā informācija

Sheet 2.1.8.
O1: Pielikums Nr.2.1.8.
D3: Nodrošināts valsts apmaksāts kardiopulmonālā testa izmeklējums
C5: Esošais finansējums | D5: Papildus nepieciešamais finansējums indikatīvi 2027. gadam | E5: Papildus nepieciešamais finansējums indikatīvi 2028. gadā un turpmāk ik gadu (ja pasākums nav terminēts)
B6: 33.18.00 Plānveida stacionāro veselības aprūpes pakalpojumu nodrošināšana | C6: =ROUND(I23*C23,0) -> 534 | D6: =ROUND(P25,0) -> 4560 | E6: =ROUND(D6,0) -> 4560
B7: 33.16.00 Pārējo ambulatoro veselības aprūpes pakalpojumu nodrošināšana | C7: =ROUND(C23*K23,0) -> 1992 | D7: =ROUND(N25,0) -> 10588 | E7: =ROUND(D7,0) -> 10588
F10: Ārsts | G10: Māsa | H10: Palīgpersonāls | I10: Soc.nodoklis | N10: Pieskaitāmās un netiešās ražošanas izmaksas | O10: Administratīvās izmaksas | P10: Pārējo pamatlīdzekļu amortizācija
E11: Mēneša darba samaksa | F11: 2304 | G11: 1388 | H11: 925
E12: 1 minūtes vērtība darba samaksai | F12: =ROUND(F11/9600,4) -> 0.24 | G12: =ROUND(G11/9600,4) -> 0.1446 | H12: =ROUND(H11/9600,4) -> 0.0964 | I12: 0.2359 | M12: Koeficienti | N12: 0.2857 | O12: 0.0202 | P12: 0.0322
A13: Tarifa pārrēķins
A14: Manipulācijas kods | B14: Manipulācijas nosaukums | C14: Mainīgās izmaksas | Q14: Kopējās izmaksas, euro | R14: Pacienta līdzmaksājums, euro | S14: Tarifs, euro
C15: Darba laiks (minūtes) | F15: Darba samaksa D, euro | I15: Valsts sociālās adrošināšanas obligātās iemaksas S, euro | J15: Ārstniecības līdzekļi M, euro | M15: Iekārtu amortizācija N, euro | N15: Pieskaitāmās un netiešās ražošanas izmaksas U, euro | O15: Administratīvās izmaksas A, euro | P15: Pārējo pamatlīdzekļu amortizācija n, euro
C16: ārstam | D16: māsai | E16: jaunākajam personālām | F16: ārstam | G16: māsai | H16: jaunākajam personālam | I16: ārstam, māsai un jaunākajam personālām kopā | J16: M kopā | K16: Medikamenti | L16: Materiāli | T16: D | U16: S | V16: M | W16: E | X16: U | Y16: A | Z16: N | AA16: P | AB16: Kopējās izmaksas | AC16: Pacienta līdzmaksājums | AD16: Tarifs
A17: 07045 | B17: Kardiopulmonālais slodžu tests | C17: 75 | D17: 75 | E17: 0 | F17: =ROUND((C17*$F$12),2) -> 18 | G17: =ROUND((D17*$G$12),2) -> 10.85 | H17: =ROUND((E17*$H$12),2) -> 0 | I17: =ROUND(((F17+G17+H17)*$I$12),2) -> 6.81 | J17: =K17+L17 -> 3.98 | K17: 0.27 | L17: 3.71 | M17: 5.67 | N17: =ROUND((F17+G17+H17)*$N$12,2) -> 8.24 | O17: =ROUND((F17+G17+H17)*$O$12,2) -> 0.58 | P17: =ROUND((F17+G17+H17)*$P$12,2) -> 0.93 | Q17: =ROUND((F17+G17+H17+I17+J17+M17+N17+O17+P17),2) -> 55.06 | R17: 0 | S17: =Q17-R17 -> 55.06 | T17: =F17+G17+H17 -> 28.85 | U17: =I17 -> 6.81 | V17: =J17 -> 3.98 | X17: =N17 -> 8.24 | Y17: =O17 -> 0.58 | Z17: =M17+P17 -> 6.6 | AB17: =SUM(T17:AA17) -> 55.06 | AC17: =R17 -> 0 | AD17: =AB17-AC17 -> 55.06
A20: Sadalījums ambulatori un stacionāri
A21: Manipulācijas kods | B21: Manipulācijas nosaukums | C21: Manip. tarifs, EUR | D21: Aprēķinātais tarifs, EUR | E21: Papildus manip.tarifam nepieciešamais finansējums, EUR | F21: Plānotais pacientu skaits gadā*, ** | G21: Plānotais manipulāciju skaits vienam pacientam gadā | H21: Nepieciešamais finansējums indikatīvi gadā, EUR | I21: Pacientu sadalījums pa apakšprogrammām | L21: Apmaksas nosacījumi | N21: Finansējuma sadalījums indikatīvi pa apakšprogrammām, EUR
I22: Ambulatori | J22: Dienas stacionārā | K22: Stacionārā | N22: Ambulatori | O22: Dienas stacionārā | P22: Stacionārā
A23: 07045 | B23: Kardiopulmonālais slodžu tests (līdzšinējie apmaksas nosacījumi) | C23: 35.58 | D23: =S17 -> 55.06 | E23: =D23-C23 -> 19.48 | F23: =I23+J23+K23 -> 71 | G23: 1 | H23: =E23*F23*G23 -> 1383.08 | I23: 15 | J23: 0 | K23: 56 | L23: Ambulatori samaksa par šo manipulāciju tiek veikta, ja to norāda pneimonologi, bērnu pneimonologi, alergologi, bērnu alergologi, ģimenes ārsti. | N23: =I23*E23 -> 292.2 | O23: 0 | P23: =E23*K23 -> 1090.88
A24: 07045 | B24: Kardiopulmonālais slodžu tests (apmaksas nosacījumi no 2026. gada) | C24: 0 | D24: =S17 -> 55.06 | E24: =D24-C24 -> 55.06 | F24: =I24+J24+K24 -> 250 | G24: 1 | H24: =E24*F24*G24 -> 13765 | I24: =ROUNDDOWN(250*0.75,0) -> 187 | J24: 0 | K24: =ROUND(250*0.25,0) -> 63 | L24: Ambulatori samaksa par šo manipulāciju tiek veikta, ja to norāda pneimonologi, bērnu pneimonologi, alergologi, bērnu alergologi, ģimenes ārsti, kardiologi. | N24: =I24*E24 -> 10296.22 | O24: 0 | P24: =K24*E24 -> 3468.78
F25: =SUM(F23:F24) -> 321 | G25: KOPĀ: | H25: =SUM(H23:H24) -> 15148.08 | N25: =N23+N24 -> 10588.42 | P25: =P23+P24 -> 4559.66
A26: * 2024. gada oficiālā statistika - 71 pacients. Finanšu ietekmi veido tarifa pieaugums.
A27: ** Plānotais skaita pieaugums no apmaksas nosacījumu paplašināšanas - 250 pacienti (MVI sniegtā informācija). Finanšu ietekmi veido kardiologa pacientu skaita reizinājums ar pilnu tarifu.

Sheet 2.1.9.
J1: Pielikums Nr.2.1.9.
A2: Izstrādāts klīniskais algoritms un pacientu ceļš perifēro artēriju slimību, kakla asinsvadu aterosklerozes un aortas aneirismu diagnostikai
A3: Pasākums | B3: Finansējums indikatīvi ar PVN, euro
B4: 2026.gads* | C4: 2027.gads*
A5: Izstrādāts klīniskais algoritms un pacientu ceļš perifēro artēriju slimību, kakla asinsvadu aterosklerozes un aortas aneirismu diagnostikai | B5: 0 | C5: =27900*1.21 -> 33759
A6: *Eiropas Sociālā fonda Plus (ESF+) finansējums, Eiropas Savienības kohēzijas politikas programmas 2021.–2027.gadam 4.1.2.SAM "Uzlabot vienlīdzīgu un savlaicīgu piekļuvi kvalitatīviem, ilgtspējīgiem un izmaksu ziņā pieejamiem veselības aprūpes, veselības veicināšanas un slimību profilakses pakalpojumiem, uzlabojot veselības aprūpes sistēmu efektivitāti un izturētspēju” 4.1.2.7. pasākuma "Nacionāla mēroga veselības veicināšanas un slimību profilakses pasākumi" projektā "Nacionāla mēroga veselības veicināšanas un slimību profilakses pasākumi". Šobrīd nav zināms ar kādu finanšu apjomu rezultēsies plānotie 4.1.2.7. pasākuma "Pilnveidot pacientu drošību un aprūpes kvalitāti" projekta "Pilnveidot pacientu drošību un aprūpes kvalitāti" iepirkumi 2027.gadam, līdz ar to Sirds un asinsvadu veselības uzlabošanas rīcības plānā 2025.–2027. gadam, norādītais finansējuma apjoms var mainīties
A11: Izstrādāts klīniskais algoritms un pacientu ceļš perifēro artēriju slimību, kakla asinsvadu aterosklerozes un aortas aneirismu diagnostikai
B12: Pasākums | C12: Darbības rezultāts | D12: Rezultatīvais rādītājs | E12: Plānotie nodevumi | F12: Plānoto nodevumu skaits | G12: Vienas vienības summa bez PVN, euro | H12: KOPĀ bez PVN, euro | I12: PVN likme (%) | J12: Vienas vienības summa ar PVN, euro | K12: KOPĀ ar PVN, euro*
A13: Algoritmi | B13: Izstrādāti vienoti doplerogrāfijas (galvas, kakla un kāju asinsvadiem) izmeklējumu apraksti un pacientu ceļi | E13: Algoritms | F13: 1 | G13: 13950 | H13: =F13*G13 -> 13950 | I13: 21 | J13: =G13*1.21 -> 16879.5 | K13: =F13*J13 -> 16879.5
E14: Ceļš | F14: 1 | G14: 13950 | H14: =F14*G14 -> 13950 | I14: 21 | J14: =G14*1.21 -> 16879.5 | K14: =F14*J14 -> 16879.5
H15: =SUM(H13:H14) -> 27900 | K15: =SUM(K13:K14) -> 33759
A17: *Eiropas Sociālā fonda Plus (ESF+) finansējums, Eiropas Savienības kohēzijas politikas programmas 2021.–2027.gadam 4.1.2.SAM "Uzlabot vienlīdzīgu un savlaicīgu piekļuvi kvalitatīviem, ilgtspējīgiem un izmaksu ziņā pieejamiem veselības aprūpes, veselības veicināšanas un slimību profilakses pakalpojumiem, uzlabojot veselības aprūpes sistēmu efektivitāti un izturētspēju” 4.1.2.7. pasākuma "Nacionāla mēroga veselības veicināšanas un slimību profilakses pasākumi" projektā "Nacionāla mēroga veselības veicināšanas un slimību profilakses pasākumi". Šobrīd nav zināms ar kādu finanšu apjomu rezultēsies plānotie 4.1.2.7. pasākuma "Pilnveidot pacientu drošību un aprūpes kvalitāti" projekta "Pilnveidot pacientu drošību un aprūpes kvalitāti" iepirkumi 2027.gadam, līdz ar to Sirds un asinsvadu veselības uzlabošanas rīcības plānā 2025.–2027. gadam, norādītais finansējuma apjoms var mainīties

Sheet 2.2.1.
X1: Pielikums Nr.2.2.1.
D2: Nodrošināta hronisko pacientu dinamiskā novērošana ar hronisku slimību slimojošiem pacientiem pēc akūta notikuma vai intervences
A4: Apakšprogrammas nosaukums | B4: Esošais finansējums | C4: Papildus nepieciešamais finansējums indikatīvi 2027.gadam | D4: Papildus nepieciešamais finansējums indikatīvi 2028.gadam un turpmāk ik gadu (ja pasākums nav terminēts)
A5: 33.16.00 Pārējo ambulatoro veselības aprūpes pakalpojumu nodrošināšana | B5: 21010828 | C5: =Y30+Y58+Y68 -> 2254308.3 | D5: =C5 -> 2254308.3
B7: Ārsts | C7: Māsa | D7: Palīgpersonāls | E7: Soc.nodoklis | H7: Pieskaitāmās un netiešās ražošanas izmaksas | I7: Administratīvās izmaksas | J7: Pārējo pamatlīdzekļu amortizācija
A8: Mēneša darba samaksa | B8: 2304 | C8: 1388 | D8: 925
A9: 1 minūtes vērtība darba samaksai | B9: =ROUND(B8/9600,4) -> 0.24 | C9: =ROUND(C8/9600,4) -> 0.1446 | D9: =ROUND(D8/9600,4) -> 0.0964 | E9: 0.2359 | G9: Koeficienti | H9: 0.2857 | I9: 0.0202 | J9: 0.0322
A12: 5 000 pacientu saņēmuši hroniskas slimības intensificētu dinamisko novērošanu
B13: Manipulācijas kods | C13: Manipulācijas nosaukums | D13: Mainīgās izmaksas | R13: Kopējās izmaksas, euro | S13: Pacienta līdzmaksājums, euro* | T13: Tarifs, euro | U13: Starpība | V13: Pacientu skaits** | W13: Reižu skaits vienam pacientam** | X13: Reizes kopā | Y13: Summa
D14: Darba laiks (minūtes) | G14: Darba samaksa D, euro | J14: Valsts sociālās apdrošināšanas obligātās iemaksas S, euro | K14: Ārstniecības līdzekļi M, euro | N14: Iekārtu amortizācija N, euro | O14: Pieskaitāmās un netiešās ražošanas izmaksas U, euro | P14: Administratīvās izmaksas A, euro | Q14: Pārējo pamatlīdzekļu amortizācija n, euro
D15: ārstam | E15: māsai | F15: jaunākajam personālām | G15: ārstam | H15: māsai | I15: jaunākajam personālam | J15: ārstam, māsai un jaunākajam personālām kopā | K15: M kopā | L15: Medikamenti | M15: Materiāli
A16: Pārrēķins | B16: =0&6033 -> 06033 | C16: Ehokardiogrāfija ar doplerogrāfiju | D16: 81 | E16: 50 | F16: 0 | G16: =D16*$B$9 -> 19.44 | H16: =E16*$C$9 -> 7.23 | I16: 0 | J16: =(G16+H16)*$E$9 -> 6.291453 | K16: =L16+M16 -> 7.87 | L16: 1.83 | M16: 6.04 | N16: 12.94 | O16: =(G16+H16+I16)*$H$9 -> 7.619619 | P16: =(G16+H16+I16)*$I$9 -> 0.538734 | Q16: =(G16+H16+I16)*$J$9 -> 0.858774 | R16: =G16+H16+I16+J16+K16+N16+O16+P16+Q16 -> 62.78858 | S16: 4 | T16: =R16-S16 -> 58.78858 | U16: =T16-T17 -> 7.45858 | V16: 5000 | W16: 1.3 | X16: =V16*W16 -> 6500 | Y16: =X16*T16 -> 382125.77
A17: Esošais tarifs | B17: =0&6033 -> 06033 | C17: Ehokardiogrāfija ar doplerogrāfiju | D17: 81 | E17: 50 | F17: 0 | G17: =D17*$B$9 -> 19.44 | H17: =E17*$C$9 -> 7.23 | I17: 0 | J17: =(G17+H17)*$E$9 -> 6.291453 | K17: 0.86 | L17: 0 | M17: 0.86 | N17: 8.49 | O17: =(G17+H17+I17)*$H$9+4 -> 11.619619 | P17: =(G17+H17+I17)*$I$9 -> 0.538734 | Q17: =(G17+H17+I17)*$J$9 -> 0.858774 | R17: =G17+H17+I17+J17+K17+N17+O17+P17+Q17 -> 55.32858 | S17: 4 | T17: =ROUND(R17-S17,2) -> 51.33
A18: Pārrēķins | B18: =0&6015 -> 06015 | C18: Holtera monitorēšana no 18 līdz 24 stundām | D18: 75 | E18: 45 | F18: 0 | G18: =D18*$B$9 -> 18 | H18: =E18*$C$9 -> 6.507 | I18: 0 | J18: =(G18+H18)*$E$9 -> 5.7812013 | K18: =L18+M18 -> 6.38 | L18: 0.05 | M18: 6.33 | N18: 4.14 | O18: =(G18+H18+I18)*$H$9 -> 7.0016499 | P18: =(G18+H18+I18)*$I$9 -> 0.4950414 | Q18: =(G18+H18+I18)*$J$9 -> 0.7891254 | R18: =G18+H18+I18+J18+K18+N18+O18+P18+Q18 -> 49.094018 | S18: 4 | T18: =R18-S18 -> 45.094018 | U18: =T18-T19 -> 8.165046 | V18: 1000 | W18: 1 | X18: =V18*W18 -> 1000 | Y18: =X18*T18 -> 45094.018
A19: Esošais tarifs | B19: =0&6015 -> 06015 | C19: Holtera monitorēšana no 18 līdz 24 stundām | D19: 71 | E19: 30 | F19: 0 | G19: =D19*$B$9 -> 17.04 | H19: =E19*$C$9 -> 4.338 | I19: 0 | J19: =(G19+H19)*$E$9 -> 5.0430702 | K19: =L19+M19 -> 1.13 | L19: 0 | M19: 1.13 | N19: 2.15 | O19: =(G19+H19+I19)*$H$9+4 -> 10.107695 | P19: =(G19+H19+I19)*$I$9 -> 0.4318356 | Q19: =(G19+H19+I19)*$J$9 -> 0.6883716 | R19: =G19+H19+J19+K19+N19+O19+P19+Q19 -> 40.928972 | S19: 4 | T19: =R19-S19 -> 36.928972
A20: Jauns | B20: Jauna1 | C20: Holtera monitorēšana no 18 līdz 24 stundām (katras nākamās 24 stundas) | D20: 70 | E20: 0 | F20: 0 | G20: =D20*$B$9 -> 16.8 | H20: =E20*$C$9 -> 0 | I20: 0 | J20: =(G20+H20)*$E$9 -> 3.96312 | K20: =L20+M20 -> 3.07 | L20: 0.05 | M20: 3.02 | N20: 4.14 | O20: =(G20+H20+I20)*$H$9 -> 4.79976 | P20: =(G20+H20+I20)*$I$9 -> 0.33936 | Q20: =(G20+H20+I20)*$J$9 -> 0.54096 | R20: =G20+J20+K20+N20+O20+P20+Q20 -> 33.6532 | S20: 4 | T20: =R20-S20 -> 29.6532 | U20: - | V20: 500 | W20: 1 | X20: =V20*W20 -> 500 | Y20: =T20*X20 -> 14826.6
A21: Pārrēķins | B21: =0&6003 -> 06003 | C21: Elektrokardiogrammas ar 12 novadījumiem pieraksts | D21: 0 | E21: 15 | F21: 0 | G21: =D21*$B$9 -> 0 | H21: =E21*$C$9 -> 2.169 | I21: 0 | J21: =(G21+H21)*$E$9 -> 0.5116671 | K21: =L21+M21 -> 0.61 | L21: 0 | M21: 0.61 | N21: 0.48 | O21: =(G21+H21+I21)*$H$9 -> 0.6196833 | P21: =(G21+H21+I21)*$I$9 -> 0.0438138 | Q21: =(G21+H21+I21)*$J$9 -> 0.0698418 | R21: =H21+J21+K21+N21+O21+P21+Q21 -> 4.504006 | S21: 2 | T21: =R21-S21 -> 2.504006 | U21: =T21-T22 -> 0.674006 | V21: 5000 | W21: 2 | X21: =V21*W21 -> 10000 | Y21: =X21*T21 -> 25040.06
A22: Esošais tarifs | B22: =0&6003 -> 06003 | C22: Elektrokardiogrammas ar 12 novadījumiem pieraksts | D22: 0 | E22: 6 | F22: 0 | G22: =D22*$B$9 -> 0 | H22: =ROUNDUP(E22*$C$9,2) -> 0.87 | I22: 0 | J22: =(G22+H22)*$E$9 -> 0.205233 | K22: =L22+M22 -> 0.09 | L22: 0 | M22: 0.09 | N22: 0.36 | O22: =ROUND((G22+H22+I22)*$H$9+2,2) -> 2.25 | P22: =(G22+H22+I22)*$I$9 -> 0.017574 | Q22: =(G22+H22+I22)*$J$9 -> 0.028014 | R22: =ROUNDUP(H22+J22+K22+N22+O22+P22+Q22,2) -> 3.83 | S22: 2 | T22: =R22-S22 -> 1.83
A23: Esošais tarifs | B23: =0&6004 -> 06004 | C23: Elektrokardiogrammas ar 12 novadījumiem apraksts | D23: 15 | E23: 0 | F23: 0 | G23: =D23*$B$9 -> 3.6 | H23: =E23*$C$9 -> 0 | I23: 0 | J23: =(G23+H23)*$E$9 -> 0.84924 | K23: =L23+M23 -> 0.39 | L23: 0 | M23: 0.39 | N23: 0 | O23: =(G23+H23+I23)*$H$9 -> 1.02852 | P23: =(G23+H23+I23)*$I$9 -> 0.07272 | Q23: =(G23+H23+I23)*$J$9 -> 0.11592 | R23: =G23+J23+K23+N23+O23+P23+Q23 -> 6.0564 | S23: 0 | T23: =R23-S23 -> 6.0564 | U23: - | V23: 5000 | W23: 2 | X23: =V23*W23 -> 10000 | Y23: =X23*T23 -> 60564
A24: Esošais tarifs | B24: =0&6021 -> 06021 | C24: Veloergometrijas slodzes tests | D24: 36 | E24: 35 | F24: 0 | G24: =D24*$B$9 -> 8.64 | H24: =E24*$C$9 -> 5.061 | I24: 0 | J24: =(G24+H24)*$E$9 -> 3.2320659 | K24: =L24+M24 -> 1.67 | L24: 0 | M24: 1.67 | N24: 3 | O24: =ROUND((G24+H24+I24)*$H$9+4,2) -> 7.91 | P24: =(G24+H24+I24)*$I$9 -> 0.2767602 | Q24: =(G24+H24+I24)*$J$9 -> 0.4411722 | R24: =H24+J24+G24+K24+N24+O24+P24+Q24 -> 30.230998 | S24: 4 | T24: =R24-S24 -> 26.230998 | U24: =T25-T24 -> 2.4502197 | V24: =5000*0.45 -> 2250 | W24: 2 | X24: =ROUNDUP(V24*W24,0) -> 4500 | Y24: =X24*T25 -> 129065.48
A25: Pārrēķins | B25: =0&6021 -> 06021 | C25: Veloergometrijas slodzes tests | D25: 45 | E25: 45 | F25: 0 | G25: =D25*$B$9 -> 10.8 | H25: =E25*$C$9 -> 6.507 | I25: 0 | J25: =(G25+H25)*$E$9 -> 4.0827213 | K25: =L25+M25 -> 3.2 | L25: 0.93 | M25: 2.27 | N25: 2.24 | O25: =(G25+H25+I25)*$H$9 -> 4.9446099 | P25: =(G25+H25+I25)*$I$9 -> 0.3496014 | Q25: =(G25+H25+I25)*$J$9 -> 0.5572854 | R25: =H25+J25+G25+K25+N25+O25+P25+Q25 -> 32.681218 | S25: 4 | T25: =R25-S25 -> 28.681218
A26: Jauns | B26: Jauna2 | C26: Neinvazīvā asinspiediena monitorēšana no 18 līdz 24 stundām | D26: 20 | E26: 40 | F26: 0 | G26: =D26*$B$9 -> 4.8 | H26: =E26*$C$9 -> 5.784 | I26: 0 | J26: =(G26+H26)*$E$9 -> 2.4967656 | K26: =L26+M26 -> 3.76 | L26: 0.6 | M26: 3.16 | N26: 8.39 | O26: =(G26+H26+I26)*$H$9 -> 3.0238488 | P26: =(G26+H26+I26)*$I$9 -> 0.2137968 | Q26: =(G26+H26+I26)*$J$9 -> 0.3408048 | R26: =G26+H26+J26+K26+N26+O26+P26+Q26 -> 28.809216 | S26: 4 | T26: =R26-S26 -> 24.809216 | U26: - | V26: 500 | W26: 2 | X26: =V26*W26 -> 1000 | Y26: =X26*T26 -> 24809.216
A27: Esošais tarifs | B27: 60037 | C27: Ārsta-speciālista sniegta attālināta konsultācija ģimenes ārstam vai citas specialitātes ārstam-speciālistam (manipulāciju norāda ārsts-speciālists) | D27: 30 | E27: 10 | F27: 0 | G27: =D27*$B$9 -> 7.2 | H27: =E27*$C$9 -> 1.446 | I27: 0 | J27: =(G27+H27)*$E$9 -> 2.0395914 | K27: =L27+M27 -> 0 | L27: 0 | M27: 0 | N27: 0 | O27: =(G27+H27+I27)*$H$9 -> 2.4701622 | P27: =(G27+H27+I27)*$I$9 -> 0.1746492 | Q27: =(G27+H27+I27)*$J$9 -> 0.2784012 | R27: =G27+H27+J27+K27+N27+O27+P27+Q27 -> 13.608804 | S27: 0 | T27: =R27-S27 -> 13.608804 | U27: - | V27: 1500 | W27: 4 | X27: =V27*W27 -> 6000 | Y27: =X27*T27 -> 81652.824
A28: Esošais tarifs | B28: =0&7024 -> 07024 | C28: *Sešu minūšu iešanas tests | D28: 20 | E28: 15 | F28: 0 | G28: =ROUND(D28*$B$9,2) -> 4.8 | H28: =ROUND(E28*$C$9,2) -> 2.17 | I28: 0 | J28: =ROUND((G28+H28)*$E$9,2) -> 1.64 | K28: =L28+M28 -> 0.03 | L28: 0 | M28: 0.03 | N28: 0 | O28: =ROUND((G28+H28+I28)*$H$9,2) -> 1.99 | P28: =ROUND((G28+H28+I28)*$I$9,2) -> 0.14 | Q28: =ROUND((G28+H28+I28)*$J$9,2) -> 0.22 | R28: =ROUND(G28+H28+J28+K28+N28+O28+P28+Q28,2) -> 10.99 | S28: 0 | T28: =R28-S28 -> 10.99 | U28: - | V28: 750 | W28: 2 | X28: =V28*W28 -> 1500 | Y28: =X28*T28 -> 16485
C29: Kardiolga aprūpes epizode | T29: 26.68 | V29: 5000 | W29: 2 | X29: =V29*W29 -> 10000 | Y29: =X29*T29 -> 266800
A30: * MK 555 noteikumu 13. pielikums | X30: Kopā 5 kabinetiem | Y30: =SUM(Y16:Y29) -> 1046463
A31: ** Latvijas Kardiologu biedrība | X31: Vienam kabinetam | Y31: =Y30/5 -> 209292.59
A33: 2500 pacienti saņēmuši elektrokardiostimulatora darbības pārbaudi un programmēšanu
B34: Manipulācijas kods | C34: Manipulācijas nosaukums | D34: Mainīgās izmaksas | R34: Kopējās izmaksas, euro | S34: Pacienta līdzmaksājums, euro* | T34: Tarifs, euro | U34: Starpība | V34: Pacientu skaits** | W34: Reižu skaits vienam pacientam** | X34: Reizes kopā | Y34: Summa
D35: Darba laiks (minūtes) | G35: Darba samaksa D, euro | J35: Valsts sociālās apdrošināšanas obligātās iemaksas S, euro | K35: Ārstniecības līdzekļi M, euro | N35: Iekārtu amortizācija N, euro | O35: Pieskaitāmās un netiešās ražošanas izmaksas U, euro | P35: Administratīvās izmaksas A, euro | Q35: Pārējo pamatlīdzekļu amortizācija n, euro
D36: ārstam | E36: māsai | F36: jaunākajam personālām | G36: ārstam | H36: māsai | I36: jaunākajam personālam | J36: ārstam, māsai un jaunākajam personālām kopā | K36: M kopā | L36: Medikamenti | M36: Materiāli
A37: Pārrēķins | B37: =0&6033 -> 06033 | C37: Ehokardiogrāfija ar doplerogrāfiju | D37: 81 | E37: 50 | F37: 0 | G37: =D37*$B$9 -> 19.44 | H37: =E37*$C$9 -> 7.23 | I37: 0 | J37: =(G37+H37)*$E$9 -> 6.291453 | K37: =L37+M37 -> 7.87 | L37: 1.83 | M37: 6.04 | N37: 12.94 | O37: =(G37+H37+I37)*$H$9 -> 7.619619 | P37: =(G37+H37+I37)*$I$9 -> 0.538734 | Q37: =(G37+H37+I37)*$J$9 -> 0.858774 | R37: =G37+H37+I37+J37+K37+N37+O37+P37+Q37 -> 62.78858 | S37: 4 | T37: =R37-S37 -> 58.78858 | U37: =T37-T38 -> 7.45858 | V37: 2500 | W37: 1.5 | X37: =V37*W37 -> 3750 | Y37: =X37*T37 -> 220457.17
A38: Esošais tarifs | B38: =0&6033 -> 06033 | C38: Ehokardiogrāfija ar doplerogrāfiju | D38: 81 | E38: 50 | F38: 0 | G38: =D38*$B$9 -> 19.44 | H38: =E38*$C$9 -> 7.23 | I38: 0 | J38: =(G38+H38)*$E$9 -> 6.291453 | K38: 0.86 | L38: 0 | M38: 0.86 | N38: 8.49 | O38: =(G38+H38+I38)*$H$9+4 -> 11.619619 | P38: =(G38+H38+I38)*$I$9 -> 0.538734 | Q38: =(G38+H38+I38)*$J$9 -> 0.858774 | R38: =G38+H38+I38+J38+K38+N38+O38+P38+Q38 -> 55.32858 | S38: 4 | T38: =ROUND(R38-S38,2) -> 51.33
A39: Pārrēķins | B39: =0&6015 -> 06015 | C39: Holtera monitorēšana no 18 līdz 24 stundām | D39: 75 | E39: 45 | F39: 0 | G39: =D39*$B$9 -> 18 | H39: =E39*$C$9 -> 6.507 | I39: 0 | J39: =(G39+H39)*$E$9 -> 5.7812013 | K39: =L39+M39 -> 6.38 | L39: 0.05 | M39: 6.33 | N39: 4.14 | O39: =(G39+H39+I39)*$H$9 -> 7.0016499 | P39: =(G39+H39+I39)*$I$9 -> 0.4950414 | Q39: =(G39+H39+I39)*$J$9 -> 0.7891254 | R39: =G39+H39+I39+J39+K39+N39+O39+P39+Q39 -> 49.094018 | S39: 4 | T39: =R39-S39 -> 45.094018 | U39: =T39-T40 -> 8.165046 | V39: 500 | W39: 1 | X39: =W39*V39 -> 500 | Y39: =X39*T39 -> 22547.009
A40: Esošais tarifs | B40: =0&6015 -> 06015 | C40: Holtera monitorēšana no 18 līdz 24 stundām | D40: 71 | E40: 30 | F40: 0 | G40: =D40*$B$9 -> 17.04 | H40: =E40*$C$9 -> 4.338 | I40: 0 | J40: =(G40+H40)*$E$9 -> 5.0430702 | K40: =L40+M40 -> 1.13 | L40: 0 | M40: 1.13 | N40: 2.15 | O40: =(G40+H40+I40)*$H$9+4 -> 10.107695 | P40: =(G40+H40+I40)*$I$9 -> 0.4318356 | Q40: =(G40+H40+I40)*$J$9 -> 0.6883716 | R40: =G40+H40+J40+K40+N40+O40+P40+Q40 -> 40.928972 | S40: 4 | T40: =R40-S40 -> 36.928972
A41: Jauns | B41: Jauna1 | C41: Holtera monitorēšana no 18 līdz 24 stundām (katras nākamās 24 stundas) | D41: 70 | E41: 0 | F41: 0 | G41: =D41*$B$9 -> 16.8 | H41: =E41*$C$9 -> 0 | I41: 0 | J41: =(G41+H41)*$E$9 -> 3.96312 | K41: =L41+M41 -> 3.07 | L41: 0.05 | M41: 3.02 | N41: 4.14 | O41: =(G41+H41+I41)*$H$9 -> 4.79976 | P41: =(G41+H41+I41)*$I$9 -> 0.33936 | Q41: =(G41+H41+I41)*$J$9 -> 0.54096 | R41: =G41+J41+K41+N41+O41+P41+Q41 -> 33.6532 | S41: 4 | T41: =R41-S41 -> 29.6532 | U41: - | V41: 500 | W41: 1 | X41: =W41*V41 -> 500 | Y41: =T41*X41 -> 14826.6
A42: Pārrēķins | B42: =0&6003 -> 06003 | C42: Elektrokardiogrammas ar 12 novadījumiem pieraksts | D42: 0 | E42: 15 | F42: 0 | G42: =D42*$B$9 -> 0 | H42: =E42*$C$9 -> 2.169 | I42: 0 | J42: =(G42+H42)*$E$9 -> 0.5116671 | K42: =L42+M42 -> 0.61 | L42: 0 | M42: 0.61 | N42: 0.48 | O42: =(G42+H42+I42)*$H$9 -> 0.6196833 | P42: =(G42+H42+I42)*$I$9 -> 0.0438138 | Q42: =(G42+H42+I42)*$J$9 -> 0.0698418 | R42: =H42+J42+K42+N42+O42+P42+Q42 -> 4.504006 | S42: 2 | T42: =R42-S42 -> 2.504006 | U42: =T42-T43 -> 0.674006 | V42: 2500 | W42: 2 | X42: =W42*V42 -> 5000 | Y42: =X42*T42 -> 12520.03
A43: Esošais tarifs | B43: =0&6003 -> 06003 | C43: Elektrokardiogrammas ar 12 novadījumiem pieraksts | D43: 0 | E43: 6 | F43: 0 | G43: =D43*$B$9 -> 0 | H43: =ROUNDUP(E43*$C$9,2) -> 0.87 | I43: 0 | J43: =(G43+H43)*$E$9 -> 0.205233 | K43: =L43+M43 -> 0.09 | L43: 0 | M43: 0.09 | N43: 0.36 | O43: =ROUND((G43+H43+I43)*$H$9+2,2) -> 2.25 | P43: =(G43+H43+I43)*$I$9 -> 0.017574 | Q43: =(G43+H43+I43)*$J$9 -> 0.028014 | R43: =ROUNDUP(H43+J43+K43+N43+O43+P43+Q43,2) -> 3.83 | S43: 2 | T43: =R43-S43 -> 1.83
A44: Esošais tarifs | B44: =0&6004 -> 06004 | C44: Elektrokardiogrammas ar 12 novadījumiem apraksts | D44: 15 | E44: 0 | F44: 0 | G44: =D44*$B$9 -> 3.6 | H44: =E44*$C$9 -> 0 | I44: 0 | J44: =(G44+H44)*$E$9 -> 0.84924 | K44: =L44+M44 -> 0.39 | L44: 0 | M44: 0.39 | N44: 0 | O44: =(G44+H44+I44)*$H$9 -> 1.02852 | P44: =(G44+H44+I44)*$I$9 -> 0.07272 | Q44: =(G44+H44+I44)*$J$9 -> 0.11592 | R44: =G44+J44+K44+N44+O44+P44+Q44 -> 6.0564 | S44: 0 | T44: =R44-S44 -> 6.0564 | U44: - | V44: 2500 | W44: 2 | X44: =W44*V44 -> 5000 | Y44: =X44*T44 -> 30282
A45: Esošais tarifs | B45: =0&6021 -> 06021 | C45: Veloergometrijas slodzes tests | D45: 36 | E45: 35 | F45: 0 | G45: =D45*$B$9 -> 8.64 | H45: =E45*$C$9 -> 5.061 | I45: 0 | J45: =(G45+H45)*$E$9 -> 3.2320659 | K45: =L45+M45 -> 1.67 | L45: 0 | M45: 1.67 | N45: 3 | O45: =ROUND((G45+H45+I45)*$H$9+4,2) -> 7.91 | P45: =(G45+H45+I45)*$I$9 -> 0.2767602 | Q45: =(G45+H45+I45)*$J$9 -> 0.4411722 | R45: =H45+J45+G45+K45+N45+O45+P45+Q45 -> 30.230998 | S45: 4 | T45: =R45-S45 -> 26.230998 | U45: =T46-T45 -> 2.4502197 | V45: 250 | W45: 1 | X45: =W45*V45 -> 250 | Y45: =X45*T46 -> 7170.3045
A46: Pārrēķins | B46: =0&6021 -> 06021 | C46: Veloergometrijas slodzes tests | D46: 45 | E46: 45 | F46: 0 | G46: =D46*$B$9 -> 10.8 | H46: =E46*$C$9 -> 6.507 | I46: 0 | J46: =(G46+H46)*$E$9 -> 4.0827213 | K46: =L46+M46 -> 3.2 | L46: 0.93 | M46: 2.27 | N46: 2.24 | O46: =(G46+H46+I46)*$H$9 -> 4.9446099 | P46: =(G46+H46+I46)*$I$9 -> 0.3496014 | Q46: =(G46+H46+I46)*$J$9 -> 0.5572854 | R46: =H46+J46+G46+K46+N46+O46+P46+Q46 -> 32.681218 | S46: 4 | T46: =R46-S46 -> 28.681218
A47: Jauns | B47: Jauna2 | C47: Neinvazīvā asinspiediena monitorēšana no 18 līdz 24 stundām | D47: 20 | E47: 40 | F47: 0 | G47: =D47*$B$9 -> 4.8 | H47: =E47*$C$9 -> 5.784 | I47: 0 | J47: =(G47+H47)*$E$9 -> 2.4967656 | K47: =L47+M47 -> 3.76 | L47: 0.6 | M47: 3.16 | N47: 8.39 | O47: =(G47+H47+I47)*$H$9 -> 3.0238488 | P47: =(G47+H47+I47)*$I$9 -> 0.2137968 | Q47: =(G47+H47+I47)*$J$9 -> 0.3408048 | R47: =G47+H47+J47+K47+N47+O47+P47+Q47 -> 28.809216 | S47: 4 | T47: =R47-S47 -> 24.809216 | U47: - | V47: 375 | W47: 1 | X47: =W47*V47 -> 375 | Y47: =X47*T47 -> 9303.456
A48: Esošais tarifs | B48: 60037 | C48: Ārsta-speciālista sniegta attālināta konsultācija ģimenes ārstam vai citas specialitātes ārstam-speciālistam (manipulāciju norāda ārsts-speciālists) | D48: 30 | E48: 10 | F48: 0 | G48: =D48*$B$9 -> 7.2 | H48: =E48*$C$9 -> 1.446 | I48: 0 | J48: =(G48+H48)*$E$9 -> 2.0395914 | K48: =L48+M48 -> 0 | L48: 0 | M48: 0 | N48: 0 | O48: =(G48+H48+I48)*$H$9 -> 2.4701622 | P48: =(G48+H48+I48)*$I$9 -> 0.1746492 | Q48: =(G48+H48+I48)*$J$9 -> 0.2784012 | R48: =G48+H48+J48+K48+N48+O48+P48+Q48 -> 13.608804 | S48: 0 | T48: =R48-S48 -> 13.608804 | U48: - | V48: 1250 | W48: 1 | X48: =W48*V48 -> 1250 | Y48: =X48*T48 -> 17011.005
A49: Esošais tarifs | B49: =0&6068 -> 06068 | C49: Elektroimpulsu plānveida terapija (defibrilācija) | D49: 40 | E49: 40 | F49: 0 | G49: =D49*$B$9 -> 9.6 | H49: =E49*$C$9 -> 5.784 | I49: 0 | J49: =(G49+H49)*$E$9 -> 3.6290856 | K49: =L49+M49 -> 1.4 | L49: 0 | M49: 1.4 | N49: 1.42 | O49: =(G49+H49+I49)*$H$9 -> 4.3952088 | P49: =(G49+H49+I49)*$I$9 -> 0.3107568 | Q49: =(G49+H49+I49)*$J$9 -> 0.4953648 | R49: =G49+H49+J49+K49+N49+O49+P49+Q49 -> 27.034416 | S49: 0 | T49: =R49-S49 -> 27.034416 | U49: - | V49: 500 | W49: 1 | X49: =W49*V49 -> 500 | Y49: =X49*T49 -> 13517.208
A50: Esošais tarifs | B50: =0&6132 -> 06132 | C50: *Vienkameras elektrokardiostimulatora darbības pārbaude un programmēšana | D50: 50 | E50: 30 | F50: 0 | G50: =D50*$B$9 -> 12 | H50: =E50*$C$9 -> 4.338 | I50: 0 | J50: =(G50+H50)*$E$9 -> 3.8541342 | K50: =L50+M50 -> 0.57 | L50: 0 | M50: 0.57 | N50: 5.08 | O50: =(G50+H50+I50)*$H$9 -> 4.6677666 | P50: =(G50+H50+I50)*$I$9 -> 0.3300276 | Q50: =(G50+H50+I50)*$J$9 -> 0.5260836 | R50: =G50+H50+J50+K50+N50+O50+P50+Q50 -> 31.366012 | S50: 0 | T50: =R50-S50 -> 31.366012 | U50: - | V50: 1000 | W50: 3 | X50: =W50*V50 -> 3000 | Y50: =X50*T50 -> 94098.036
A51: Esošais tarifs | B51: =0&6133 -> 06133 | C51: *Divkameru elektrokardiostimulatora darbības pārbaude un programmēšana | D51: 80 | E51: 40 | F51: 0 | G51: =D51*$B$9 -> 19.2 | H51: =E51*$C$9 -> 5.784 | I51: 0 | J51: =ROUND((G51+H51)*$E$9,2) -> 5.89 | K51: =L51+M51 -> 0.35 | L51: 0 | M51: 0.35 | N51: 7.06 | O51: =ROUND((G51+H51+I51)*$H$9,2) -> 7.14 | P51: =ROUND((G51+H51+I51)*$I$9,2) -> 0.5 | Q51: =ROUND((G51+H51+I51)*$J$9,2) -> 0.8 | R51: =G51+H51+J51+K51+N51+O51+P51+Q51 -> 46.724 | S51: 0 | T51: =R51-S51 -> 46.724 | U51: - | V51: 1000 | W51: 3 | X51: =W51*V51 -> 3000 | Y51: =X51*T51 -> 140172
A52: Esošais tarifs | B52: =0&6134 -> 06134 | C52: *Vienkameras ventrikulārā ICD pārbaude un programmēšana | D52: 80 | E52: 40 | F52: 0 | G52: =D52*$B$9 -> 19.2 | H52: =E52*$C$9 -> 5.784 | I52: 0 | J52: =ROUND((G52+H52)*$E$9,2) -> 5.89 | K52: =L52+M52 -> 0.35 | L52: 0 | M52: 0.35 | N52: 7.06 | O52: =ROUND((G52+H52+I52)*$H$9,2) -> 7.14 | P52: =ROUND((G52+H52+I52)*$I$9,2) -> 0.5 | Q52: =ROUND((G52+H52+I52)*$J$9,2) -> 0.8 | R52: =G52+H52+J52+K52+N52+O52+P52+Q52 -> 46.724 | S52: 0 | T52: =R52-S52 -> 46.724 | U52: - | V52: 250 | W52: 3 | X52: =W52*V52 -> 750 | Y52: =X52*T52 -> 35043
A53: Esošais tarifs | B53: =0&6135 -> 06135 | C53: *Divkameru (DDD) ICD pārbaude un programmēšana | D53: 110 | E53: 30 | F53: 0 | G53: =D53*$B$9 -> 26.4 | H53: =E53*$C$9 -> 4.338 | I53: 0 | J53: =(G53+H53)*$E$9 -> 7.2510942 | K53: =L53+M53 -> 0.6 | L53: 0 | M53: 0.6 | N53: 9.19 | O53: =(G53+H53+I53)*$H$9 -> 8.7818466 | P53: =(G53+H53+I53)*$I$9 -> 0.6209076 | Q53: =(G53+H53+I53)*$J$9 -> 0.9897636 | R53: =G53+H53+J53+K53+N53+O53+P53+Q53 -> 58.171612 | S53: 0 | T53: =R53-S53 -> 58.171612 | U53: - | V53: 250 | W53: 3 | X53: =W53*V53 -> 750 | Y53: =X53*T53 -> 43628.709
A54: Jauns | B54: Jauna3 | C54: Attālināta implantētas sirds ritma kontroles ierīces pārbaude | D54: 30 | E54: 0 | F54: 0 | G54: =D54*$B$9 -> 7.2 | H54: =E54*$C$9 -> 0 | I54: 0 | J54: =(G54+H54)*$E$9 -> 1.69848 | K54: =L54+M54 -> 0 | L54: 0 | M54: 0 | N54: 0.11 | O54: =(G54+H54+I54)*$H$9 -> 2.05704 | P54: =(G54+H54+I54)*$I$9 -> 0.14544 | Q54: =(G54+H54+I54)*$J$9 -> 0.23184 | R54: =G54+H54+J54+K54+N54+O54+P54+Q54 -> 11.4428 | S54: 0 | T54: =R54-S54 -> 11.4428 | U54: - | V54: 700 | W54: 3 | X54: =W54*V54 -> 2100 | Y54: =X54*T54 -> 24029.88
A55: Esošais tarifs | B55: =0&7024 -> 07024 | C55: *Sešu minūšu iešanas tests | D55: 20 | E55: 15 | F55: 0 | G55: =ROUND(D55*$B$9,2) -> 4.8 | H55: =ROUND(E55*$C$9,2) -> 2.17 | I55: 0 | J55: =ROUND((G55+H55)*$E$9,2) -> 1.64 | K55: =L55+M55 -> 0.03 | L55: 0 | M55: 0.03 | N55: 0 | O55: =ROUND((G55+H55+I55)*$H$9,2) -> 1.99 | P55: =ROUND((G55+H55+I55)*$I$9,2) -> 0.14 | Q55: =ROUND((G55+H55+I55)*$J$9,2) -> 0.22 | R55: =ROUND(G55+H55+J55+K55+N55+O55+P55+Q55,2) -> 10.99 | S55: 0 | T55: =R55-S55 -> 10.99 | U55: - | V55: 125 | W55: 1 | X55: =W55*V55 -> 125 | Y55: =X55*T55 -> 1373.75
A56: Jauns | B56: Jauna4 | C56: Implantētas sirds ritma diagnostikas un ārstēšanas ierīces attālinātas telemonitorēšanas iekārta | D56: 0 | E56: 0 | F56: 0 | G56: =D56*$B$9 -> 0 | H56: =E56*$C$9 -> 0 | I56: 0 | J56: =(G56+H56)*$E$9 -> 0 | K56: =L56+M56 -> 895 | L56: 0 | M56: 895 | N56: 0 | O56: =(G56+H56+I56)*$H$9 -> 0 | P56: =(G56+H56+I56)*$I$9 -> 0 | Q56: =(G56+H56+I56)*$J$9 -> 0 | R56: =G56+H56+J56+K56+N56+O56+P56+Q56 -> 895 | S56: 0 | T56: =R56-S56 -> 895 | U56: - | V56: 50 | W56: 1 | X56: =W56*V56 -> 50 | Y56: =X56*T56 -> 44750
C57: Kardiologa aprūpes epizode | T57: 26.68 | V57: 2500 | W57: 3 | X57: =W57*V57 -> 7500 | Y57: =X57*T57 -> 200100
A58: * MK 555 noteikumu 13. pielikums | X58: Kopā 5 kabinetiem | Y58: =SUM(Y37:Y57) -> 930830.16
A59: ** Latvijas Kardiologu biedrība | X59: Vidēji vienam kabinetam | Y59: =Y58/5 -> 186166.03
A62: 5 000 pacientiem vismaz 1 reizi pēc simptomātiska insulta vai tranzitoras išēmiskas lēkmes saņemta neirologa konsultācija un veikta neirosonoloģiskā izmeklēšana
B63: Manipulācijas kods | C63: Manipulācijas nosaukums | D63: Mainīgās izmaksas | R63: Kopējās izmaksas, euro | S63: Pacienta līdzmaksājums, euro* | T63: Tarifs, euro | U63: Starpība | V63: Pacientu skaits | W63: Reižu skaits vienam pacientam | X63: Reizes kopā | Y63: Summa
D64: Darba laiks (minūtes) | G64: Darba samaksa D, euro | J64: Valsts sociālās apdrošināšanas obligātās iemaksas S, euro | K64: Ārstniecības līdzekļi M, euro | N64: Iekārtu amortizācija N, euro | O64: Pieskaitāmās un netiešās ražošanas izmaksas U, euro | P64: Administratīvās izmaksas A, euro | Q64: Pārējo pamatlīdzekļu amortizācija n, euro
D65: ārstam | E65: māsai | F65: jaunākajam personālām | G65: ārstam | H65: māsai | I65: jaunākajam personālam | J65: ārstam, māsai un jaunākajam personālām kopā | K65: M kopā | L65: Medikamenti | M65: Materiāli
A66: Esošais tarifs | B66: =0&6102 -> 06102 | C66: Brahiocefālo asinsvadu dupleksskenēšana ar krāsas doplerogrāfiju un spektra analīzi | D66: 40 | E66: 0 | F66: 0 | G66: =D66*B9 -> 9.6 | H66: 0 | I66: 0 | J66: =ROUNDDOWN((G66+H66)*E9,2) -> 2.26 | K66: =L66+M66 -> 0.97 | L66: 0 | M66: 0.97 | N66: 11.81 | O66: =ROUNDDOWN((G66+H66)*H9+4,2) -> 6.74 | P66: =(G66+H66)*I9 -> 0.19392 | Q66: =(G66+H66)*J9 -> 0.30912 | R66: =G66+H66+J66+K66+N66+O66+P66+Q66 -> 31.88304 | S66: 4 | T66: =R66-S66 -> 27.88304 | U66: - | V66: 5000 | W66: 1 | X66: =V66*W66 -> 5000 | Y66: =X66*T66 -> 139415.2
C67: Neirologa aprūpes epizode | T67: 27.52 | V67: 5000 | W67: 1 | X67: =V67*W67 -> 5000 | Y67: =T67*X67 -> 137600
X68: Kopā 5 kabinetiem | Y68: =SUM(Y66:Y67) -> 277015.2
X69: Vienam kabinetam | Y69: =Y68/5 -> 55403.04

Sheet 2.2.2
J1: Pielikums Nr.2.2.2.
A2: Izstrādāti un apstiprināti cukura diabēta klīniskie algoritmi un pacientu ceļi dinamiskai novērošanai
A3: Pasākums | B3: Finansējums indikatīvi ar PVN, euro
B4: 2026.gads* | C4: 2027.gads*
A5: Izstrādāti un apstiprināti cukura diabēta klīniskie algoritmi un pacientu ceļi dinamiskai novērošanai | B5: =30000*1.21 -> 36300 | C5: 0
A6: *Eiropas Sociālā fonda Plus (ESF+) finansējums, Eiropas Savienības kohēzijas politikas programmas 2021.–2027.gadam 4.1.2.SAM "Uzlabot vienlīdzīgu un savlaicīgu piekļuvi kvalitatīviem, ilgtspējīgiem un izmaksu ziņā pieejamiem veselības aprūpes, veselības veicināšanas un slimību profilakses pakalpojumiem, uzlabojot veselības aprūpes sistēmu efektivitāti un izturētspēju” 4.1.2.7. pasākuma "Nacionāla mēroga veselības veicināšanas un slimību profilakses pasākumi" projektā "Nacionāla mēroga veselības veicināšanas un slimību profilakses pasākumi". Šobrīd nav zināms ar kādu finanšu apjomu rezultēsies plānotie 4.1.2.7. pasākuma "Pilnveidot pacientu drošību un aprūpes kvalitāti" projekta "Pilnveidot pacientu drošību un aprūpes kvalitāti" iepirkumi 2027.gadam, līdz ar to Sirds un asinsvadu veselības uzlabošanas rīcības plānā 2025.–2027. gadam, norādītais finansējuma apjoms var mainīties
A9: Izstrādāti un apstiprināti cukura diabēta klīniskie algoritmi un pacientu ceļi dinamiskai novērošanai
B10: Pasākums | C10: Darbības rezultāts | D10: Rezultatīvais rādītājs | E10: Plānotie nodevumi | F10: Plānoto nodevumu skaits | G10: Vienas vienības summa bez PVN, euro | H10: KOPĀ bez PVN, euro | I10: PVN likme (%) | J10: Vienas vienības summa ar PVN, euro | K10: KOPĀ ar PVN, euro*
A11: Algoritmi | B11: Izstrādāti un apstiprināti cukura diabēta klīniskie algoritmi un pacientu ceļi dinamiskai novērošanai | E11: Algoritms | F11: 1 | G11: 13950 | H11: =F11*G11 -> 13950 | I11: 21 | J11: =G11*1.21 -> 16879.5 | K11: =F11*J11 -> 16879.5
E12: Ceļš | F12: 1 | G12: 13950 | H12: =F12*G12 -> 13950 | I12: 21 | J12: =G12*1.21 -> 16879.5 | K12: =F12*J12 -> 16879.5
E13: Indikators | F13: 3 | G13: 700 | H13: =F13*G13 -> 2100 | I13: 21 | J13: =G13*1.21 -> 847 | K13: =F13*J13 -> 2541
H14: =SUM(H11:H13) -> 30000 | K14: =SUM(K11:K13) -> 36300
A15: **Eiropas Sociālā fonda Plus (ESF+) finansējums, Eiropas Savienības kohēzijas politikas programmas 2021.–2027.gadam 4.1.2.SAM "Uzlabot vienlīdzīgu un savlaicīgu piekļuvi kvalitatīviem, ilgtspējīgiem un izmaksu ziņā pieejamiem veselības aprūpes, veselības veicināšanas un slimību profilakses pakalpojumiem, uzlabojot veselības aprūpes sistēmu efektivitāti un izturētspēju” 4.1.2.7. pasākuma "Nacionāla mēroga veselības veicināšanas un slimību profilakses pasākumi" projektā "Nacionāla mēroga veselības veicināšanas un slimību profilakses pasākumi". Šobrīd nav zināms ar kādu finanšu apjomu rezultēsies plānotie 4.1.2.7. pasākuma "Pilnveidot pacientu drošību un aprūpes kvalitāti" projekta "Pilnveidot pacientu drošību un aprūpes kvalitāti" iepirkumi 2027.gadam, līdz ar to Sirds un asinsvadu veselības uzlabošanas rīcības plānā 2025.–2027. gadam, norādītais finansējuma apjoms var mainīties

Sheet 2.2.3.1
J1: Pielikums Nr.2.2.3.1.
A2: Izstrādāts pacientu ceļš cukura diabētu komplikāciju diagnostikai un aprūpei (asv., neiroloģiskās, acis)
A3: Pasākums | B3: Finansējums indikatīvi ar PVN, euro
B4: 2026.gads* | C4: 2027.gads*
A5: Izstrādāts pacientu ceļš cukura diabētu komplikāciju diagnostikai un aprūpei (asv., neiroloģiskās, acis) | B5: =30000*1.21 -> 36300 | C5: 0
A6: *Eiropas Sociālā fonda Plus (ESF+) finansējums, Eiropas Savienības kohēzijas politikas programmas 2021.–2027.gadam 4.1.2.SAM "Uzlabot vienlīdzīgu un savlaicīgu piekļuvi kvalitatīviem, ilgtspējīgiem un izmaksu ziņā pieejamiem veselības aprūpes, veselības veicināšanas un slimību profilakses pakalpojumiem, uzlabojot veselības aprūpes sistēmu efektivitāti un izturētspēju” 4.1.2.7. pasākuma "Nacionāla mēroga veselības veicināšanas un slimību profilakses pasākumi" projektā "Nacionāla mēroga veselības veicināšanas un slimību profilakses pasākumi". Šobrīd nav zināms ar kādu finanšu apjomu rezultēsies plānotie 4.1.2.7. pasākuma "Pilnveidot pacientu drošību un aprūpes kvalitāti" projekta "Pilnveidot pacientu drošību un aprūpes kvalitāti" iepirkumi 2027.gadam, līdz ar to Sirds un asinsvadu veselības uzlabošanas rīcības plānā 2025.–2027. gadam, norādītais finansējuma apjoms var mainīties
A10: Izstrādāts pacientu ceļš cukura diabētu komplikāciju diagnostikai un aprūpei (asv., neiroloģiskās, acis)
B11: Pasākums | C11: Darbības rezultāts | D11: Rezultatīvais rādītājs | E11: Plānotie nodevumi | F11: Plānoto nodevumu skaits | G11: Vienas vienības summa bez PVN, euro | H11: KOPĀ bez PVN, euro | I11: PVN likme (%) | J11: Vienas vienības summa ar PVN, euro | K11: KOPĀ ar PVN, euro*
A12: Algoritmi | B12: Izstrādāts pacientu ceļš cukura diabētu komplikāciju diagnostikai un aprūpei (asv., neiroloģiskās, acis) | E12: Algoritms | F12: 1 | G12: 13950 | H12: =F12*G12 -> 13950 | I12: 21 | J12: =G12*1.21 -> 16879.5 | K12: =F12*J12 -> 16879.5
E13: Ceļš | F13: 1 | G13: 13950 | H13: =F13*G13 -> 13950 | I13: 21 | J13: =G13*1.21 -> 16879.5 | K13: =F13*J13 -> 16879.5
E14: Indikators | F14: 3 | G14: 700 | H14: =F14*G14 -> 2100 | I14: 21 | J14: =G14*1.21 -> 847 | K14: =F14*J14 -> 2541
H15: =SUM(H12:H14) -> 30000 | K15: =SUM(K12:K14) -> 36300
A16: *Eiropas Sociālā fonda Plus (ESF+) finansējums, Eiropas Savienības kohēzijas politikas programmas 2021.–2027.gadam 4.1.2.SAM "Uzlabot vienlīdzīgu un savlaicīgu piekļuvi kvalitatīviem, ilgtspējīgiem un izmaksu ziņā pieejamiem veselības aprūpes, veselības veicināšanas un slimību profilakses pakalpojumiem, uzlabojot veselības aprūpes sistēmu efektivitāti un izturētspēju” 4.1.2.7. pasākuma "Nacionāla mēroga veselības veicināšanas un slimību profilakses pasākumi" projektā "Nacionāla mēroga veselības veicināšanas un slimību profilakses pasākumi". Šobrīd nav zināms ar kādu finanšu apjomu rezultēsies plānotie 4.1.2.7. pasākuma "Pilnveidot pacientu drošību un aprūpes kvalitāti" projekta "Pilnveidot pacientu drošību un aprūpes kvalitāti" iepirkumi 2027.gadam, līdz ar to Sirds un asinsvadu veselības uzlabošanas rīcības plānā 2025.–2027. gadam, norādītais finansējuma apjoms var mainīties

Sheet 2.2.3.2.
AC1: Pielikums Nr.2.2.3.2.
D3: Cukura diabēta acu komplikāciju savlaicīga atklāšana un ārstēšana
B5: Esošais finansējums | E5: Papildus nepieciešamais finansējums indikatīvi 2027.gadam | F5: Papildus nepieciešamais finansējums indikatīvi 2028.gadam | G5: Papildus nepieciešamais finansējums indikatīvi 2029. gadam un turpmāk ik gadu (ja pasākums nav terminēts)
B6: 2025.gads | C6: 2026.gads | D6: 2027.gads
A7: 33.16.00 Pārējo ambulatoro veselības aprūpes pakalpojumu nodrošināšana | B7: 47432 | C7: 71148 | D7: 94864 | E7: =H34 -> 94864 | F7: =I34 -> 94864 | G7: =J34 -> 118580
A8: 33.03.00 "Kompensējamo medikamentu un materiālu apmaksāšana" | B8: 222948 | C8: 390159 | D8: 557370 | E8: =D61 -> 342112 | F8: =I35 -> 342112 | G8: =D63 -> 427640
A9: Pacientu skaits | E9: 100 | F9: 150 | G9: 200
A11: 1. Papildus nepieciešamais finansējums:
G12: Ārsts | H12: Māsa | I12: Palīgpersonāls | J12: Soc.nodoklis | O12: Pieskaitāmās un netiešās ražošanas izmaksas | P12: Administratīvās izmaksas | Q12: Pārējo pamatlīdzekļu amortizācija
E13: Mēneša darba samaksa | G13: 2304 | H13: 1388 | I13: 925
E14: 1 minūtes vērtība darba samaksai | G14: =ROUND(G13/9600,4) -> 0.24 | H14: =ROUND(H13/9600,4) -> 0.1446 | I14: =ROUND(I13/9600,4) -> 0.0964 | J14: 0.2359 | N14: Koeficienti | O14: 0.2857 | P14: 0.0202 | Q14: 0.0322
A16: Manipulācijas kods | B16: Manipulācijas nosaukums | C16: Mainīgās izmaksas | R16: Kopējās izmaksas, euro | S16: Pacienta līdzmaksājums, euro | T16: Tarifs, euro | U16: D | V16: S | W16: M | X16: E | Y16: U | Z16: A | AA16: N | AB16: P | AC16: Kopējās izmaksas | AD16: Pacienta līdzmaksājums | AE16: Tarifs, euro
C17: Darba laiks (minūtes) | G17: Darba samaksa D, euro | J17: Valsts sociālās apdrošināšanas obligātās iemaksas S, euro | K17: Ārstniecības līdzekļi M, euro | N17: Iekārtu amortizācija N, euro | O17: Pieskaitāmās un netiešās ražošanas izmaksas U, euro | P17: Administratīvās izmaksas A, euro | Q17: Pārējo pamatlīdzekļu amortizācija n, euro
C18: ārstam | D18: māsai | E18: jaunākajam personālām | G18: ārstam | H18: māsai | I18: jaunākajam personālam | J18: ārstam, māsai un jaunākajam personālām kopā | K18: M kopā | L18: Medikamenti | M18: Materiāli
A19: 1 | B19: 2 | C19: 3 | D19: 4 | E19: 5 | G19: 6 | H19: 7 | I19: 8 | J19: 9 | K19: 10 = 11 + 12 | L19: 11 | M19: 12 | N19: 13 | O19: 14 | P19: 15 | Q19: 16 | R19: 17 | S19: 18 | T19: 19 | U19: 20 | V19: 21 | W19: 22 | X19: 23 | Y19: 24 | Z19: 25 | AA19: 26 | AB19: 27 | AC19: 28 | AD19: 29 | AE19: 30
A20: 17294 | B20: Intravitreāla injekcija vienai acij | C20: 30 | D20: 20 | E20: 0 | G20: =ROUND((C20*$G$14),2) -> 7.2 | H20: =ROUND((D20*$H$14),2) -> 2.89 | I20: =ROUND((E20*$I$14),2) -> 0 | J20: =ROUND(((G20+H20+I20)*$J$14),2) -> 2.38 | K20: =L20+M20 -> 24.57 | L20: 1.7 | M20: 22.87 | N20: 24.96 | O20: =ROUND((G20+H20+I20)*$O$14,2) -> 2.88 | P20: =ROUND((G20+H20+I20)*$P$14,2) -> 0.2 | Q20: =ROUND((G20+H20+I20)*$Q$14,2) -> 0.32 | R20: =ROUND((G20+H20+I20+J20+K20+N20+O20+P20+Q20),2) -> 65.4 | S20: 0 | T20: =R20-S20 -> 65.4 | U20: =G20+H20+I20 -> 10.09 | V20: =J20 -> 2.38 | W20: =K20 -> 24.57 | Y20: =O20 -> 2.88 | Z20: =P20 -> 0.2 | AA20: =N20+Q20 -> 25.28 | AC20: =SUM(U20:AB20) -> 65.4 | AD20: =S20 -> 0 | AE20: =AC20-AD20 -> 65.4
A21: 04110 | B21: Acs virsmas anestēzija pirms intravitreālas injekcijas | C21: 3 | D21: 0 | E21: 0 | G21: =ROUND((C21*$G$14),2) -> 0.72 | H21: =ROUND((D21*$H$14),2) -> 0 | I21: =ROUND((E21*$I$14),2) -> 0 | J21: =ROUND(((G21+H21+I21)*$J$14),2) -> 0.17 | K21: =L21+M21 -> 0.28 | L21: 0.23 | M21: 0.05 | N21: 0 | O21: =ROUND((G21+H21+I21)*$O$14,2) -> 0.21 | P21: =ROUND((G21+H21+I21)*$P$14,2) -> 0.01 | Q21: =ROUND((G21+H21+I21)*$Q$14,2) -> 0.02 | R21: =ROUND((G21+H21+I21+J21+K21+N21+O21+P21+Q21),2) -> 1.41 | S21: 0 | T21: =R21-S21 -> 1.41 | U21: =G21+H21+I21 -> 0.72 | V21: =J21 -> 0.17 | W21: =K21 -> 0.28 | Y21: =O21 -> 0.21 | Z21: =P21 -> 0.01 | AA21: =N21+Q21 -> 0.02 | AC21: =SUM(U21:AB21) -> 1.41 | AD21: =S21 -> 0 | AE21: =AC21-AD21 -> 1.41
A24: Manipulācijas nosaukums* | B24: Manipulācijas kods | C24: Tarifs, euro | D24: Esošo pacientu skaits (apmaksāto) 2027.g. | E24: Plānotais papildus pacientu skaits 2027. gadam | F24: Plānotais manipulāciju skaits pacientam gadā | G24: Esošais finansējums 2027. gada budžetā | H24: Papildus nepieciešamais finansējums indikatīvi 2027.gadā, euro** | I24: Papildus nepieciešamais finansējums indikatīvi 2028.gadā, euro** | J24: Papildus nepieciešamais finansējums indikatīvi 2029.gadā, euro**
A25: Intravitreāla injekcija vienai acij | B25: 17294 | C25: 65.4 | D25: 100 | E25: 100 | F25: 8 | G25: =C25*(50*8+50*4) -> 39240 | H25: =C25*E25*8 -> 52320 | I25: =C25*(100*4+50*8) -> 52320 | J25: =C25*(150*4+50*8) -> 65400
A26: Acs virsmas anestēzija pirms intravitreālas injekcijas | B26: 04110 | C26: 1.41 | D26: 100 | E26: 100 | F26: 8 | G26: =C26*(50*8+50*4) -> 846 | H26: =C26*E26*8 -> 1128 | I26: =C26*(100*4+50*8) -> 1128 | J26: =C26*(150*4+50*8) -> 1410
A27: Autorefraktometrija abām acīm | B27: 17030 | C27: 5.55 | D27: 100 | E27: 100 | F27: 8 | G27: =C27*(50*8+50*4) -> 3330 | H27: =C27*E27*8 -> 4440 | I27: =C27*(100*4+50*8) -> 4440 | J27: =C27*(150*4+50*8) -> 5550
A28: Redzes asuma noteikšana tuvumā vai tālumā abām acīm | B28: 17017 | C28: 2.6 | D28: 100 | E28: 100 | F28: 8 | G28: =C28*(50*8+50*4) -> 1560 | H28: =C28*E28*8 -> 2080 | I28: =C28*(100*4+50*8) -> 2080 | J28: =C28*(150*4+50*8) -> 2600
A29: Tonometrija abām acīm | B29: 17101 | C29: 2.39 | D29: 100 | E29: 100 | F29: 8 | G29: =C29*(50*8+50*4) -> 1434 | H29: =C29*E29*8 -> 1912 | I29: =C29*(100*4+50*8) -> 1912 | J29: =C29*(150*4+50*8) -> 2390
A30: Acs biomikroskopija abām acīm | B30: 17080 | C30: 3.27 | D30: 100 | E30: 100 | F30: 8 | G30: =C30*(50*8+50*4) -> 1962 | H30: =C30*E30*8 -> 2616 | I30: =C30*(100*4+50*8) -> 2616 | J30: =C30*(150*4+50*8) -> 3270
A31: Netiešā oftalmoskopija abām acīm | B31: 17086 | C31: 3.33 | D31: 100 | E31: 100 | F31: 8 | G31: =C31*(50*8+50*4) -> 1998 | H31: =C31*E31*8 -> 2664 | I31: =C31*(100*4+50*8) -> 2664 | J31: =C31*(150*4+50*8) -> 3330
A32: Optiskā koherentā tomogrāfija vienai acij | B32: 17103 | C32: 9.74 | D32: 100 | E32: 100 | F32: 8 | G32: =C32*(50*8+50*4) -> 5844 | H32: =C32*E32*8 -> 7792 | I32: =C32*(100*4+50*8) -> 7792 | J32: =C32*(150*4+50*8) -> 9740
A33: Pacienta ārstēšanās dienas stacionārā, saņemot invazīvās kardioloģijas, invazīvās radioloģijas un ķirurģijas pakalpojumus | B33: 60075 | C33: 24.89 | D33: 100 | E33: 100 | F33: 8 | G33: =C33*(50*8+50*4) -> 14934 | H33: =C33*E33*8 -> 19912 | I33: =C33*(100*4+50*8) -> 19912 | J33: =C33*(150*4+50*8) -> 24890
A34: Kopā pakalpojuma veikšanai: | C34: =SUM(C25:C33) -> 118.58 | G34: =SUM(G25:G33) -> 71148 | H34: =SUM(H25:H33) -> 94864 | I34: =SUM(I25:I33) -> 94864 | J34: =SUM(J25:J33) -> 118580
A35: Medikamentu izmaksas: | C35: 427.64 | G35: =C35*(50*4+50*8) -> 256584 | H35: =C35*100*8 -> 342112 | I35: =C35*(100*4+50*8) -> 342112 | J35: =C35*(150*4+50*8) -> 427640
A36: Kopējās izmaksas: | C36: =C34+C35 -> 546.22 | G36: =G34+G35 -> 327732 | H36: =H34+H35 -> 436976 | I36: =I34+I35 -> 436976 | J36: =J34+J35 -> 546220
A38: **Kopējais pacienta ārstēšanas ilgums ir 3 gadi, pacientam piermajā ārstēšanas gadā nepieciešamas 8 injekcijas un turpmākos 2 gadus 4 injekcijas, kas noteiktas klīniskajās vadlīnijās par terapijas efektīvu nodrošināšanu.
A39: apakšprogramma 33.16.00 Pārējo ambulatoro veselības aprūpes pakalpojumu nodrošināšana
A41: Ārstēšanas ilgums 3 gadi | B41: Reižu skaits
A42: 1.injekciju gadā | B42: 8
A43: 2.injekciju gadā | B43: 4
A44: 3.injekciju gadā | B44: 4
B46: 2025 | C46: 2027 | D46: 2028 | E46: 2029 un turpmāk
A47: Esošais pacientu skaits | B47: 50 | C47: 100 | D47: 150 | E47: 150
A48: Esošais finansējums, eiro | B48: =C36*B42*50 -> 218488 | C48: =G36 -> 327732
A49: Papildu pacientu skaits | B49: 0 | C49: 100 | D49: 150 | E49: 200
A50: Papildu nepieciešamais finansējums, eiro | C50: =C49*B42*(C34+C35) -> 436976 | D50: =(50*B42*(C34+C35))+(100*B43*(C34+C35)) -> 436976 | E50: =(150*B43*(C34+C35))+(50*B42*(C34+C35)) -> 546220
A51: Kopā pacientu skaits | B51: =B47+B49 -> 50 | C51: =C47+C49 -> 200 | D51: =D47+D49 -> 300 | E51: =E47 + E49 -> 350
A52: Skaidrojums par nepieciešamo medikamentu injekciju skaitu papildu pacientu skaita apjomam | C52: 100 pacienti 8xinjicē medikamentu | D52: 50 pacienti 8x injicē medikamentu, 100 pacientiem 4xinjicē medikamentu | E52: 50 pacienti 8x injicē medikamentu, 150 pacientiem 4xinjicē medikamentu
A53: Kopējais devu skaits gadā | C53: 800 devas | D53: 800 devas | E53: 1000 devas
A58: Papildus nepieciešamais finansējums medikamentam
A59: Pacientu skaits 1.gadā | B59: Pacientu skaits 2.gadā (50 jaunie un tie kas turpina no iepriekšējā gada) | C59: Pacientu skaits 3.gadā (50 jaunie un tie kas turpina no iepriekšējā gada) | D59: Vidējās izmaksas vienam pacientam pirmajā gadā, euro*** | E59: Vidējās izmaksas vienam pacientam otrajā gadā, euro *** | G59: Vidējās izmaksas vienam pacientam trešajā gadā, euro ***
A60: 100 | B60: 150 | C60: 200 | D60: =8*427.64 -> 3421.12 | E60: =4*427.64 -> 1710.56 | G60: =4*427.64 -> 1710.56
C61: Kopējās medikamentu izmaksas 2026. gadā: | D61: =C35*8*100 -> 342112
C62: Kopējās medikamentu izmaksas 2027. gadā: | D62: =C35*(100*4+50*8) -> 342112
C63: Kopējās medikamentu izmaksas 2028. gadā: | D63: =C35*(150*4+50*8) -> 427640
A66: *** Viena pacienta izmaksas pa gadiem ir atšķirīgas, jo 2. un 3. gadā ir atšķirīgas pirmreizējo pacientu un to pacientu proporcija, kas turpina terapiju.

Sheet 2.2.3.3
J1: Pielikums Nr.2.2.3.3.
A2: Izstrādāts klīniskais algoritms un pacienta ceļš diabētiskās pēdas un trofisko čūlu aprūpei
A3: Pasākums | B3: Finansējums indikatīvi ar PVN, euro
B4: 2026.gads* | C4: 2027.gads*
A5: Izstrādāts klīniskais algoritms un pacienta ceļš diabētiskās pēdas un trofisko čūlu aprūpei | B5: =30000*1.21 -> 36300 | C5: 0
A6: *Eiropas Sociālā fonda Plus (ESF+) finansējums, Eiropas Savienības kohēzijas politikas programmas 2021.–2027.gadam 4.1.2.SAM "Uzlabot vienlīdzīgu un savlaicīgu piekļuvi kvalitatīviem, ilgtspējīgiem un izmaksu ziņā pieejamiem veselības aprūpes, veselības veicināšanas un slimību profilakses pakalpojumiem, uzlabojot veselības aprūpes sistēmu efektivitāti un izturētspēju” 4.1.2.7. pasākuma "Nacionāla mēroga veselības veicināšanas un slimību profilakses pasākumi" projektā "Nacionāla mēroga veselības veicināšanas un slimību profilakses pasākumi". Šobrīd nav zināms ar kādu finanšu apjomu rezultēsies plānotie 4.1.2.7. pasākuma "Pilnveidot pacientu drošību un aprūpes kvalitāti" projekta "Pilnveidot pacientu drošību un aprūpes kvalitāti" iepirkumi 2027.gadam, līdz ar to Sirds un asinsvadu veselības uzlabošanas rīcības plānā 2025.–2027. gadam, norādītais finansējuma apjoms var mainīties
A10: Izstrādāts klīniskais algoritms un pacienta ceļš diabētiskās pēdas un trofisko čūlu aprūpei
B11: Pasākums | C11: Darbības rezultāts | D11: Rezultatīvais rādītājs | E11: Plānotie nodevumi | F11: Plānoto nodevumu skaits | G11: Vienas vienības summa bez PVN, euro | H11: KOPĀ bez PVN, euro | I11: PVN likme (%) | J11: Vienas vienības summa ar PVN, euro | K11: KOPĀ ar PVN, euro*
A12: Algoritmi | B12: Izstrādāts klīniskais algoritms un pacienta ceļš diabētiskās pēdas un trofisko čūlu aprūpei | E12: Algoritms | F12: 1 | G12: 13950 | H12: =F12*G12 -> 13950 | I12: 21 | J12: =G12*1.21 -> 16879.5 | K12: =F12*J12 -> 16879.5
E13: Ceļš | F13: 1 | G13: 13950 | H13: =F13*G13 -> 13950 | I13: 21 | J13: =G13*1.21 -> 16879.5 | K13: =F13*J13 -> 16879.5
E14: Indikators | F14: 3 | G14: 700 | H14: =F14*G14 -> 2100 | I14: 21 | J14: =G14*1.21 -> 847 | K14: =F14*J14 -> 2541
H15: =SUM(H12:H14) -> 30000 | K15: =SUM(K12:K14) -> 36300
A16: *Eiropas Sociālā fonda Plus (ESF+) finansējums, Eiropas Savienības kohēzijas politikas programmas 2021.–2027.gadam 4.1.2.SAM "Uzlabot vienlīdzīgu un savlaicīgu piekļuvi kvalitatīviem, ilgtspējīgiem un izmaksu ziņā pieejamiem veselības aprūpes, veselības veicināšanas un slimību profilakses pakalpojumiem, uzlabojot veselības aprūpes sistēmu efektivitāti un izturētspēju” 4.1.2.7. pasākuma "Nacionāla mēroga veselības veicināšanas un slimību profilakses pasākumi" projektā "Nacionāla mēroga veselības veicināšanas un slimību profilakses pasākumi". Šobrīd nav zināms ar kādu finanšu apjomu rezultēsies plānotie 4.1.2.7. pasākuma "Pilnveidot pacientu drošību un aprūpes kvalitāti" projekta "Pilnveidot pacientu drošību un aprūpes kvalitāti" iepirkumi 2027.gadam, līdz ar to Sirds un asinsvadu veselības uzlabošanas rīcības plānā 2025.–2027. gadam, norādītais finansējuma apjoms var mainīties

Sheet 2.2.4.1.
M1: Pielikums Nr.2.2.4.1.
C3: Ieviesta hroniskas nieru slimības diagnostika cukura diabēta un arteriālās hipertensijas pacientiem PVA
A5: Apakšprogrammas nosaukums | B5: Esošais finansējums | C5: Papildus nepieciešamais finansējums indikatīvi 2027. gadam | D5: Papildus nepieciešamais finansējums indikatīvi 2028. gadam | E5: Papildus nepieciešamais finansējums indikatīvi 2029. gadam un turpmāk ik gadu (ja pasākums nav terminēts)
A6: 33.15.00 Laboratorisko izmeklējumu nodrošināšana ambulatorajā aprūpē | B6: =D36 -> 655668.53 | C6: =L18+L19+L20+L21 -> 2555786 | D6: =M18+M19+M20+M21 -> 2811364.6 | E6: =N18+N19+N20+N21 -> 3066943.1
A7: 33.16.00 Pārējo ambulatoro veselības aprūpes pakalpojumu nodrošināšana* | B7: 374176 | C7: =L22+F11 -> 243548.19 | D7: =M22+G11 -> 267903 | E7: =H11+N22 -> 292257.82
A8: * nefroloģijas kopējais ambulatorais budžets 2025. gada sākumā
B10: Cena1 | C10: Vienam pacientam plānotās aprūpes epizodes gadā | D10: Pacientu skaits2 | E10: Izmaksas | F10: Papildus nepieciešamais finansējums indikatīvi 2027. gadā, ja atsaucība ir 50 %6, euro | G10: Papildus nepieciešamais finansējums indikatīvi 2028. gadā, ja atsaucība ir 55 %6, euro | H10: Papildus nepieciešamais finansējums indikatīvi 2029. gadā un turpmāk ik gadu, ja atsaucība ir 60 %6, euro
A11: Nefrologa aprūpes epizode | B11: 17.49 | C11: 1 | D11: =((98930+337529)*0.1) -> 43645.9 | E11: =B11*C11*D11 -> 763366.79 | F11: =D11*0.5 -> 21822.95 | G11: =D11*0.55 -> 24005.245 | H11: =D11*0.6 -> 26187.54
A12: 1 Ministru kabineta noteikumi Nr. 555 4. pielikumā "Aprūpes epizodes un to tarifi".
A13: 2 Pēc Latvijas Nefrologu Asociācijas: katram 10. no skrīnētajiem pacientiem būs nepieciešama nefrologa konsultācija.
A15: Manipulācijas kods | B15: Manipulācijas nosaukums | C15: Manip. tarifs, eiro | D15: Pacienta līdmaksājums, eiro3 | E15: Plānotais manipulāciju skaits vienam pacientam gadā4 | F15: Provizoriskais pacientu skaits | K15: Papildus nepieciešamais finansējums indikatīvi gadā, eiro | L15: Papildus nepieciešamais finansējums indikatīvi 2027. gadā, ja atsaucība ir 50 %6, euro | M15: Papildus nepieciešamais finansējums indikatīvi 2028. gadā, ja atsaucība ir 55 %6, euro | N15: Papildus nepieciešamais finansējums indikatīvi 2029. gadā un turpmāk ik gadu, ja atsaucība ir 60 %6, euro
F16: Ambulatori5 | I16: Dienas stacionārā | J16: Stacionārā
F17: E10-E14 | G17: I10-I15 | H17: Kopā
A18: 41006 | B18: Kreatinīns | C18: 1.57 | D18: 0 | E18: 1.5 | F18: =H30-C31 -> 30282 | G18: =H31-C34 -> 190741 | H18: =F18+G18 -> 221023 | I18: 0 | J18: 0 | K18: =(C18+D18)*(H18+I18+J18)*E18 -> 520509.16 | L18: =$K$18/2 -> 260254.58 | M18: =$K$18*0.55 -> 286280.04 | N18: =$K$18*0.6 -> 312305.5
A19: 41101 | B19: Mikroalbuminūrija | C19: 4.59 | D19: 0 | E19: 1.5 | F19: =H30-C32 -> 57937 | G19: =H31-C35 -> 327155 | H19: =F19+G19 -> 385092 | I19: 0 | J19: 0 | K19: =(C19+D19)*(H19+I19+J19)*E19 -> 2651358.4 | L19: =$K$19/2 -> 1325679.2 | M19: =$K$19*0.55 -> 1458247.1 | N19: =$K$19*0.6 -> 1590815.1
A20: 40150 | B20: Urīna sedimenta standartizēta mikroskopija | C20: 2.38 | D20: 0 | E20: 1.5 | F20: =H30-C30 -> 84139 | G20: =H31-C33 -> 318038 | H20: =F20+G20 -> 402177 | I20: 0 | J20: 0 | K20: =(C20+D20)*(H20+I20+J20)*E20 -> 1435771.9 | L20: =$K$20/2 -> 717885.95 | M20: =$K$20*0.55 -> 789674.54 | N20: =$K$20*0.6 -> 861463.13
A21: 40003 | B21: Asins ņemšana ar slēgtu sistēmu vienā stobriņā | C21: 1.52 | D21: 0 | E21: 1.5 | F21: =F18 -> 30282 | G21: =G18 -> 190741 | H21: =F21+G21 -> 221023 | I21: 0 | J21: 0 | K21: =(C21+D21)*(H21+I21+J21)*E21 -> 503932.44 | L21: =$K$21/2 -> 251966.22 | M21: =$K$21*0.55 -> 277162.84 | N21: =$K$21*0.6 -> 302359.46
A22: 50696 | B22: Uropoētiskās sistēmas ultrasonogrāfija | C22: 6.16 | D22: 4 | E22: 1 | F22: =H30*0.1 -> 9893.8 | G22: =H31*0.1 -> 33752.9 | H22: =F22+G22 -> 43646.7 | I22: 0 | J22: 0 | K22: =(C22+D22)*(H22+I22+J22)*E22 -> 443450.47 | L22: =$K$22/2 -> 221725.24 | M22: =$K$22*0.55 -> 243897.76 | N22: =$K$22*0.6 -> 266070.28
K23: =SUM(K18:K22) -> 5555022.4 | L23: =SUM(L18:L22) -> 2777511.2 | M23: =SUM(M18:M22) -> 3055262.3 | N23: =SUM(N18:N22) -> 3333013.4
A24: 3 Ministru kabineta noteikumi Nr. 555 13. pielikumā "Pacienta līdzmaksājuma apmērs".
A25: 4 Latvijas Nefrologu Asociācija: daļai analīzes būs jāveic atkārtoti. Aprēķinā paredzēts, ka pusei pacientu būs jāveic atkārtoti.
A26: 5 Pacientu skaits samazinās, ja pacients jau ir veicis konkrēto analīzi pēdējā gada laikā. Konkrētās diagnozes saskaņotas ar Latvijas Nefrologu Asociāciju un Latvijas Nieru un Multiorgānu Aizstājterapijas asociāciju.
A27: 6 Izvērtējot citu no valsts budžeta līdzekļiem apmaksātāto skrīningu atsaucības rādītājus.
A29: Diagnozes | B29: Manipulācijas | C29: Pacientu skaits gadā7 | D29: Esošais finansējums | G29: Diagnozes | H29: Pacientu skaits8
A30: E10 - E14 | B30: 40150 | C30: 14799 | D30: =C30*C20 -> 35221.62 | G30: E10 - E14 | H30: 98938
A31: E10 - E14 | B31: 41006 | C31: 68656 | D31: =C31*C18 -> 107789.92 | G31: I10 - I15 | H31: 337529
A32: E10 - E14 | B32: 41101 | C32: 41001 | D32: =C32*C19 -> 188194.59 | G32: 8 Pacientu skaits diagnozēm E10-E14 no Cukura diabēta pacientu reģistra, pacientu skaits diagnozēm I10-E15 no 2024. gadā veiktā datu atlasījuma
A33: I10 - I15 | B33: 40150 | C33: 19491 | D33: =C33*C20 -> 46388.58
A34: I10 - I15 | B34: 41006 | C34: 146788 | D34: =C34*C18 -> 230457.16
A35: I10 - I15 | B35: 41101 | C35: 10374 | D35: =C35*C19 -> 47616.66
A36: 7 Datu atlasījumā par periodu 2023. gada septembris - 2024. gada augusts | D36: =SUM(D30:D35) -> 655668.53

Sheet 2.2.4.2
J1: Pielikums Nr.2.2.4.2.
A2: Izstādāts hroniskas nieru slimības skrīningā atklāto gadījumu tālākas uzraudzības algoritms
A3: Pasākums | B3: Finansējums indikatīvi ar PVN, euro
B4: 2026.gads* | C4: 2027.gads*
A5: Izstādāts hroniskas nieru slimības skrīningā atklāto gadījumu tālākas uzraudzības algoritms, nodalot ārstniecības personu kompetences, pacientu plūsmas un pacientu uzraudzības atbildības, kā arī veicinot PVA iesaisti. | B5: 0 | C5: =30000*1.21 -> 36300
A6: *Eiropas Sociālā fonda Plus (ESF+) finansējums, Eiropas Savienības kohēzijas politikas programmas 2021.–2027.gadam 4.1.2.SAM "Uzlabot vienlīdzīgu un savlaicīgu piekļuvi kvalitatīviem, ilgtspējīgiem un izmaksu ziņā pieejamiem veselības aprūpes, veselības veicināšanas un slimību profilakses pakalpojumiem, uzlabojot veselības aprūpes sistēmu efektivitāti un izturētspēju” 4.1.2.7. pasākuma "Nacionāla mēroga veselības veicināšanas un slimību profilakses pasākumi" projektā "Nacionāla mēroga veselības veicināšanas un slimību profilakses pasākumi". Šobrīd nav zināms ar kādu finanšu apjomu rezultēsies plānotie 4.1.2.7. pasākuma "Pilnveidot pacientu drošību un aprūpes kvalitāti" projekta "Pilnveidot pacientu drošību un aprūpes kvalitāti" iepirkumi 2027.gadam, līdz ar to Sirds un asinsvadu veselības uzlabošanas rīcības plānā 2025.–2027. gadam, norādītais finansējuma apjoms var mainīties
A10: Izstādāts hroniskas nieru slimības skrīningā atklāto gadījumu tālākas uzraudzības algoritms
B11: Pasākums | C11: Darbības rezultāts | D11: Rezultatīvais rādītājs | E11: Plānotie nodevumi | F11: Plānoto nodevumu skaits | G11: Vienas vienības summa bez PVN, euro | H11: KOPĀ bez PVN, euro | I11: PVN likme (%) | J11: Vienas vienības summa ar PVN, euro | K11: KOPĀ ar PVN, euro*
A12: Algoritmi | B12: Izstādāts hroniskas nieru slimības skrīningā atklāto gadījumu tālākas uzraudzības algoritms, nodalot ārstniecības personu kompetences, pacientu plūsmas un pacientu uzraudzības atbildības, kā arī veicinot PVA iesaisti. | E12: Algoritms | F12: 1 | G12: 13950 | H12: =F12*G12 -> 13950 | I12: 21 | J12: =G12*1.21 -> 16879.5 | K12: =F12*J12 -> 16879.5
E13: Ceļš | F13: 1 | G13: 13950 | H13: =F13*G13 -> 13950 | I13: 21 | J13: =G13*1.21 -> 16879.5 | K13: =F13*J13 -> 16879.5
E14: Indikators | F14: 3 | G14: 700 | H14: =F14*G14 -> 2100 | I14: 21 | J14: =G14*1.21 -> 847 | K14: =F14*J14 -> 2541
H15: =SUM(H12:H14) -> 30000 | K15: =SUM(K12:K14) -> 36300
A16: *Eiropas Sociālā fonda Plus (ESF+) finansējums, Eiropas Savienības kohēzijas politikas programmas 2021.–2027.gadam 4.1.2.SAM "Uzlabot vienlīdzīgu un savlaicīgu piekļuvi kvalitatīviem, ilgtspējīgiem un izmaksu ziņā pieejamiem veselības aprūpes, veselības veicināšanas un slimību profilakses pakalpojumiem, uzlabojot veselības aprūpes sistēmu efektivitāti un izturētspēju” 4.1.2.7. pasākuma "Nacionāla mēroga veselības veicināšanas un slimību profilakses pasākumi" projektā "Nacionāla mēroga veselības veicināšanas un slimību profilakses pasākumi". Šobrīd nav zināms ar kādu finanšu apjomu rezultēsies plānotie 4.1.2.7. pasākuma "Pilnveidot pacientu drošību un aprūpes kvalitāti" projekta "Pilnveidot pacientu drošību un aprūpes kvalitāti" iepirkumi 2027.gadam, līdz ar to Sirds un asinsvadu veselības uzlabošanas rīcības plānā 2025.–2027. gadam, norādītais finansējuma apjoms var mainīties

Sheet 2.2.6.
J1: Pielikums Nr.2.2.6.
A2: Izstrādāts klīniskais algoritms un pacientu ceļš perifēro artēriju slimību, kakla asinsvadu aterosklerozes un aortas aneirismu dinamiskai novērošanai
A3: Pasākums | B3: Finansējums indikatīvi ar PVN, euro
B4: 2026.gads* | C4: 2027.gads*
A5: Izstrādāts klīniskais algoritms un pacientu ceļš perifēro artēriju slimību, kakla asinsvadu aterosklerozes un aortas aneirismu dinamiskai novērošanai | B5: 0 | C5: =27900*1.21 -> 33759
A6: *Eiropas Sociālā fonda Plus (ESF+) finansējums, Eiropas Savienības kohēzijas politikas programmas 2021.–2027.gadam 4.1.2.SAM "Uzlabot vienlīdzīgu un savlaicīgu piekļuvi kvalitatīviem, ilgtspējīgiem un izmaksu ziņā pieejamiem veselības aprūpes, veselības veicināšanas un slimību profilakses pakalpojumiem, uzlabojot veselības aprūpes sistēmu efektivitāti un izturētspēju” 4.1.2.7. pasākuma "Nacionāla mēroga veselības veicināšanas un slimību profilakses pasākumi" projektā "Nacionāla mēroga veselības veicināšanas un slimību profilakses pasākumi". Šobrīd nav zināms ar kādu finanšu apjomu rezultēsies plānotie 4.1.2.7. pasākuma "Pilnveidot pacientu drošību un aprūpes kvalitāti" projekta "Pilnveidot pacientu drošību un aprūpes kvalitāti" iepirkumi 2027.gadam, līdz ar to Sirds un asinsvadu veselības uzlabošanas rīcības plānā 2025.–2027. gadam, norādītais finansējuma apjoms var mainīties
A9: Izstrādāts klīniskais algoritms un pacientu ceļš perifēro artēriju slimību, kakla asinsvadu aterosklerozes un aortas aneirismu dinamiskai novērošanai
B10: Pasākums | C10: Darbības rezultāts | D10: Rezultatīvais rādītājs | E10: Plānotie nodevumi | F10: Plānoto nodevumu skaits | G10: Vienas vienības summa bez PVN, euro | H10: KOPĀ bez PVN, euro | I10: PVN likme (%) | J10: Vienas vienības summa ar PVN, euro | K10: KOPĀ ar PVN, euro*
A11: Algoritmi | B11: Izstrādāti vienoti doplerogrāfijas (galvas, kakla un kāju asinsvadiem) izmeklējumu apraksti un pacientu ceļi | E11: Algoritms | F11: 1 | G11: 13950 | H11: =F11*G11 -> 13950 | I11: 21 | J11: =G11*1.21 -> 16879.5 | K11: =F11*J11 -> 16879.5
E12: Ceļš | F12: 1 | G12: 13950 | H12: =F12*G12 -> 13950 | I12: 21 | J12: =G12*1.21 -> 16879.5 | K12: =F12*J12 -> 16879.5
H13: =SUM(H11:H12) -> 27900 | K13: =SUM(K11:K12) -> 33759
A14: *Eiropas Sociālā fonda Plus (ESF+) finansējums, Eiropas Savienības kohēzijas politikas programmas 2021.–2027.gadam 4.1.2.SAM "Uzlabot vienlīdzīgu un savlaicīgu piekļuvi kvalitatīviem, ilgtspējīgiem un izmaksu ziņā pieejamiem veselības aprūpes, veselības veicināšanas un slimību profilakses pakalpojumiem, uzlabojot veselības aprūpes sistēmu efektivitāti un izturētspēju” 4.1.2.7. pasākuma "Nacionāla mēroga veselības veicināšanas un slimību profilakses pasākumi" projektā "Nacionāla mēroga veselības veicināšanas un slimību profilakses pasākumi". Šobrīd nav zināms ar kādu finanšu apjomu rezultēsies plānotie 4.1.2.7. pasākuma "Pilnveidot pacientu drošību un aprūpes kvalitāti" projekta "Pilnveidot pacientu drošību un aprūpes kvalitāti" iepirkumi 2027.gadam, līdz ar to Sirds un asinsvadu veselības uzlabošanas rīcības plānā 2025.–2027. gadam, norādītais finansējuma apjoms var mainīties
B26: nav

Sheet 2.2.7.
J1: Pielikums Nr.2.2.7.
A2: Organizēta informatīvs pasākums pacientu līdzestības veicināšanai
A3: Pasākums | B3: Finansējums indikatīvi ar PVN, euro
B4: 2026.gads* | C4: 2027.gads*
A5: Pacientiem skaidrota viņu loma ārstēšanas procesā, akcentējot veselības ilgtermiņa ieguvumus no pacienta līdzestības | B5: =15000*1.21 -> 18150 | C5: 0
A6: *Eiropas Sociālā fonda Plus (ESF+) finansējums, Eiropas Savienības kohēzijas politikas programmas 2021.–2027.gadam 4.1.2.SAM "Uzlabot vienlīdzīgu un savlaicīgu piekļuvi kvalitatīviem, ilgtspējīgiem un izmaksu ziņā pieejamiem veselības aprūpes, veselības veicināšanas un slimību profilakses pakalpojumiem, uzlabojot veselības aprūpes sistēmu efektivitāti un izturētspēju” 4.1.2.7. pasākuma "Nacionāla mēroga veselības veicināšanas un slimību profilakses pasākumi" projektā "Nacionāla mēroga veselības veicināšanas un slimību profilakses pasākumi". Šobrīd nav zināms ar kādu finanšu apjomu rezultēsies plānotie 4.1.2.7. pasākuma "Pilnveidot pacientu drošību un aprūpes kvalitāti" projekta "Pilnveidot pacientu drošību un aprūpes kvalitāti" iepirkumi 2027.gadam, līdz ar to Sirds un asinsvadu veselības uzlabošanas rīcības plānā 2025.–2027. gadam, norādītais finansējuma apjoms var mainīties
A9: Organizēta informatīvs pasākums pacientu līdzestības veicināšanai
B10: Pasākums | C10: Darbības rezultāts | D10: Rezultatīvais rādītājs | E10: Plānotie nodevumi | F10: Plānoto nodevumu skaits | G10: Vienas vienības summa bez PVN, euro | H10: KOPĀ bez PVN, euro | I10: PVN likme (%) | J10: Vienas vienības summa ar PVN, euro | K10: KOPĀ ar PVN, euro*
A11: Informatīvs pasākums | B11: Pacientiem skaidrota viņu loma ārstēšanas procesā, akcentējot veselības ilgtermiņa ieguvumus no pacienta līdzestības | E11: Informatīvs pasākums | F11: 1 | G11: 15000 | H11: =F11*G11 -> 15000 | I11: 21 | J11: =G11*1.21 -> 18150 | K11: =F11*J11 -> 18150
H12: =SUM(H11:H11) -> 15000 | K12: =SUM(K11:K11) -> 18150
A13: *Eiropas Sociālā fonda Plus (ESF+) finansējums, Eiropas Savienības kohēzijas politikas programmas 2021.–2027.gadam 4.1.2.SAM "Uzlabot vienlīdzīgu un savlaicīgu piekļuvi kvalitatīviem, ilgtspējīgiem un izmaksu ziņā pieejamiem veselības aprūpes, veselības veicināšanas un slimību profilakses pakalpojumiem, uzlabojot veselības aprūpes sistēmu efektivitāti un izturētspēju” 4.1.2.7. pasākuma "Nacionāla mēroga veselības veicināšanas un slimību profilakses pasākumi" projektā "Nacionāla mēroga veselības veicināšanas un slimību profilakses pasākumi". Šobrīd nav zināms ar kādu finanšu apjomu rezultēsies plānotie 4.1.2.7. pasākuma "Pilnveidot pacientu drošību un aprūpes kvalitāti" projekta "Pilnveidot pacientu drošību un aprūpes kvalitāti" iepirkumi 2027.gadam, līdz ar to Sirds un asinsvadu veselības uzlabošanas rīcības plānā 2025.–2027. gadam, norādītais finansējuma apjoms var mainīties

Sheet 2.3.1.1.-2.3.1.3.,2.3.2.-2.3.5.
M1: Pielikums Nr.2.3.1..-2.3.1.3.,2.3.2.-2.3.5.
B2: Uzlabot antikoagulantu TOAK pieejamību pacientiem ar perifēro asinsvadu saslimšanās komplikāciju attīstības novēršanai un uzlabot glikozes līmeņa monitorēšanu I tipa cukura diabēta pacientiem no 18 līdz 24 gadu vecumam, kā arī pacientiem ar smagām un/ vai biežām hipoglikēmijām, labilu diabēta gaitu, nopietnām diabēta vēlīnām komplikācijām
A4: Apakšprogrammas nosaukums | C4: Esošais finansējums | E4: Papildus nepieciešamais finansējums indikatīvi 2027.gadam | F4: Papildus nepieciešamais finansējums indikatīvi 2028.gadam | G4: Papildus nepieciešamais finansējums indikatīvi 2029.gadam | I4: Papildus nepieciešamais finansējums indikatīvi 2030. gadam un turpmāk ik gadu (ja pasākums nav terminēts)
C5: 2025.gads | D5: 2026.gads un turpmāk ik gadu
A6: 33.03.00 Kompensējamo medikamentu un materiālu apmaksāšana | C6: =SUM(C12+C15+C16) -> 50482522 | D6: =SUM(C12+C15+C16) -> 50482522 | E6: =SUM(J19) -> 14839080 | F6: =SUM(K19) -> 15820018 | G6: =SUM(L19) -> 15898467 | I6: =SUM(L19) -> 15898467
A7: 33.18.00 Plānveida stacionāro veselības aprūpes pakalpojumu nodrošināšana | C7: =SUM(C17) -> 1112175 | D7: 1362519 | E7: =SUM(J20) -> 0 | F7: =SUM(K20) -> 0 | G7: =SUM(L20) -> 0 | I7: =SUM(L20) -> 0
B10: Pasākums | C10: Esošais finansējums | D10: Lietošanas ilgums | E10: Kompensācijas apmērs | F10: Terapijas izmaksas | G10: Pacientu skaits | J10: Nepieciešamais finansējums indikatīvi, EUR | M10: Pacientu skaits
G11: 2027 | H11: 2028 | I11: 2029 | J11: 2027 | K11: 2028 | L11: 2029
A12: 2.3.1.1. | B12: Nepieciešams kompensēt antikoagulantus pacientiem pēc revaskularizācijas 3 mēnešus komplikāciju novēršanai | C12: 12162113 | D12: 3 mēneši | E12: 1 | F12: 80.97 | G12: =3500*0.5 -> 1750 | H12: =3500 -> 3500 | I12: =3500 -> 3500 | J12: =SUM(G12*F12) -> 141697.5 | K12: =SUM(H12*F12) -> 283395 | L12: =SUM(I12*F12) -> 283395 | M12: 03.07.2025 Prof.D.Krieviņš vidēji gadā LV veic vairāk kā 3500 perifēro revaskularizāciju. Pacients pēc perifēro revaskularizāciju veikšanas 3 mēneši lieto antikoagulantus. 2027.gadā - 50%, 2028.gadā - 100% un 2029.gadā un turpmāk ik gadu - 100%
A13: 2.3.1.2. | B13: Nepieciešams kompensēt antikoagulantus pacientiem ar DzVT (dziļo vēnu tromboze) 3-6 mēnešus komplikāciju novēršanai | D13: 3-6 mēneši | E13: 1 | F13: 161.95 | G13: =2422*0.4 -> 968.8 | H13: =2422*0.6 -> 1453.2 | I13: =2422*0.8 -> 1937.6 | J13: =SUM(G13*F13) -> 156897.16 | K13: =SUM(H13*F13) -> 235345.74 | L13: =SUM(I13*F13) -> 313794.32 | M13: Pēc Eiropas epidemioloģiskiem novērojumiem DzVT sastopamība ir 160 gadījumi uz 100 000 iedzīvotāju. Atbilstoši CSP dati 2025.g. sākumā - 1 856 932, ts.k. bērni - 343 504, tātad pieaugušie - 1 513 428. 2027.gadā - 40%, 2028.gadā - 60% un 2029.gadā un turpmāk ik gadu - 80% no DzVT pacientiem saņems medikamentu.
A14: 2.3.1.3. | B14: Nepieciešams kompensēt antikoagulantus pacientiem ar PATE (plaušu trombemboliju) 12 mēnešu garumā | D14: 12 mēneši | E14: 1 | F14: 323.89 | G14: 475 | H14: 949 | I14: 949 | J14: =SUM(G14*F14) -> 153847.75 | K14: =SUM(H14*F14) -> 307371.61 | L14: =SUM(I14*F14) -> 307371.61 | M14: Veselības aprūpes pakalpojumu norēķinu sistēmas "Vadības informācijas sistēma" unikālo pacientu skaits ar diagnoze I26 (plaušu embolija) 2024.gadā 2027.gadā - 50%, 2028.gadā - 100% un 2029.gadā un turpmāk ik gadu - 100%
A15: 2.3.2. | B15: Kompensēt sirds glikozīdus mirdzaritmijas pacientiem, ja nevar ar cita veida medikamentiem panākt normosistoliju | C15: 0 | D15: 12 mēneši | E15: 0.75 | F15: 153.08 | G15: =7934*0.5 -> 3967 | H15: 7934 | I15: 7934 | J15: =SUM(G15*F15) -> 607268.36 | K15: =SUM(H15*F15) -> 1214536.7 | L15: =SUM(I15*F15) -> 1214536.7 | M15: Veselības aprūpes pakalpojumu norēķinu sistēmas "Vadības informācijas sistēma" unikālo pacientu skaits, kas saņēmuši medikamentu 2022.gadā kompensējamo zāļu sistēmas ietvaros. 2027.gadā - 50%, 2028.gadā - 100% un 2029.gadā un turpmāk ik gadu - 100%.
A16: 2.3.3. | B16: Palielināt kardiovaskulāro pacientu līdzestību medikamentu lietošanā 100%* | C16: 38320409 | D16: 12 mēneši | E16: 1 | F16: 25.32 | G16: 504420 | H16: 504420 | I16: 504420 | J16: =SUM(G16*F16) -> 12771914 | K16: =SUM(H16*F16) -> 12771914 | L16: =SUM(I16*F16) -> 12771914 | M16: Veselības aprūpes pakalpojumu norēķinu sistēmas "Vadības informācijas sistēma" unikālo pacientu skaits, kas saņēmuši kardioloģisko medikamentu 2024.gadā kompensējamo zāļu sistēmas ietvaros ar 75% kompensāciju
A17: 2.3.4. | B17: Uzlabot glikozes līmeņa monitorēšanu I tipa cukura diabēta pacientiem no 18 līdz 24 gadu vecumam | C17: 1112175 | E17: 1 | F17: 1549.93 | G17: 150 | H17: 150 | I17: 150 | J17: =SUM(G17*F17) -> 232489.5 | K17: =SUM(H17*F17) -> 232489.5 | L17: =SUM(I17*F17) -> 232489.5 | M17: 04.07.2025 Latvijas Endokrinologu asociācijas iesūtītais priekšlikums.
A18: 2.3.5. | B18: Uzlabot glikozes līmeņa monitorēšanu I tipa cukura diabēta pacientiem ar smagām un/ vai biežām hipoglikēmijām, labilu diabēta gaitu, nopietnām diabēta vēlīnām komplikācijām | E18: 1 | F18: 1549.93 | G18: 500 | H18: 500 | I18: 500 | J18: =SUM(G18*F18) -> 774965 | K18: =SUM(H18*F18) -> 774965 | L18: =SUM(I18*F18) -> 774965 | M18: 04.07.2025 Latvijas Endokrinologu asociācijas iesūtītais priekšlikums.
A19: Kopā: | C19: =SUM(C12,C13,C14,C15,C16,C17,C18) -> 51594697 | J19: =SUM(J12,J13,J14,J15,J16,J17,J18) -> 14839080 | K19: =SUM(K12,K13,K14,K15,K16,K17,K18) -> 15820018 | L19: =SUM(L12,L13,L14,L15,L16,L17,L18) -> 15898467
B23: * Medikamentu kompensācijas apmēra palielināšana no 75% uz 100%
C24: Prognozējamais pacientu skaits | D24: Vidējās izmaksas uz 1 pacientu, EUR | E24: Prognozētais nepieciešamais finansējums gadā, EUR
B25: 0.75 | C25: 504420 | D25: 75.97 | E25: 38320409
B26: 1 | C26: 504420 | D26: 101.29 | E26: 51092702
B27: Starpība (deficīts) | E27: 12772293

Sheet 2.4.1
J1: Pielikums Nr.2.4.1.
A2: Realizēts insulta vienību audits, izstrādāti un VM iesniegti priekšlikumi par nepieciešamajām izmaiņām
A3: Pasākums | B3: Finansējums indikatīvi ar PVN, euro
B4: 2026.gads* | C4: 2027.gads*
A5: Īstenota esošo insulta vienību kvalitātes prasību izpildes tematiskā pārbaude ar mērķi uzlabot to darbu un sniegtās specializētās terapijas kvalitāti. Audita ietvarā veikti: 1. Insultu vienību pieejamības/sasniedzamības analīze; 2. Insulta vienību kvalitātes prasību izpildes audits, ar mērķi uzlabot to darbu un sniegtās specializētās terapijas kvalitāti; 3. Medicīnisko tehnoloģiju nodrošinājuma analīze | B5: 0 | C5: =481500*1.21 -> 582615
A6: *Eiropas Sociālā fonda Plus (ESF+) finansējums, Eiropas Savienības kohēzijas politikas programmas 2021.–2027.gadam 4.1.2.SAM "Uzlabot vienlīdzīgu un savlaicīgu piekļuvi kvalitatīviem, ilgtspējīgiem un izmaksu ziņā pieejamiem veselības aprūpes, veselības veicināšanas un slimību profilakses pakalpojumiem, uzlabojot veselības aprūpes sistēmu efektivitāti un izturētspēju” 4.1.2.7. pasākuma "Nacionāla mēroga veselības veicināšanas un slimību profilakses pasākumi" projektā "Nacionāla mēroga veselības veicināšanas un slimību profilakses pasākumi". Šobrīd nav zināms ar kādu finanšu apjomu rezultēsies plānotie 4.1.2.7. pasākuma "Pilnveidot pacientu drošību un aprūpes kvalitāti" projekta "Pilnveidot pacientu drošību un aprūpes kvalitāti" iepirkumi 2027.gadam, līdz ar to Sirds un asinsvadu veselības uzlabošanas rīcības plānā 2025.–2027. gadam, norādītais finansējuma apjoms var mainīties
A9: Realizēts insulta vienību audits, izstrādāti un VM iesniegti priekšlikumi par nepieciešamajām izmaiņām
B10: Pasākums | C10: Darbības rezultāts | D10: Rezultatīvais rādītājs | E10: Plānotie nodevumi | F10: Plānoto nodevumu skaits | G10: Vienas vienības summa bez PVN, euro | H10: KOPĀ bez PVN, euro | I10: PVN likme (%) | J10: Vienas vienības summa ar PVN, euro | K10: KOPĀ ar PVN, euro*
A11: Audits | B11: Īstenota esošo insulta vienību kvalitātes prasību izpildes tematiskā pārbaude ar mērķi uzlabot to darbu un sniegtās specializētās terapijas kvalitāti. Audita ietvarā veikti: 1. Insultu vienību pieejamības/sasniedzamības analīze; 2. Insulta vienību kvalitātes prasību izpildes audits, ar mērķi uzlabot to darbu un sniegtās specializētās terapijas kvalitāti; 3. Medicīnisko tehnoloģiju nodrošinājuma analīze | E11: Audits | F11: 9 | G11: 53500 | H11: =F11*G11 -> 481500 | I11: 21 | J11: =G11*1.21 -> 64735 | K11: =F11*J11 -> 582615
H12: =SUM(H11:H11) -> 481500 | K12: =SUM(K11:K11) -> 582615
A13: *Eiropas Sociālā fonda Plus (ESF+) finansējums, Eiropas Savienības kohēzijas politikas programmas 2021.–2027.gadam 4.1.2.SAM "Uzlabot vienlīdzīgu un savlaicīgu piekļuvi kvalitatīviem, ilgtspējīgiem un izmaksu ziņā pieejamiem veselības aprūpes, veselības veicināšanas un slimību profilakses pakalpojumiem, uzlabojot veselības aprūpes sistēmu efektivitāti un izturētspēju” 4.1.2.7. pasākuma "Nacionāla mēroga veselības veicināšanas un slimību profilakses pasākumi" projektā "Nacionāla mēroga veselības veicināšanas un slimību profilakses pasākumi". Šobrīd nav zināms ar kādu finanšu apjomu rezultēsies plānotie 4.1.2.7. pasākuma "Pilnveidot pacientu drošību un aprūpes kvalitāti" projekta "Pilnveidot pacientu drošību un aprūpes kvalitāti" iepirkumi 2027.gadam, līdz ar to Sirds un asinsvadu veselības uzlabošanas rīcības plānā 2025.–2027. gadam, norādītais finansējuma apjoms var mainīties

Sheet 2.4.3.1.-2.4.3.2.
U1: Pielikums Nr.2.4.3.2.
B2: Pārskatīti radiofrekventās katetra ablācijas tarifi un diagnostikas manipulācijas aritmijas diagnostikai atbilstoši faktiskajām izmaksām
B4: Apakšprogrammas nosaukums | C4: Esošais finansējums | D4: Papildus nepieciešamais finansējums indikatīvi 2027.gadam | E4: Papildus nepieciešamais finansējums indikatīvi 2028.gadam un turpmāk ik gadu (ja pasākums nav terminēts)
B5: 33.18.00 Plānveida stacionāro veselības aprūpes pakalpojumu nodrošināšana | C5: =ROUND(1476006.18,0) -> 1476006 | D5: =Q44 -> 5174226.7 | E5: =T44 -> 6039196
B6: 33.16.00 Pārējo ambulatoro veselības aprūpes pakalpojumu nodrošināšana | C6: 0 | D6: =P44 -> 1580720.6 | E6: =S44 -> 1831589.6
C8: Ārsts | D8: Māsa | E8: Palīgpersonāls | F8: Soc.nodoklis | M8: Pieskaitāmās un netiešās ražošanas izmaksas | N8: Administratīvās izmaksas | O8: Pārējo pamatlīdzekļu amortizācija
B9: Mēneša darba samaksa | C9: 2304 | D9: 1388 | E9: 925
B10: 1 minūtes vērtība darba samaksai | C10: =ROUND(C9/9600,4) -> 0.24 | D10: =ROUND(D9/9600,4) -> 0.1446 | E10: =ROUND(E9/9600,4) -> 0.0964 | F10: 0.2359 | L10: Koeficienti | M10: 0.2857 | N10: 0.0202 | O10: 0.0322
B11: 1.tabula Manipulāciju pārrēķins
B12: Manipulācijas kods | C12: Manipulācijas nosaukums | D12: Mainīgās izmaksas | R12: Kopējās izmaksas, euro | S12: Pacienta līdzmaksājums, euro | T12: Tarifs, euro
D13: Darba laiks (minūtes) | G13: Darba samaksa D, euro | J13: Valsts sociālās apdrošināšanas obligātās iemaksas S, euro | K13: Ārstniecības līdzekļi M, euro | N13: Iekārtu amortizācija N, euro | O13: Pieskaitāmās un netiešās ražošanas izmaksas U, euro | P13: Administratīvās izmaksas A, euro | Q13: Pārējo pamatlīdzekļu amortizācija n, euro
D14: ārstam | E14: māsai | F14: jaunākajam personālām | G14: ārstam | H14: māsai | I14: jaunākajam personālam | J14: ārstam, māsai un jaunākajam personālām kopā | K14: M kopā | L14: Medikamenti | M14: Materiāli
A15: Jaunais | B15: 06061 | C15: Intrakardiāla elektrofizioloģiska izmeklēšana aritmiju diagnostikai un ārstēšanai | D15: 360 | E15: 360 | F15: 0 | G15: =ROUND((D15*$C$10),2) -> 86.4 | H15: =ROUND((E15*$D$10),2) -> 52.06 | I15: 0 | J15: =ROUND(((G15+H15+I15)*$F$10),2) -> 32.66 | K15: =L15+M15 -> 183.82 | L15: 21.65 | M15: 162.17 | N15: 211.93 | O15: =ROUND(((G15+H15+I15)*$M$10),2) -> 39.56 | P15: =ROUND(((G15+H15+I15)*$N$10),2) -> 2.8 | Q15: =ROUND(((G15+H15+I15)*$O$10),2) -> 4.46 | R15: =ROUND((G15+H15+I15+J15+K15+N15+O15+P15+Q15),2) -> 613.69 | S15: 0 | T15: =R15-S15 -> 613.69
A16: Esošais | B16: 06061 | C16: Intrakardiāla elektrofizioloģiska izmeklēšana aritmiju diagnostikai | D16: 60 | E16: 50 | F16: 0 | G16: =ROUND((D16*$C$10),2) -> 14.4 | H16: =ROUND((E16*$D$10),2) -> 7.23 | I16: 0 | J16: =ROUND(((G16+H16+I16)*$F$10),2) -> 5.1 | K16: =L16+M16 -> 8.79 | L16: 0 | M16: 8.79 | N16: 13.02 | O16: =ROUND(((G16+H16+I16)*$M$10),2) -> 6.18 | P16: =ROUND(((G16+H16+I16)*$N$10),2) -> 0.44 | Q16: =ROUND(((G16+H16+I16)*$O$10),2) -> 0.7 | R16: =ROUND((G16+H16+I16+J16+K16+N16+O16+P16+Q16),2) -> 55.86 | S16: 0 | T16: =R16-S16 -> 55.86
A17: Jaunais | B17: 06062 | C17: Radiofrekventā katetra ablācija ar trīsdimensiju potenciālu reģistrācijas lietošanu Aritmiju endo/epikardiāla ablācija, pielietojot sirds kartēšanas sistēmu | D17: 520 | E17: 520 | F17: 0 | G17: =ROUND((D17*$C$10),2) -> 124.8 | H17: =ROUND((E17*$D$10),2) -> 75.19 | I17: 0 | J17: =ROUND(((G17+H17+I17)*$F$10),2) -> 47.18 | K17: =L17+M17 -> 4202.1 | L17: 108.02 | M17: 4094.08 | N17: 306.12 | O17: =ROUND(((G17+H17+I17)*$M$10),2) -> 57.14 | P17: =ROUND(((G17+H17+I17)*$N$10),2) -> 4.04 | Q17: =ROUND(((G17+H17+I17)*$O$10),2) -> 6.44 | R17: =ROUND((G17+H17+I17+J17+K17+N17+O17+P17+Q17),2) -> 4823.01 | S17: 4 | T17: =R17-S17 -> 4819.01
A18: Esošais | B18: 06062 | C18: Radiofrekventā katetra ablācija ar trīsdimensiju potenciālu reģistrācijas lietošanu | D18: 180 | E18: 120 | F18: 0 | G18: =ROUND((D18*$C$10),2) -> 43.2 | H18: =ROUND((E18*$D$10),2) -> 17.35 | I18: 0 | J18: =ROUND(((G18+H18+I18)*$F$10),2) -> 14.28 | K18: =L18+M18 -> 316.42 | L18: 0 | M18: 316.42 | N18: 3.97 | O18: =ROUND(((G18+H18+I18)*$M$10),2)+4 -> 21.3 | P18: =ROUND(((G18+H18+I18)*$N$10),2) -> 1.22 | Q18: =ROUND(((G18+H18+I18)*$O$10),2) -> 1.95 | R18: =ROUND((G18+H18+I18+J18+K18+N18+O18+P18+Q18),2) -> 419.69 | S18: 4 | T18: =R18-S18 -> 415.69
A19: Jaunais | B19: 06063 | C19: Piemaksa par ablācijas katetru sirds aritmiju ārstēšanai | D19: 0 | E19: 0 | F19: 0 | G19: =ROUND((D19*$C$10),2) -> 0 | H19: =ROUND((E19*$D$10),2) -> 0 | I19: 0 | J19: =ROUND(((G19+H19+I19)*$F$10),2) -> 0 | K19: =L19+M19 -> 2339.9 | L19: 0 | M19: 2339.9 | N19: 0 | O19: =ROUND(((G19+H19+I19)*$M$10),2) -> 0 | P19: =ROUND(((G19+H19+I19)*$N$10),2) -> 0 | Q19: =ROUND(((G19+H19+I19)*$O$10),2) -> 0 | R19: =ROUND((G19+H19+I19+J19+K19+N19+O19+P19+Q19),2) -> 2339.9 | S19: 0 | T19: =R19-S19 -> 2339.9
A20: Esošais | B20: 06063 | C20: Piemaksa par elektroda endokardiālai izmeklēšanai un katetra ablācijai lietošanu | D20: 0 | E20: 0 | F20: 0 | G20: =ROUND((D20*$C$10),2) -> 0 | H20: =ROUND((E20*$D$10),2) -> 0 | I20: 0 | J20: =ROUND(((G20+H20+I20)*$F$10),2) -> 0 | K20: =L20+M20 -> 684.75 | L20: 0 | M20: 684.75 | N20: 42.69 | O20: =ROUND(((G20+H20+I20)*$M$10),2) -> 0 | P20: =ROUND(((G20+H20+I20)*$N$10),2) -> 0 | Q20: =ROUND(((G20+H20+I20)*$O$10),2) -> 0 | R20: =ROUND((G20+H20+I20+J20+K20+N20+O20+P20+Q20),2) -> 727.44 | S20: 0 | T20: =R20-S20 -> 727.44
A21: Jaunais | B21: 06065 | C21: Piemaksa pie manipulācijāmas 06061, 06062 par elektrodu endokardiālai katetriem intrakardiālai elektrofizioloģiskai izmeklēšanai | D21: 0 | E21: 0 | F21: 0 | G21: =ROUND((D21*$C$10),2) -> 0 | H21: =ROUND((E21*$D$10),2) -> 0 | I21: 0 | J21: =ROUND(((G21+H21+I21)*$F$10),2) -> 0 | K21: =L21+M21 -> 1176.12 | L21: 0 | M21: 1176.12 | N21: 0 | O21: =ROUND(((G21+H21+I21)*$M$10),2) -> 0 | P21: =ROUND(((G21+H21+I21)*$N$10),2) -> 0 | Q21: =ROUND(((G21+H21+I21)*$O$10),2) -> 0 | R21: =ROUND((G21+H21+I21+J21+K21+N21+O21+P21+Q21),2) -> 1176.12 | S21: 0 | T21: =R21-S21 -> 1176.12
A22: Esošais | B22: 06065 | C22: Piemaksa pie manipulācijām 06061, 06062 par elektrodu endokardiālai izmeklēšanai | D22: 0 | E22: 0 | F22: 0 | G22: =ROUND((D22*$C$10),2) -> 0 | H22: =ROUND((E22*$D$10),2) -> 0 | I22: 0 | J22: =ROUND(((G22+H22+I22)*$F$10),2) -> 0 | K22: =L22+M22 -> 131.66 | L22: 0 | M22: 131.66 | N22: 42.69 | O22: =ROUND(((G22+H22+I22)*$M$10),2) -> 0 | P22: =ROUND(((G22+H22+I22)*$N$10),2) -> 0 | Q22: =ROUND(((G22+H22+I22)*$O$10),2) -> 0 | R22: =ROUND((G22+H22+I22+J22+K22+N22+O22+P22+Q22),2) -> 174.35 | S22: 0 | T22: =R22-S22 -> 174.35
L24: *RAKUS 2024.g. veic 19,17% no PSKUS apjoma | M24: 20% plānojam no stacionarā apjoma visam izņemot 06062 (to neplānojam DS vispār) un 06068, kam plāno vismaz 700
B25: Manipulācijas kods | C25: Manipulācijas nosaukums | E25: Esošais manipulācijas tarifs, eiro | F25: Pārrēķinātais tarifs, eiro | G25: Pacienta līdmaksājums, eiro | H25: Plānotais manipulāciju skaits vienam pacientam gadā | I25: Veikto manipulāciju skaits 2024.gadā | J25: Plānotais pacientu skaits | P25: Nepieciešamais finansējums indikatīvi ambulatori 2027. gadā, eiro | Q25: Nepieciešamais finansējums indikatīvi stacionāri 2027. gadā, eiro | R25: Nepieciešamais finansējums indikatīvi kopā 2027. gadā, eiro | S25: Nepieciešamais finansējums indikatīvi ambulatori 2028. gadā, eiro | T25: Nepieciešamais finansējums indikatīvi stacionāri 2028. gadā, eiro | U25: Nepieciešamais finansējums indikatīvi kopā 2028. gadā un turpmāk ik gadu, eiro
D26: Jaunais iesniegtais nosaukums | J26: 2027.g. aritmoloģijas kopējais apjoms | K26: Dienas stacionārā 2027. gadā | L26: Stacionārā 2027.gadā | M26: 2028.g. aritmoloģijas kopējais apjoms | N26: Dienas stacionārā 2028. gadā | O26: Stacionārā 2028.gadā
B27: 06061 | C27: Intrakardiāla elektrofizioloģiska izmeklēšana aritmiju diagnostikai | D27: Intrakardiāla elektrofizioloģiska izmeklēšana aritmiju diagnostikai un ārstēšanai | E27: 55.86 | F27: =R15 -> 613.69 | G27: 0 | H27: 1 | I27: 1 112 | J27: 1127 | K27: =J27*0.2 -> 225.4 | L27: =J27-K27 -> 901.6 | M27: 1300 | N27: =M27*0.2 -> 260 | O27: =M27-N27 -> 1040 | P27: =F27*K27 -> 138325.73 | Q27: =(F27-E27)*L27 -> 502939.53 | R27: =P27+Q27 -> 641265.25 | S27: =F27*N27 -> 159559.4 | T27: =(F27-E27)*O27 -> 580143.2 | U27: =S27+T27 -> 739702.6
B28: 06062 | C28: Radiofrekventā katetra ablācija ar trīsdimensiju potenciālu reģistrācijas lietošanu | D28: Radiofrekventā katetra ablācija ar trīsdimensiju potenciālu reģistrācijas lietošanu Aritmiju endo/epikardiāla ablācija, pielietojot sirds kartēšanas sistēmu | E28: 415.69 | F28: =R17 -> 4823.01 | G28: 4 | H28: 1 | I28: 610 | J28: 621 | K28: =J28*0.2 -> 124.2 | L28: =J28-K28 -> 496.8 | M28: 800 | N28: =M28*0.2 -> 160 | O28: =M28-N28 -> 640 | P28: =F28*K28 -> 599017.84 | Q28: =(F28-E28)*L28 -> 2189556.6 | R28: =P28+Q28 -> 2788574.4 | S28: =F28*N28 -> 771681.6 | T28: =(F28-E28)*O28 -> 2820684.8 | U28: =S28+T28 -> 3592366.4 | W28: =F27+F29+F30 -> 4129.71
B29: 06063 | C29: Piemaksa par elektroda endokardiālai izmeklēšanai un katetra ablācijai lietošanu | D29: Piemaksa par ablācijas katetru sirds aritmiju ārstēšanai | E29: 727.44 | F29: =R19 -> 2339.9 | G29: 0 | H29: 1 | I29: 1 085 | J29: 1122 | K29: =J29*0.2 -> 224.4 | L29: =J29-K29 -> 897.6 | M29: 1200 | N29: =M29*0.2 -> 240 | O29: =M29-N29 -> 960 | P29: =F29*K29 -> 525073.56 | Q29: =(F29-E29)*L29 -> 1447344.1 | R29: =P29+Q29 -> 1972417.7 | S29: =F29*N29 -> 561576 | T29: =(F29-E29)*O29 -> 1547961.6 | U29: =S29+T29 -> 2109537.6 | W29: =F28+F29 -> 7162.91
B30: 06065 | C30: Piemaksa pie manipulācijām 06061, 06062 par elektrodu endokardiālai izmeklēšanai | D30: Piemaksa pie manipulācijāmas 06061, 06062 par elektrodu endokardiālai katetriem intrakardiālai elektrofizioloģiskai izmeklēšanai | E30: 174.35 | F30: =R21 -> 1176.12 | G30: 0 | H30: 1 | I30: 1 103 | J30: 1129 | K30: =J30*0.2 -> 225.8 | L30: =J30-K30 -> 903.2 | M30: 1200 | N30: =M30*0.2 -> 240 | O30: =M30-N30 -> 960 | P30: =F30*K30 -> 265567.9 | Q30: =(F30-E30)*L30 -> 904798.66 | R30: =P30+Q30 -> 1170366.6 | S30: =F30*N30 -> 282268.8 | T30: =(F30-E30)*O30 -> 961699.2 | U30: =S30+T30 -> 1243968
B31: 06068 | C31: Elektroimpulsu plānveida terapija - defibrilācija | D31: - | E31: 27.03 | G31: 0 | H31: 1 | I31: 1 879 | J31: 1016 | K31: 800 | L31: =J31-K31 -> 216 | M31: 900 | N31: 900 | O31: =M31-N31 -> 0 | P31: =E31*K31 -> 21624 | Q31: =E31*L31 -> 5838.48 | R31: =P31+Q31 -> 27462.48 | S31: =E31*N31 -> 24327 | T31: =E31*O31 -> 0 | U31: =S31+T31 -> 24327 | V31: RAKUS 88 pacienti
B32: 06051 | C32: Transezofageāla elektrofizioloģiska izmeklēšana aritmiju diagnostikai | D32: - | E32: 30.67 | G32: 4 | H32: 1 | I32: 52 | J32: 60 | K32: =J32*0.2 -> 12 | L32: =J32-K32 -> 48 | M32: 70 | N32: =M32*0.2 -> 14 | O32: =M32-N32 -> 56 | P32: =E32*K32 -> 368.04 | Q32: =E32*L32 -> 1472.16 | R32: =P32+Q32 -> 1840.2 | S32: =E32*N32 -> 429.38 | T32: =E32*O32 -> 1717.52 | U32: =S32+T32 -> 2146.9
B33: 06052 | C33: Transezofageāla elektrokardiostimulācija aritmijas terapijai | D33: - | E33: 32.06 | G33: 0 | H33: 1 | I33: 2 | J33: 20 | K33: =J33*0.2 -> 4 | L33: =J33-K33 -> 16 | M33: 30 | N33: =M33*0.2 -> 6 | O33: =M33-N33 -> 24 | P33: =E33*K33 -> 128.24 | Q33: =E33*L33 -> 512.96 | R33: =P33+Q33 -> 641.2 | S33: =E33*N33 -> 192.36 | T33: =E33*O33 -> 769.44 | U33: =S33+T33 -> 961.8
B34: 06132 | C34: Vienkameru elektrokardiostimulatora darbības pārbaude un programmēšana | D34: - | E34: 31.37 | G34: 0 | H34: 1 | I34: 677 | J34: 580 | K34: =J34*0.2 -> 116 | L34: =J34-K34 -> 464 | M34: 570 | N34: =M34*0.2 -> 114 | O34: =M34-N34 -> 456 | P34: =E34*K34 -> 3638.92 | Q34: =E34*L34 -> 14555.68 | R34: =P34+Q34 -> 18194.6 | S34: =E34*N34 -> 3576.18 | T34: =E34*O34 -> 14304.72 | U34: =S34+T34 -> 17880.9 | V34: RAKUS 15 pacienti
B35: 06133 | C35: Divkameru elektrokardiostimulatora darbības pārbaude un programmēšana | D35: - | E35: 46.72 | G35: 0 | H35: 1 | I35: 2 292 | J35: 1901 | K35: =J35*0.2 -> 380.2 | L35: =J35-K35 -> 1520.8 | M35: 1850 | N35: =M35*0.2 -> 370 | O35: =M35-N35 -> 1480 | P35: =E35*K35 -> 17762.944 | Q35: =E35*L35 -> 71051.776 | R35: =P35+Q35 -> 88814.72 | S35: =E35*N35 -> 17286.4 | T35: =E35*O35 -> 69145.6 | U35: =S35+T35 -> 86432 | V35: RAKUS 55 pacienti
B36: 06134 | C36: Vienkameru ventrikulārā ICD pārbaude un programmēšana | D36: - | E36: 46.72 | G36: 0 | H36: 1 | I36: 38 | J36: 37 | K36: =J36*0.2 -> 7.4 | L36: =J36-K36 -> 29.6 | M36: 45 | N36: =M36*0.2 -> 9 | O36: =M36-N36 -> 36 | P36: =E36*K36 -> 345.728 | Q36: =E36*L36 -> 1382.912 | R36: =P36+Q36 -> 1728.64 | S36: =E36*N36 -> 420.48 | T36: =E36*O36 -> 1681.92 | U36: =S36+T36 -> 2102.4 | V36: RAKUS 2 pacienti
B37: 06135 | C37: Divkameru (DDD) ICD pārbaude un programmēšana | D37: - | E37: 58.17 | G37: 0 | H37: 1 | I37: 484 | J37: 465 | K37: =J37*0.2 -> 93 | L37: =J37-K37 -> 372 | M37: 500 | N37: =M37*0.2 -> 100 | O37: =M37-N37 -> 400 | P37: =E37*K37 -> 5409.81 | Q37: =E37*L37 -> 21639.24 | R37: =P37+Q37 -> 27049.05 | S37: =E37*N37 -> 5817 | T37: =E37*O37 -> 23268 | U37: =S37+T37 -> 29085 | V37: RAKUS 12 pacienti
B38: 06138 | C38: Endokardiālā elektroda maiņa | D38: - | E38: 352.05 | G38: 0 | H38: 1 | I38: 0 | J38: 5 | K38: =J38*0.2 -> 1 | L38: =J38-K38 -> 4 | M38: 8 | N38: =M38*0.2 -> 1.6 | O38: =M38-N38 -> 6.4 | P38: =E38*K38 -> 352.05 | Q38: =E38*L38 -> 1408.2 | R38: =P38+Q38 -> 1760.25 | S38: =E38*N38 -> 563.28 | T38: =E38*O38 -> 2253.12 | U38: =S38+T38 -> 2816.4
B39: 06139 | C39: Elektrokardiostimulatora ložas maiņa | D39: - | E39: 352.05 | G39: 0 | H39: 1 | I39: 13 | J39: 13 | K39: =J39*0.2 -> 2.6 | L39: =J39-K39 -> 10.4 | M39: 14 | N39: =M39*0.2 -> 2.8 | O39: =M39-N39 -> 11.2 | P39: =E39*K39 -> 915.33 | Q39: =E39*L39 -> 3661.32 | R39: =P39+Q39 -> 4576.65 | S39: =E39*N39 -> 985.74 | T39: =E39*O39 -> 3942.96 | U39: =S39+T39 -> 4928.7
B40: 06140 | C40: Elektrokardiostimulatora ekstirpācija | D40: - | E40: 352.05 | G40: 0 | H40: 1 | I40: 34 | J40: 12 | K40: =J40*0.2 -> 2.4 | L40: =J40-K40 -> 9.6 | M40: 8 | N40: =M40*0.2 -> 1.6 | O40: =M40-N40 -> 6.4 | P40: =E40*K40 -> 844.92 | Q40: =E40*L40 -> 3379.68 | R40: =P40+Q40 -> 4224.6 | S40: =E40*N40 -> 563.28 | T40: =E40*O40 -> 2253.12 | U40: =S40+T40 -> 2816.4 | V40: RAKUS 5 pacienti
B41: 06150 | C41: Elektrokardiostimulatora miokardiālā implantācija | D41: - | E41: 1171.35 | G41: 0 | H41: 1 | I41: 2 | J41: 5 | K41: =J41*0.2 -> 1 | L41: =J41-K41 -> 4 | M41: 10 | N41: =M41*0.2 -> 2 | O41: =M41-N41 -> 8 | P41: =E41*K41 -> 1171.35 | Q41: =E41*L41 -> 4685.4 | R41: =P41+Q41 -> 5856.75 | S41: =E41*N41 -> 2342.7 | T41: =E41*O41 -> 9370.8 | U41: =S41+T41 -> 11713.5
B42: 60075 | C42: Pacienta ārstēšanās dienas stacionārā, saņemot invazīvās kardioloģijas, invazīvās radioloģijas un ķirurģijas pakalpojumus | D42: - | E42: 24.89 | G42: 7 | H42: 1 | I42: 20 | K42: =K38+K39+K40+K41 -> 7 | L42: 0 | N42: =N38+N39+N40+N41 -> 8 | O42: 0 | P42: =E42*K42 -> 174.23 | Q42: =E42*L42 -> 0 | R42: =P42+Q42 -> 174.23 | S42: 0 | T42: =E42*O42 -> 0 | U42: =S42+T42 -> 0
B43: 60010 | C43: Pacienta ārstēšanās dienas stacionārā, izņemot nieru aizstājterapijas, invazīvās kardioloģijas, invazīvās radioloģijas un ķirurģijas un psihiatrijas pakalpojumus (par katru dienu) | D43: - | E43: 2.75 | G43: 7 | H43: 1 | I43: 84 | K43: =SUM(K28:K37) -> 1987 | L43: 0 | N43: =SUM(N28:N37) -> 2153 | O43: 0 | P43: =E43*K43 -> 5464.25 | Q43: =E43*L43 -> 0 | R43: =P43+Q43 -> 5464.25 | S43: 0 | T43: =E43*O43 -> 0 | U43: =S43+T43 -> 0
P44: =SUM(P27:P42) -> 1580720.6 | Q44: =SUM(Q27:Q42) -> 5174226.7 | R44: =SUM(R27:R42) -> 6754947.3 | S44: =SUM(S27:S42) -> 1831589.6 | T44: =SUM(T27:T42) -> 6039196 | U44: =SUM(U27:U42) -> 7870785.6
B45: * Pacientu skaits atbilstoši 2023. gada oficiālajiem statistikas datiem
B49: Country | C49: DRG code | D49: Procedure name | E49: Reimb amount, Eur | F49: Additional coverage for devices, Eur | H49: Total | L49: Name of additionally covered devices
B50: Poland | C50: (E43, E46; E47 ) E48 including 9380 AF | D50: Atrial fibrillation ablation - isolation of pulmonary veins | E50: 13290 | H50: 13290
B51: Estonia | C51: 112B | D51: Percutaneous ablation for cardiac arrhythmia | E51: 6851 | F51: 955* | H51: 7806 | L51: DRG 7658 - 3D mapping of the heart
B52: Lithuania | C52: F42 | D52: Diseases of the circulatory system in the absence of acute myocardial infarction and invasive cardiac procedures - when the condition is complicated | E52: 1695 | F52: 5539* | H52: 7234 | L52: Radiofrequency and/or microwave ablation with three-dimensional intracardiac mapping or thoracoscope-guided minimally invasive therapy
B53: Latvia | C53: 112B | D53: Perkutāna ablācija sirds aritmijas dēļ | E53: 3167 | H53: 3167
F54: *3D mapping of the heart
H55: =M4 -> 0 | L55: sarežģītā
B56: The source for the data: | H56: =M6 -> 0 | L56: vienkāršā
B58: LITHUANIA:
B59: Additional coverage for the devices: https://www.e-tar.lt/portal/lt/legalAct/e94bd2d05b8211edbc04912defe897d1/asr (see "Consolidated version annexes” on the right)
B60: DRG list you can find here: https://ligoniukasa.lrv.lt/lt/veiklos-sritys/gydymo-istaigoms-ir-partneriams/kompensuojamuju-paslaugu-kainos/sveikatos-prieziuros-paslaugu-bazines-kainos/ See "Stacionaro DRG kainos”
B62: ESTONIA:
B63: DRG list can be found here: https://www.tervisekassa.ee/partnerile/raviasutusele/tervishoiuteenuste-loetelu, see the latest "List of health care services”
B65: POLAND:
B66: DRG list can be found here: https://baw.nfz.gov.pl/NFZ/document/43180/Zarzadzenie-23_2024_DSOZ
B68: LATVIA:
B69: DRG list can be found here: https://www.vmnvd.gov.lv/lv/drg-grupas-un-raditaji-maksajuma-aprekinam

Sheet 2.4.4.
Q1: Pielikums Nr.2.4.4.
D2: Mazināts kardiovaskulārais risks rezistentas hipertensijas gadījumā grūti kontrolējamo SAS pacientu vidū
B4: Apakšprogrammas nosaukums | C4: Esošais finansējums | D4: Papildus nepieciešamais finansējums indikatīvi 2027. gadam | E4: Papildus nepieciešamais finansējums indikatīvi 2028. gadā un turpmāk ik gadu (ja pasākums nav terminēts)
B5: 33.18.00 Plānveida stacionāro veselības aprūpes pakalpojumu nodrošināšana | C5: 0 | D5: =J23 -> 247567.51 | E5: =N23 -> 346594.52
G7: Ārsts | H7: Māsa | I7: Palīgpersonāls | J7: Soc.nodoklis | O7: Pieskaitāmās un netiešās ražošanas izmaksas | P7: Administratīvās izmaksas | Q7: Pārējo pamatlīdzekļu amortizācija
F8: Mēneša darba samaksa | G8: 2304 | H8: 1388 | I8: 925
F9: 1 minūtes vērtība darba samaksai | G9: =ROUND(G8/9600,4) -> 0.24 | H9: =ROUND(H8/9600,4) -> 0.1446 | I9: =ROUND(I8/9600,4) -> 0.0964 | J9: 0.2359 | N9: Koeficienti | O9: 0.2857 | P9: 0.0202 | Q9: 0.0322
A11: Manipulācijas kods | B11: Manipulācijas nosaukums | C11: Mainīgās izmaksas | Q11: Kopējās izmaksas, euro | R11: Pacienta līdzmaksājums, euro | S11: Tarifs, euro
C12: Darba laiks (minūtes) | F12: Darba samaksa D, euro | I12: Valsts sociālās adrošināšanas obligātās iemaksas S, euro | J12: Ārstniecības līdzekļi M, euro | M12: Iekārtu amortizācija N, euro | N12: Pieskaitāmās un netiešās ražošanas izmaksas U, euro | O12: Administratīvās izmaksas A, euro | P12: Pārējo pamatlīdzekļu amortizācija n, euro
C13: ārstam | D13: māsai | E13: jaunākajam personālām | F13: ārstam | G13: māsai | H13: jaunākajam personālam | I13: ārstam, māsai un jaunākajam personālām kopā | J13: M kopā | K13: Medikamenti | L13: Materiāli | T13: D | U13: S | V13: M | W13: E | X13: U | Y13: A | Z13: N | AA13: P | AB13: Kopējās izmaksas | AC13: Pacienta līdzmaksājums | AD13: Tarifs
A14: 1 | B14: 2 | C14: 3 | D14: 4 | E14: 5 | F14: 6 | G14: 7 | H14: 8 | I14: 9 | J14: 10 = 11 + 12 | K14: 11 | L14: 12 | M14: 13 | N14: 14 | O14: 15 | P14: 16 | Q14: 17 | R14: 18 | S14: 19 | T14: 20 | U14: 21 | V14: 22 | W14: 23 | X14: 24 | Y14: 25 | Z14: 26 | AA14: 27 | AB14: 28 | AC14: 29 | AD14: 30
A15: JAUNS | B15: Nieru artērijas denervācija pacientiem ar rezistentu arteriālo hipertensiju | C15: 240 | D15: 280 | E15: 0 | F15: =C15*G9 -> 57.6 | G15: =D15*H9 -> 40.488 | H15: 0 | I15: =(F15+G15)*J9 -> 23.138959 | J15: =K15+L15 -> 2287.71 | K15: 86.34 | L15: 2201.37 | M15: 19.1 | N15: =(F15+G15)*O9 -> 28.023742 | O15: =(F15+G15)*P9 -> 1.9813776 | P15: =(F15+G15)*Q9 -> 3.1584336 | Q15: =F15+G15+I15+J15+M15+N15+O15+P15 -> 2461.2005 | R15: 0 | S15: =Q15-R15 -> 2461.2005 | T15: =F15+G15 -> 98.088 | U15: =I15 -> 23.138959 | V15: =J15 -> 2287.71 | W15: 0 | X15: =N15 -> 28.023742 | Y15: =O15 -> 1.9813776 | Z15: =M15+P15 -> 22.258434 | AA15: 0 | AB15: =SUM(T15:AA15) -> 2461.2005 | AC15: 0 | AD15: =AB15-AC15 -> 2461.2005
A16: JAUNS | B16: Piemaksa par renālās denervācijas daudzsegmentu neokluzīvu spirālveida katetru pacientiem ar rezistentu arteriālo hipertensiju | C16: 0 | D16: 0 | E16: 0 | F16: =C16*G9 -> 0 | G16: =D16*H9 -> 0 | H16: 0 | I16: =(F16+G16)*J9 -> 0 | J16: =K16+L16 -> 7441.5 | K16: 0 | L16: 7441.5 | M16: 0 | N16: =(F16+G16)*O9 -> 0 | O16: =(F16+G16)*P9 -> 0 | P16: =(F16+G16)*Q9 -> 0 | Q16: =F16+G16+I16+J16+M16+N16+O16+P16 -> 7441.5 | R16: 0 | S16: =Q16-R16 -> 7441.5 | T16: =F16+G16 -> 0 | U16: =I16 -> 0 | V16: =J16 -> 7441.5 | W16: 0 | X16: =N16 -> 0 | Y16: =O16 -> 0 | Z16: =M16+P16 -> 0 | AA16: 0 | AB16: =SUM(T16:AA16) -> 7441.5 | AC16: 0 | AD16: =AB16-AC16 -> 7441.5
B19: Manipulācijas kods | C19: Manipulācijas nosaukums | D19: Manip. tarifs, eiro | E19: Pacienta līdmaksājums, eiro | F19: Plānotais manipulāciju skaits vienam pacientam gadā | G19: Provizoriskais pacientu skaits 2027. gadā* | J19: Nepieciešamais finansējums indikatīvi 2027.gadā, eiro | K19: Provizoriskais pacientu skaits 2028. gadā* | N19: Nepieciešamais finansējums indikatīvi 2028. gadā un turpmāk ik gadu, eiro
G20: Ambulatori | H20: Dienas stacionārā | I20: Stacionārā | K20: Ambulatori | L20: Dienas stacionārā | M20: Stacionārā
B21: JAUNS | C21: Nieru artērijas denervācija pacientiem ar rezistentu arteriālo hipertensiju | D21: =Q15 -> 2461.2005 | E21: 0 | F21: 1 | G21: 0 | H21: 0 | I21: 25 | J21: =D21*F21*I21 -> 61530.013 | K21: 0 | L21: 0 | M21: 35 | N21: =M21*D21 -> 86142.018
B22: JAUNS | C22: Piemaksa par renālās denervācijas daudzsegmentu neokluzīvu spirālveida katetru pacientiem ar rezistentu arteriālo hipertensiju | D22: =Q16 -> 7441.5 | E22: 0 | F22: 1 | G22: 0 | H22: 0 | I22: 25 | J22: =D22*F22*I22 -> 186037.5 | K22: 0 | L22: 0 | M22: 35 | N22: =D22*M22 -> 260452.5
I23: Kopā | J23: =SUM(J21:J22) -> 247567.51 | N23: =SUM(N21:N22) -> 346594.52
B26: Iestādes definējušas apjomus: 2026.g. Paula Stradiņa universitātes slimnīca - 15, Rīgas Austrumu klīniskā universitātes slimnīca -10, 2027.g. Paula Stradiņa universitātes slimnīca - 20, Rīgas Austrumu klīniskā universitātes slimnīca -15

Sheet 2.4.5.1. 
H1: Pielikums Nr.2.4.5.1.
B3: Mazināts pacientu gaidīšanas laiks plānveida invazīvās kardioloģijas pakalpojuma saņemšanai
A5: Apakšprogrammas nosaukums | B5: Esošais finansējums | C5: Papildus nepieciešamais finansējums indikatīvi 2027. gadam | D5: Papildus nepieciešamais finansējums indikatīvi 2028. gadam | E5: Papildus nepieciešamais finansējums indikatīvi 2029. gadam un turpmāk ik gadu (ja pasākums nav terminēts)
