Workbook

Sheet 1.pielikums
C2: 1. pielikums
C3: Balvu novada domes
C4: 2026. gada 2. februāra saistošajiem noteikumiem Nr. 2/2026
C5: "Par Balvu novada pašvaldības 2026. gada budžetu"
A7: Balvu novada pašvaldības pamatbudžets 2026. gadam ( EUR)
A9: Rādītāju nosaukumi | B9: Budžeta kategoriju kodi | C9: Apstiprināts 2026. gadam (EUR)
A10: I IEŅĒMUMI - kopā | C10: =C11+C13+C15+C19+C22+C24+C26+C29+C31+C33+C35+C17 -> 40531159
A11: IENĀKUMA NODOKĻI | B11: 1.0.0.0. | C11: =C12 -> 12315460
A12: Ieņēmumi no iedzīvotāju ienākuma nodokļa | B12: 1.1.0.0. | C12: ='2.pielikums'!F15 -> 12315460
A13: ĪPAŠUMA NODOKĻI | B13: 4.0.0.0. | C13: =C14 -> 1131791
A14: Nekustamā īpašuma nodoklis | B14: 4.1.0.0. | C14: ='2.pielikums'!F18 -> 1131791
A15: NODOKĻI PAR PAKALPOJUMIEM UN PRECĒM | B15: 5.0.0.0. | C15: =C16 -> 58000
A16: Nodokļi un maksājumi par tiesībām lietot atsevišķas preces | B16: 5.5.0.0. | C16: ='2.pielikums'!F29 -> 58000
A17: IEŅĒMUMI NO UZŅĒMĒJDARBĪBAS UN ĪPAŠUMA | B17: 8.0.0.0. | C17: =C18 -> 10000
A18: Procentu ieņēmumi par depozītiem, kontu atlikumiem, valsts parāda vērtspapīriem un atlikto maksājumu | B18: 8.6.0.0. | C18: ='2.pielikums'!F36 -> 10000
A19: VALSTS (PAŠVALDĪBU) NODEVAS UN KANCELEJAS NODEVAS | B19: 9.0.0.0. | C19: =C20+C21 -> 16585
A20: Valsts nodevas, kuras ieskaita pašvaldību budžetā | B20: 9.4.0.0. | C20: ='2.pielikums'!F38 -> 12185
A21: Pašvaldību nodevas | B21: 9.5.0.0. | C21: ='2.pielikums'!F45 -> 4400
A22: NAUDAS SODI UN SANKCIJAS | B22: 10.0.0.0. | C22: =C23 -> 2500
A23: Naudas sodi | B23: 10.1.0.0. | C23: ='2.pielikums'!F51 -> 2500
A24: PĀRĒJIE NENODOKĻU IEŅĒMUMI | B24: 12.0.0.0. | C24: =C25 -> 36433
A25: Citi dažādi nenodokļu ieņēmumi | B25: 12.3.0.0. | C25: ='2.pielikums'!F55 -> 36433
A26: Ieņēmumi no valsts (pašvaldību) īpašuma iznomāšanas, pārdošanas un no nodokļu pamatparāda kapitalizācijas | B26: 13.0.0.0. | C26: =C27+C28 -> 520000
A27: Ieņēmumi no ēku un būvju īpašuma pārdošanas | B27: 13.1.0.0. | C27: ='2.pielikums'!F64 -> 100000
A28: Ieņēmumi no zemes, meža īpašuma pārdošanas | B28: 13.2.0.0. | C28: ='2.pielikums'!F65 -> 420000
A29: No valsts budžeta daļēji finansēto atvasināto publisko personu un budžeta nefinansēto iestāžu transferti | B29: 17.0.0.0. | C29: =C30 -> 15865
A30: Pašvaldību saņemtie transferti no valsts budžeta daļēji finansētām atvasinātām publiskām personām un no budžeta nefinansētām iestādēm | B30: 17.2.0.0. | C30: ='2.pielikums'!F67 -> 15865
A31: Valsts budžeta transferti | B31: 18.0.0.0. | C31: =C32 -> 21897638
A32: Pašvaldību saņemtie transferti no valsts budžeta | B32: 18.6.0.0. | C32: ='2.pielikums'!F70 -> 21897638
A33: Pašvaldību budžetu transferti | B33: 19.0.0.0 | C33: =C34 -> 180000
A34: Pašvaldību saņemtie transferti no citām pašvaldībām | B34: 19.2.0.0. | C34: ='2.pielikums'!F119 -> 180000
A35: Budžeta iestāžu ieņēmumi | B35: 21.0.0.0. | C35: =SUM(C36:C37) -> 4346887
A36: Ieņēmumi no budžeta iestāžu sniegtajiem maksas pakalpojumiem un citi pašu ieņēmumi | B36: 21.3.0.0. | C36: ='2.pielikums'!F122 -> 4341887
A37: Pārējie 21.3.0.0.grupā neklasificētie budžeta iestāžu ieņēmumi par budžeta iestāžu sniegtajiem maksas pakalpojumiem un citi pašu ieņēmumi | B37: 21.4.0.0. | C37: ='2.pielikums'!F395 -> 5000
A38: II IZDEVUMI - kopā | C38: =C39 -> 41957831
A39: Izdevumi atbilstoši funkcionālajām kategorijām | C39: =SUM(C40:C48) -> 41957831
A40: Vispārējie valdības dienesti | B40: 01.000 | C40: ='3.pielikums'!H12 -> 3284701
A41: Sabiedriskā kārtība un drošība | B41: 03.000 | C41: ='3.pielikums'!H27 -> 356204
A42: Ekonomiskā darbība | B42: 04.000 | C42: ='3.pielikums'!H31 -> 4431449
A43: Vides aizsardzība | B43: 05.000 | C43: ='3.pielikums'!H67 -> 507953
...

Sheet 2.pielikums
F3: 2. pielikums
F4: Balvu novada domes
F5: 2026. gada 2. februāra saistošajiem noteikumiem Nr. 2/2026
F6: "Par Balvu novada pašvaldības 2026. gada budžetu"
A8: Balvu novada pašvaldības pamatbudžeta ieņēmumi 2026. gadam ( EUR)
A10: Klasifikācijas kods | B10: Ieņēmumi | C10: Ieņēmumu veidi | F10: KOPĀ (EUR) 2025
C11: Vispārējie pamatbudžeta ieņēmumi (EUR) | D11: Maksas pakalpojumi un pašu ieņēmumi (EUR) | E11: Valsts mērķdotācijas (EUR)
A12: I | B12: IEŅĒMUMI KOPĀ | C12: =C14+C17+C29+C37+C51+C63+C55+C35 -> 14090769 | D12: =D119+D122+D395+D55 -> 4526887 | E12: =E119+E70+E67 -> 21913503 | F12: =F14+F17+F29+F35+F37+F51+F55+F63+F67+F70+F119+F121 -> 40531159
A13: 1 | B13: Nodokļu ieņēmumi | C13: =C14+C17+C29 -> 13505251 | F13: =C13 -> 13505251
A14: 1.0.0.0. | B14: IENĀKUMA NODOKĻI | C14: =C15 -> 12315460 | F14: =C14 -> 12315460
A15: 1.1.1.0 | B15: Iedzīvotāju ienākuma nodoklis | C15: =C16 -> 12315460 | F15: =C15 -> 12315460
A16: 1.1.1.2 | B16: Iedzīvotāju ienākuma nodoklis | C16: 12315460 | F16: =C16 -> 12315460
A17: 4.0.0.0. | B17: ĪPAŠUMA NODOKĻI | C17: =C18 -> 1131791 | F17: =C17 -> 1131791
A18: 4.1.0.0 | B18: Nekustamā īpašuma nodoklis | C18: =C19+C22+C26 -> 1131791 | F18: =C18 -> 1131791
A19: 4.1.1.0 | B19: Nekustamā īpašuma nodoklis par zemi | C19: =C20+C21 -> 990358 | F19: =C19 -> 990358
A20: 4.1.1.1 | B20: Nekustamā īpašuma nodokļa par zemi kārtējā saimnieciskā gada ieņēmumi | C20: 900358 | F20: =C20 -> 900358
A21: 4.1.1.2 | B21: Nekustamā īpašuma nodoklis par zemi – iepriekšējo gadu parādi | C21: 90000 | F21: =C21 -> 90000
A22: 4.1.2.0 | B22: Nekustamā īpašuma nodokļi par ēkām | C22: =C23+C25 -> 85579 | F22: =C22 -> 85579
A23: 4.1.2.1 | B23: Nekustamā īpašuma nodoklis par ēkām kārtējā gada maksājumi | C23: 80579 | F23: =C23 -> 80579
B24: t.sk. par inženierbūvēm | C24: 4275 | F24: =C24 -> 4275
A25: 4.1.2.2 | B25: Nekustamā īpašuma nodoklis par ēkām – iepriekšējo gadu parādi | C25: 5000 | F25: =C25 -> 5000
A26: 4.1.3.0 | B26: Nekustamā īpašuma nodokļi par mājokļiem | C26: =C27+C28 -> 55854 | F26: =C26 -> 55854
A27: 4.1.3.1. | B27: Nekustamā īpašuma nodokļa par mājokļiem kārtējā saimnieciskā gada ieņēmumi | C27: 45854 | F27: =C27 -> 45854
A28: 4.1.3.2. | B28: Nekustamā īpašuma naodoklis par mājokļiem – iepriekšējo gadu parādi | C28: 10000 | F28: =C28 -> 10000
A29: 5.0.0.0. | B29: NODOKĻI PAR PAKALPOJUMIEM UN PRECĒM | C29: =C30+C32 -> 58000 | F29: =C29 -> 58000
A30: 5.4.0.0. | B30: Nodokļi par atsevišķām precēm un pakalpojumu veidiem | C30: =C31 -> 8000 | F30: =F31 -> 8000
A31: 5.4.1.0 | B31: Azartspēļu nodoklis | C31: 8000 | F31: =C31 -> 8000
A32: 5.5.0.0. | B32: Nodokļi un maksājumi par tiesībām lietot atsevišķas preces | C32: =C33 -> 50000 | F32: =F33 -> 50000
A33: 5.5.3.0. | B33: Dabas resursu nodoklis | C33: 50000 | F33: =C33 -> 50000
A34: 2 | B34: Nenodokļu ieņēmumi | C34: =C37+C51+C55+C63+C35 -> 585518 | F34: =C34 -> 585518
A35: 8.0.0.0. | B35: Ieņēmumi no uzņēmējdarbības un īpašuma | C35: =C36 -> 10000 | F35: =F36 -> 10000
A36: 8.6.0.0. | B36: Procentu ieņēmumi par depozītiem, kontu atlikumiem, valsts parāda vērtspapīriem un atlikto maksājumu | C36: 10000 | F36: =C36 -> 10000
A37: 9.0.0.0. | B37: VALSTS (PAŠVALDĪBU) NODEVAS UN KANCELEJAS NODEVAS | C37: =C38+C45 -> 16585 | F37: =C37 -> 16585
A38: 9.4.0.0. | B38: Valsts nodevas, kuras ieskaita pašvaldības budžetā | C38: =C39+C41+C43+C40+C42 -> 12185 | F38: =C38 -> 12185
A39: 9.4.2.0. | B39: Valsts nodeva par apliecinājumiem un citu funkciju pildīšanu bāriņtiesās | C39: 10000 | F39: =C39 -> 10000
A40: 9.4.3.0. | B40: Valsts nodeva par uzvārda, vārda un tautības ieraksta maiņu personu apliecinošos dokumentos | C40: 300 | F40: =C40 -> 300
A41: 9.4.5.0. | B41: Valsts nodeva par civilstāvokļa aktu reģistrēšanu, grozīšanu un papildināšanu | C41: 1400 | F41: =C41 -> 1400
A42: 9.4.6.0. | B42: Valsts nodeva par speciālu atļauju (licenču) izsniegšanu | C42: 285 | F42: =C42 -> 285
A43: 9.4.9.0. | B43: Pārējās valsts nodevas, kuras ieskaita pašvaldību budžetos | C43: =C44 -> 200 | F43: =C43 -> 200
A44: 9.4.9.1. | B44: Nodeva par dzīves vietas deklarēšanu | C44: 200 | F44: =C44 -> 200
...

Sheet 3.pielikums
H2: 3. pielikums
H3: Balvu novada domes
H4: 2026. gada 2. februāra saistošajiem noteikumiem Nr. 2/2026
H5: "Par Balvu novada pašvaldības 2026. gada budžetu"
C7: Balvu novada pašvaldības pamatbudžeta izdevumi 2026. gadam (EUR)
A9: Klasifikācijas kods | B9: Iestādes un pasākumi | D9: Finansēšanas avots | H9: Kopā
C10: Atlikums uz gada sākumu | D10: Vispārējie ieņēmumi | E10: Budžeta iestāžu ieņēmumi | F10: Valsts un pašvaldību transferti | G10: Aizņēmumi
C11: =C12+C27+C31+C92+C172+C183+C225+C294+C67 -> 1344827 | D11: =D12+D27+D31+D92+D172+D183+D225+D294+D67 -> 21216458 | E11: =E12+E27+E31+E92+E172+E183+E225+E294+E67 -> 3643851 | F11: =F12+F27+F31+F92+F172+F183+F225+F294+F67 -> 13848402 | G11: =G12+G27+G31+G92+G172+G183+G225+G294+G67 -> 1775293 | H11: =H12+H27+H31+H92+H172+H183+H225+H294+H67 -> 41957831
A12: 01.000 | B12: Vispārējie valdības dienesti | C12: =SUM(C13:C26) -> 0 | D12: =SUM(D13:D26) -> 3249451 | E12: =SUM(E13:E26) -> 7750 | F12: =SUM(F13:F26) -> 27500 | G12: =SUM(G13:G26) -> 0 | H12: =SUM(H13:H26) -> 3284701
B13: Balvu novada administrācija | D13: =H13-E13-G13-F13-C13 -> 1494473 | H13: ='4.pielikums'!B13 -> 1494473
B14: Deputātu darba samaksa | D14: =H14-E14-G14-F14-C14 -> 186403 | H14: ='4.pielikums'!B14 -> 186403
B15: Bijušo pagastu padomju un pilsētu domju vadītāju pabalsti | D15: =H15-E15-G15-F15-C15 -> 261850 | H15: ='4.pielikums'!B15 -> 261850
B16: Komisiju darba samaksa | D16: =H16-E16-G16-F16-C16 -> 26400 | H16: ='4.pielikums'!B16 -> 26400
B17: Valsts sociālās apdrošināšanas obligātās iemaksas no nepilnām likmēm | D17: =H17-E17-G17-F17-C17 -> 80000 | H17: ='4.pielikums'!B17 -> 80000
B18: Balvu apvienības pārvalde | D18: =H18-E18-G18-F18-C18 -> 142262 | H18: ='4.pielikums'!B19 -> 142262
B19: Baltinavas apvienības pārvalde | D19: =H19-E19-G19-F19-C19 -> 130285 | H19: ='4.pielikums'!B20 -> 130285
B20: Rugāju apvienības pārvalde | D20: =H20-E20-G20-F20-C20 -> 94418 | H20: ='4.pielikums'!B21 -> 94418
B21: Viļakas apvienības pārvalde | D21: =H21-E21-G21-F21-C21 -> 145377 | H21: ='4.pielikums'!B22 -> 145377
B22: Valsts un pašvaldības vienotais klientu apkalpošanas centrs | D22: =H22-E22-G22-F22-C22 -> 44376 | E22: 7750 | F22: 27500 | H22: ='4.pielikums'!B23 -> 79626
B23: Pašvaldības aizņēmumu apkalpošana un procentu maksa | D23: =H23-E23-G23-F23-C23 -> 586196 | H23: ='4.pielikums'!B26 -> 586196
B24: Izdevumi neparedzētiem gadījumiem | D24: =H24-E24-G24-F24-C24 -> 5000 | H24: ='4.pielikums'!B24 -> 5000
B25: Biedru maksa | D25: =H25-E25-G25-F25-C25 -> 51098 | H25: ='4.pielikums'!B25 -> 51098
B26: Vēlēšanu komisija | D26: =H26-E26-G26-F26-C26 -> 1313 | H26: ='4.pielikums'!B18 -> 1313
A27: 03.000 | B27: Sabiedriskā kārtība un drošība | C27: =SUM(C28:C30) -> 0 | D27: =SUM(D28:D30) -> 316654 | E27: =SUM(E28:E30) -> 39550 | F27: =SUM(F28:F30) -> 0 | G27: =SUM(G28:G30) -> 0 | H27: =SUM(H28:H30) -> 356204
B28: Dzimtsarakstu nodaļa | D28: =H28-E28-G28-F28-C28 -> 83862 | E28: 4550 | H28: ='4.pielikums'!B27 -> 88412
B29: Pašvaldības policija | D29: =H29-E29-G29-F29-C29 -> 190036 | E29: 1000 | G29: 0 | H29: ='4.pielikums'!B28 -> 191036
B30: Atskurbtuves uzturēšana | D30: =H30-E30-G30-F30-C30 -> 42756 | E30: 34000 | H30: ='4.pielikums'!B29 -> 76756
A31: 04.000 | B31: Ekonomiskā darbība | C31: =SUM(C32:C66) -> 839036 | D31: =SUM(D32:D66) -> 380648 | E31: =SUM(E32:E66) -> 7000 | F31: =SUM(F32:F66) -> 2465593 | G31: =SUM(G32:G66) -> 739172 | H31: =SUM(H32:H66) -> 4431449
B32: Balvu novada Būvvalde | D32: =H32-E32-G32-F32-C32 -> 58102 | E32: 3000 | H32: ='4.pielikums'!B30 -> 61102
B33: Algotie pagaidu sabiedriskie darbi | C33: 0 | D33: =H33-E33-G33-F33-C33 -> 283 | F33: 41900 | H33: ='4.pielikums'!B57 -> 42183
B34: Balvu pilsētas autoceļu (ielu) uzturēšana | C34: 14436 | D34: =H34-E34-G34-F34-C34 -> 0 | F34: 119740 | H34: ='4.pielikums'!B35 -> 134176
B35: Baltinavas pagasta autoceļu (ielu) uzturēšana | C35: 31546 | D35: =H35-E35-G35-F35-C35 -> 0 | F35: 41427 | H35: ='4.pielikums'!B36 -> 72973
B36: Balvu pagasta autoceļu (ielu) uzturēšana | C36: 11718 | D36: =H36-E36-G36-F36-C36 -> 0 | F36: 25980 | H36: ='4.pielikums'!B37 -> 37698
B37: Bērzkalnes pagasta autoceļu (ielu) uzturēšana | C37: 0 | D37: =H37-E37-G37-F37-C37 -> 0 | F37: 34801 | H37: ='4.pielikums'!B38 -> 34801
B38: Bērzpils pagasta autoceļu (ielu) uzturēšana | C38: 4923 | D38: =H38-E38-G38-F38-C38 -> 0 | F38: 37470 | H38: ='4.pielikums'!B39 -> 42393
B39: Briežuciema pagasta autoceļu (ielu) uzturēšana | C39: 28665 | D39: =H39-E39-G39-F39-C39 -> 0 | F39: 40144 | H39: ='4.pielikums'!B40 -> 68809
B40: Krišjāņu pagasta autoceļu (ielu) uzturēšana | C40: 7580 | D40: =H40-E40-G40-F40-C40 -> 0 | F40: 21003 | H40: ='4.pielikums'!B41 -> 28583
B41: Kubulu pagasta autoceļu (ielu) uzturēšana | C41: 0 | D41: =H41-E41-G41-F41-C41 -> 0 | F41: 75759 | H41: ='4.pielikums'!B42 -> 75759
B42: Kupravas pagasta autoceļu (ielu) uzturēšana | C42: 10390 | D42: =H42-E42-G42-F42-C42 -> 0 | F42: 14633 | H42: ='4.pielikums'!B43 -> 25023
B43: Lazdulejas pagasta autoceļu (ielu) uzturēšana | C43: 5987 | D43: =H43-E43-G43-F43-C43 -> 0 | F43: 25368 | H43: ='4.pielikums'!B44 -> 31355
...

Sheet 4.pielikums
P2: 4. pielikums
P3: Balvu novada domes
P4: 2026. gada 2. februāra saistošajiem noteikumiem Nr. 2/2026
P5: "Par Balvu novada pašvaldības 2026. gada budžetu"
E6: Balvu novada pašvaldības pamatbudžeta izdevumi 2026. gadam (EUR)
A10: Iestādes | B10: Apstiprināts 2026.gadam (EUR)
C11: 1000 | D11: 1100 | E11: 1200 | F11: 2000 | G11: 2100 | H11: 2200 | I11: 2300 | J11: 2400 | K11: 2500 | L11: 3000 | M11: 4000 | N11: 5000 | O11: 6000 | P11: 7000
C12: Atlīdzība (2026) | D12: Atalgojums (2026) | E12: DDVSAOI (2026) | F12: Preces un pakalpojumi (2026) | G12: Mācību, darba un dienesta komandējumi, darba braucieni (2026) | H12: Pakalpojumi (2026) | I12: Krājumi, materiāli, energoresursi, preces, biroja preces un inventārs (2026) | J12: Izdevumi periodikas iegādei bibliotēku krājumiem (2026) | K12: Budžeta iestāžu nodokļu, nodevu un sankciju maksājumi (2026) | L12: Subsīdijas un dotācijas (2026) | M12: Procentu maksājumi (2026) | N12: Pamatkapitāla veidošana (2026) | O12: Sociālā rakstura maksājumi un kompensācijas (2026) | P12: Transferti (2026)
A13: Balvu novada administrācija | B13: =SUM(C13+F13,L13,M13,N13,O13,P13) -> 1494473 | C13: =D13+E13 -> 1252302 | D13: 1031586 | E13: 220716 | F13: =SUM(G13,H13,I13,J13,K13) -> 217171 | G13: 1300 | H13: 186924 | I13: 27447 | K13: 1500 | N13: 25000
A14: Deputātu darba samaksa | B14: =SUM(C14+F14,L14,M14,N14,O14,P14) -> 186403 | C14: =D14+E14 -> 186403 | D14: 150823 | E14: 35580 | F14: =SUM(G14,H14,I14,J14,K14) -> 0
A15: Bijušo pagastu padomju un pilsētu domju vadītāju pabalsti | B15: =SUM(C15+F15,L15,M15,N15,O15,P15) -> 261850 | C15: =D15+E15 -> 0 | F15: =SUM(G15,H15,I15,J15,K15) -> 0 | O15: 261850
A16: Komisiju darba samaksa | B16: =SUM(C16+F16,L16,M16,N16,O16,P16) -> 26400 | C16: =D16+E16 -> 26400 | D16: 21360 | E16: 5040 | F16: =SUM(G16,H16,I16,J16,K16) -> 0
A17: Valsts sociālās apdrošināšanas obligātās iemaksas no nepilnām likmēm | B17: =SUM(C17+F17,L17,M17,N17,O17,P17) -> 80000 | C17: =D17+E17 -> 80000 | E17: 80000 | F17: =SUM(G17,H17,I17,J17,K17) -> 0
A18: Vēlēšanu komisija | B18: =SUM(C18+F18,L18,M18,N18,O18,P18) -> 1313 | C18: =D18+E18 -> 1113 | D18: 900 | E18: 213 | F18: =SUM(G18,H18,I18,J18,K18) -> 200 | I18: 200
A19: Balvu apvienības pārvalde | B19: =SUM(C19+F19,L19,M19,N19,O19,P19) -> 142262 | C19: =D19+E19 -> 125288 | D19: 100940 | E19: 24348 | F19: =SUM(G19,H19,I19,J19,K19) -> 16974 | G19: 20 | H19: 6023 | I19: 10472 | K19: 459
A20: Baltinavas apvienības pārvalde | B20: =SUM(C20+F20,L20,M20,N20,O20,P20) -> 130285 | C20: =D20+E20 -> 104413 | D20: =89943-3900-1560 -> 84483 | E20: =21218-920-368 -> 19930 | F20: =SUM(G20,H20,I20,J20,K20) -> 25872 | H20: 9986 | I20: 15576 | K20: 310
A21: Rugāju apvienības pārvalde | B21: =SUM(C21+F21,L21,M21,N21,O21,P21) -> 94418 | C21: =D21+E21 -> 75213 | D21: 60006 | E21: 15207 | F21: =SUM(G21,H21,I21,J21,K21) -> 19205 | G21: 40 | H21: 9420 | I21: 9435 | K21: 310
A22: Viļakas apvienības pārvalde | B22: =SUM(C22+F22,L22,M22,N22,O22,P22) -> 145377 | C22: =D22+E22 -> 114583 | D22: 92554 | E22: 22029 | F22: =SUM(G22,H22,I22,J22,K22) -> 30794 | H22: 16860 | I22: 13110 | K22: 824
A23: Valsts un pašvaldības vienotais klientu apkalpošanas centrs | B23: =SUM(C23+F23,L23,M23,N23,O23,P23) -> 79626 | C23: =D23+E23 -> 67900 | D23: 54900 | E23: 13000 | F23: =SUM(G23,H23,I23,J23,K23) -> 11726 | G23: 32 | H23: 10294 | I23: 1400
A24: Izdevumi neparedzētiem gadījumiem | B24: =SUM(C24+F24,L24,M24,N24,O24,P24) -> 5000 | C24: =D24+E24 -> 0 | F24: =SUM(G24,H24,I24,J24,K24) -> 5000 | H24: 5000
A25: Biedru maksa | B25: =SUM(C25+F25,L25,M25,N25,O25,P25) -> 51098 | C25: =D25+E25 -> 0 | F25: =SUM(G25,H25,I25,J25,K25) -> 51098 | H25: 51098
A26: Pašvaldības aizņēmumu apkalpošana un procentu maksa | B26: =SUM(C26+F26,L26,M26,N26,O26,P26) -> 586196 | C26: =D26+E26 -> 0 | F26: =SUM(G26,H26,I26,J26,K26) -> 18134 | H26: 18134 | M26: 568062
A27: Dzimtsarakstu nodaļa | B27: =SUM(C27+F27,L27,M27,N27,O27,P27) -> 88412 | C27: =D27+E27 -> 68168 | D27: 54284 | E27: 13884 | F27: =SUM(G27,H27,I27,J27,K27) -> 20244 | G27: 310 | H27: 15589 | I27: 4345
A28: Pašvaldības policija | B28: =SUM(C28+F28,L28,M28,N28,O28,P28) -> 191036 | C28: =D28+E28 -> 163231 | D28: 130631 | E28: 32600 | F28: =SUM(G28,H28,I28,J28,K28) -> 22555 | G28: 130 | H28: 11905 | I28: 10460 | K28: 60 | N28: 5250
A29: Atskurbtuves uzturēšana | B29: =SUM(C29+F29,L29,M29,N29,O29,P29) -> 76756 | C29: =D29+E29 -> 73288 | D29: 58688 | E29: 14600 | F29: =SUM(G29,H29,I29,J29,K29) -> 3468 | H29: 2818 | I29: 650
A30: Būvvalde | B30: =SUM(C30+F30,L30,M30,N30,O30,P30) -> 61102 | C30: =D30+E30 -> 57549 | D30: 46116 | E30: 11433 | F30: =SUM(G30,H30,I30,J30,K30) -> 3553 | G30: 90 | H30: 443 | I30: 3020
A31: Pārējā ekonomiskā darbība (PVN) | B31: =SUM(C31+F31,L31,M31,N31,O31,P31) -> 160000 | C31: =D31+E31 -> 0 | F31: =SUM(G31,H31,I31,J31,K31) -> 160000 | K31: 160000
A32: Latgales speciālās ekonomiskās zonas atbalsts | B32: =SUM(C32+F32,L32,M32,N32,O32,P32) -> 3448 | C32: =D32+E32 -> 0 | F32: =SUM(G32,H32,I32,J32,K32) -> 3448 | H32: 3448
A33: Biznesa ideju konkurss | B33: =SUM(C33+F33,L33,M33,N33,O33,P33) -> 50000 | C33: =D33+E33 -> 0 | F33: =SUM(G33,H33,I33,J33,K33) -> 0 | L33: 50000
A34: Uzņēmejdarbības atbalsts | B34: =SUM(C34+F34,L34,M34,N34,O34,P34) -> 13660 | C34: =D34+E34 -> 0 | F34: =SUM(G34,H34,I34,J34,K34) -> 13660 | H34: 13160 | I34: 500
A35: Balvu pilsētas autoceļu (ielu) uzturēšana | B35: =SUM(C35+F35,L35,M35,N35,O35,P35) -> 134176 | C35: =D35+E35 -> 17481 | D35: 14144 | E35: 3337 | F35: =SUM(G35,H35,I35,J35,K35) -> 116695 | H35: 106465 | I35: 10230
A36: Baltinavas pagasta autoceļu (ielu) uzturēšana | B36: =SUM(C36+F36,L36,M36,N36,O36,P36) -> 72973 | C36: =D36+E36 -> 8406 | D36: 6802 | E36: 1604 | F36: =SUM(G36,H36,I36,J36,K36) -> 64567 | H36: 41542 | I36: 23025
A37: Balvu pagasta autoceļu (ielu) uzturēšana | B37: =SUM(C37+F37,L37,M37,N37,O37,P37) -> 37698 | C37: =D37+E37 -> 3510 | D37: 2840 | E37: 670 | F37: =SUM(G37,H37,I37,J37,K37) -> 34188 | H37: 29688 | I37: 4500
A38: Bērzkalnes pagasta autoceļu (ielu) uzturēšana | B38: =SUM(C38+F38,L38,M38,N38,O38,P38) -> 34801 | C38: =D38+E38 -> 0 | F38: =SUM(G38,H38,I38,J38,K38) -> 34801 | H38: 33351 | I38: 1450
A39: Bērzpils pagasta autoceļu (ielu) uzturēšana | B39: =SUM(C39+F39,L39,M39,N39,O39,P39) -> 42393 | C39: =D39+E39 -> 3510 | D39: 2840 | E39: 670 | F39: =SUM(G39,H39,I39,J39,K39) -> 38883 | H39: 34783 | I39: 4100
A40: Briežuciema pagasta autoceļu (ielu) uzturēšana | B40: =SUM(C40+F40,L40,M40,N40,O40,P40) -> 68809 | C40: =D40+E40 -> 0 | F40: =SUM(G40,H40,I40,J40,K40) -> 68809 | H40: 67479 | I40: 1330
A41: Krišjāņu pagasta autoceļu (ielu) uzturēšana | B41: =SUM(C41+F41,L41,M41,N41,O41,P41) -> 28583 | C41: =D41+E41 -> 0 | F41: =SUM(G41,H41,I41,J41,K41) -> 28583 | H41: 26083 | I41: 2500
A42: Kubulu pagasta autoceļu (ielu) uzturēšana | B42: =SUM(C42+F42,L42,M42,N42,O42,P42) -> 75759 | C42: =D42+E42 -> 0 | F42: =SUM(G42,H42,I42,J42,K42) -> 75759 | H42: 73859 | I42: 1900
A43: Kupravas pagasta autoceļu (ielu) uzturēšana | B43: =SUM(C43+F43,L43,M43,N43,O43,P43) -> 25023 | C43: =D43+E43 -> 0 | F43: =SUM(G43,H43,I43,J43,K43) -> 25023 | H43: 20223 | I43: 4800
A44: Lazdulejas pagasta autoceļu (ielu) uzturēšana | B44: =SUM(C44+F44,L44,M44,N44,O44,P44) -> 31355 | C44: =D44+E44 -> 0 | F44: =SUM(G44,H44,I44,J44,K44) -> 31355 | H44: 31255 | I44: 100
...
