Workbook

Sheet 1.pielikums
C2: 1. pielikums
C3: Balvu novada domes
C4: 2026. gada 2. februāra saistošajiem noteikumiem Nr. 2/2026
C5: "Par Balvu novada pašvaldības 2026. gada budžetu"
A7: Balvu novada pašvaldības pamatbudžets 2026. gadam ( EUR)
A9: Rādītāju nosaukumi | B9: Budžeta kategoriju kodi | C9: Apstiprināts 2026. gadam (EUR)
A10: I IEŅĒMUMI - kopā | C10: =C11+C13+C15+C19+C22+C24+C26+C29+C31+C33+C35+C17 -> 40531159
A11: IENĀKUMA NODOKĻI | B11: 1.0.0.0. | C11: =C12 -> 12315460
A12: Ieņēmumi no iedzīvotāju ienākuma nodokļa | B12: 1.1.0.0. | C12: ='2.pielikums'!F15 -> 12315460
A13: ĪPAŠUMA NODOKĻI | B13: 4.0.0.0. | C13: =C14 -> 1131791
A14: Nekustamā īpašuma nodoklis | B14: 4.1.0.0. | C14: ='2.pielikums'!F18 -> 1131791
A15: NODOKĻI PAR PAKALPOJUMIEM UN PRECĒM | B15: 5.0.0.0. | C15: =C16 -> 58000
A16: Nodokļi un maksājumi par tiesībām lietot atsevišķas preces | B16: 5.5.0.0. | C16: ='2.pielikums'!F29 -> 58000
A17: IEŅĒMUMI NO UZŅĒMĒJDARBĪBAS UN ĪPAŠUMA | B17: 8.0.0.0. | C17: =C18 -> 10000
A18: Procentu ieņēmumi par depozītiem, kontu atlikumiem, valsts parāda vērtspapīriem un atlikto maksājumu | B18: 8.6.0.0. | C18: ='2.pielikums'!F36 -> 10000
A19: VALSTS (PAŠVALDĪBU) NODEVAS UN KANCELEJAS NODEVAS | B19: 9.0.0.0. | C19: =C20+C21 -> 16585
A20: Valsts nodevas, kuras ieskaita pašvaldību budžetā | B20: 9.4.0.0. | C20: ='2.pielikums'!F38 -> 12185
A21: Pašvaldību nodevas | B21: 9.5.0.0. | C21: ='2.pielikums'!F45 -> 4400
A22: NAUDAS SODI UN SANKCIJAS | B22: 10.0.0.0. | C22: =C23 -> 2500
A23: Naudas sodi | B23: 10.1.0.0. | C23: ='2.pielikums'!F51 -> 2500
A24: PĀRĒJIE NENODOKĻU IEŅĒMUMI | B24: 12.0.0.0. | C24: =C25 -> 36433
A25: Citi dažādi nenodokļu ieņēmumi | B25: 12.3.0.0. | C25: ='2.pielikums'!F55 -> 36433
A26: Ieņēmumi no valsts (pašvaldību) īpašuma iznomāšanas, pārdošanas un no nodokļu pamatparāda kapitalizācijas | B26: 13.0.0.0. | C26: =C27+C28 -> 520000
A27: Ieņēmumi no ēku un būvju īpašuma pārdošanas | B27: 13.1.0.0. | C27: ='2.pielikums'!F64 -> 100000
A28: Ieņēmumi no zemes, meža īpašuma pārdošanas | B28: 13.2.0.0. | C28: ='2.pielikums'!F65 -> 420000
A29: No valsts budžeta daļēji finansēto atvasināto publisko personu un budžeta nefinansēto iestāžu transferti | B29: 17.0.0.0. | C29: =C30 -> 15865
A30: Pašvaldību saņemtie transferti no valsts budžeta daļēji finansētām atvasinātām publiskām personām un no budžeta nefinansētām iestādēm | B30: 17.2.0.0. | C30: ='2.pielikums'!F67 -> 15865
A31: Valsts budžeta transferti | B31: 18.0.0.0. | C31: =C32 -> 21897638
A32: Pašvaldību saņemtie transferti no valsts budžeta | B32: 18.6.0.0. | C32: ='2.pielikums'!F70 -> 21897638
A33: Pašvaldību budžetu transferti | B33: 19.0.0.0 | C33: =C34 -> 180000
A34: Pašvaldību saņemtie transferti no citām pašvaldībām | B34: 19.2.0.0. | C34: ='2.pielikums'!F119 -> 180000
A35: Budžeta iestāžu ieņēmumi | B35: 21.0.0.0. | C35: =SUM(C36:C37) -> 4346887
A36: Ieņēmumi no budžeta iestāžu sniegtajiem maksas pakalpojumiem un citi pašu ieņēmumi | B36: 21.3.0.0. | C36: ='2.pielikums'!F122 -> 4341887
A37: Pārējie 21.3.0.0.grupā neklasificētie budžeta iestāžu ieņēmumi par budžeta iestāžu sniegtajiem maksas pakalpojumiem un citi pašu ieņēmumi | B37: 21.4.0.0. | C37: ='2.pielikums'!F395 -> 5000
A38: II IZDEVUMI - kopā | C38: =C39 -> 41957831
A39: Izdevumi atbilstoši funkcionālajām kategorijām | C39: =SUM(C40:C48) -> 41957831
A40: Vispārējie valdības dienesti | B40: 01.000 | C40: ='3.pielikums'!H12 -> 3284701
A41: Sabiedriskā kārtība un drošība | B41: 03.000 | C41: ='3.pielikums'!H27 -> 356204
A42: Ekonomiskā darbība | B42: 04.000 | C42: ='3.pielikums'!H31 -> 4431449
A43: Vides aizsardzība | B43: 05.000 | C43: ='3.pielikums'!H67 -> 507953
A44: Teritoriju un mājokļu apsaimniekošana | B44: 06.000 | C44: ='3.pielikums'!H92 -> 4492273
A45: Veselība | B45: 07.000 | C45: ='3.pielikums'!H172 -> 279052
A46: Atpūta, kultūra un reliģija | B46: 08.000 | C46: ='3.pielikums'!H183 -> 2590070
A47: Izglītība | B47: 09.000 | C47: ='3.pielikums'!H225 -> 19082128
A48: Sociālā aizsardzība | B48: 10.000 | C48: ='3.pielikums'!H294 -> 6934001
A49: Izdevumi atbilstoši ekonomiskajām kategorijām | C49: =SUM(C50:C56) -> 41957831
A50: Atlīdzība | B50: 1000 | C50: ='4.pielikums'!C293 -> 24514998
A51: Preces un pakalpojumi | B51: 2000 | C51: ='4.pielikums'!F293 -> 9009646
A52: Subsīdijas un dotācijas | B52: 3000 | C52: ='4.pielikums'!L293 -> 127750
A53: Procentu izdevumi | B53: 4000 | C53: ='4.pielikums'!M293 -> 568062
A54: Pamatkapitāla veidošana | B54: 5000 | C54: ='4.pielikums'!N293 -> 5494154
A55: Sociālie pabalsti | B55: 6000 | C55: ='4.pielikums'!O293 -> 1971586
A56: Transferti, uzturēšanas izdevumu transferti, pašu resursu maksājumi, starptautiskā sadarbība | B56: 7000 | C56: ='4.pielikums'!P293 -> 271635
A58: III Ieņēmumu pārsniegums (+) deficīts (-) (I-II) | C58: =C10-C38 -> -1426672
A59: IV FINANSĒŠANA - kopā | C59: =C60+C67 -> 1426672
A60: Naudas līdzekļi un noguldījumi | B60: F20010000 | C60: =C61+C64 -> 2654914
A61: Naudas līdzekļi | B61: F21010000 | C61: =C62-C63 -> 8543
A62: Naudas līdzekļu atlikums gada sākumā | B62: F21010000 AS | C62: 8543
A63: Naudas līdzekļu atlikums perioda beigās | B63: F21010000 | C63: 0
A64: Pieprasījuma noguldījumi | B64: F22010000 | C64: =C65-C66 -> 2646371
A65: Pieprasījuma noguldījumu atlikums gada sākumā | B65: F22010000 AS | C65: =1675654+1020614 -> 2696268
A66: Pieprasījuma noguldījumu atlikums perioda beigās | B66: F22010000 | C66: 49897
A67: Aizņēmumi | B67: F40020000 | C67: =C68-C69 -> -1228242
A68: Saņemtie aizņēmumi | B68: F40020010 | C68: 1775293
A69: Saņemto aizņēmumu atmaksa | B69: F40020020 | C69: =2789163-14088-11396-135063.91+89856.01+150000+135063.91 -> 3003535
A71: Balvu novada domes priekšsēdētājs J. Trupovnieks

Sheet 2.pielikums
F3: 2. pielikums
F4: Balvu novada domes
F5: 2026. gada 2. februāra saistošajiem noteikumiem Nr. 2/2026
F6: "Par Balvu novada pašvaldības 2026. gada budžetu"
A8: Balvu novada pašvaldības pamatbudžeta ieņēmumi 2026. gadam ( EUR)
A10: Klasifikācijas kods | B10: Ieņēmumi | C10: Ieņēmumu veidi | F10: KOPĀ (EUR) 2025
C11: Vispārējie pamatbudžeta ieņēmumi (EUR) | D11: Maksas pakalpojumi un pašu ieņēmumi (EUR) | E11: Valsts mērķdotācijas (EUR)
A12: I | B12: IEŅĒMUMI KOPĀ | C12: =C14+C17+C29+C37+C51+C63+C55+C35 -> 14090769 | D12: =D119+D122+D395+D55 -> 4526887 | E12: =E119+E70+E67 -> 21913503 | F12: =F14+F17+F29+F35+F37+F51+F55+F63+F67+F70+F119+F121 -> 40531159
A13: 1 | B13: Nodokļu ieņēmumi | C13: =C14+C17+C29 -> 13505251 | F13: =C13 -> 13505251
A14: 1.0.0.0. | B14: IENĀKUMA NODOKĻI | C14: =C15 -> 12315460 | F14: =C14 -> 12315460
A15: 1.1.1.0 | B15: Iedzīvotāju ienākuma nodoklis | C15: =C16 -> 12315460 | F15: =C15 -> 12315460
A16: 1.1.1.2 | B16: Iedzīvotāju ienākuma nodoklis | C16: 12315460 | F16: =C16 -> 12315460
A17: 4.0.0.0. | B17: ĪPAŠUMA NODOKĻI | C17: =C18 -> 1131791 | F17: =C17 -> 1131791
A18: 4.1.0.0 | B18: Nekustamā īpašuma nodoklis | C18: =C19+C22+C26 -> 1131791 | F18: =C18 -> 1131791
A19: 4.1.1.0 | B19: Nekustamā īpašuma nodoklis par zemi | C19: =C20+C21 -> 990358 | F19: =C19 -> 990358
A20: 4.1.1.1 | B20: Nekustamā īpašuma nodokļa par zemi kārtējā saimnieciskā gada ieņēmumi | C20: 900358 | F20: =C20 -> 900358
A21: 4.1.1.2 | B21: Nekustamā īpašuma nodoklis par zemi – iepriekšējo gadu parādi | C21: 90000 | F21: =C21 -> 90000
A22: 4.1.2.0 | B22: Nekustamā īpašuma nodokļi par ēkām | C22: =C23+C25 -> 85579 | F22: =C22 -> 85579
A23: 4.1.2.1 | B23: Nekustamā īpašuma nodoklis par ēkām kārtējā gada maksājumi | C23: 80579 | F23: =C23 -> 80579
B24: t.sk. par inženierbūvēm | C24: 4275 | F24: =C24 -> 4275
A25: 4.1.2.2 | B25: Nekustamā īpašuma nodoklis par ēkām – iepriekšējo gadu parādi | C25: 5000 | F25: =C25 -> 5000
A26: 4.1.3.0 | B26: Nekustamā īpašuma nodokļi par mājokļiem | C26: =C27+C28 -> 55854 | F26: =C26 -> 55854
A27: 4.1.3.1. | B27: Nekustamā īpašuma nodokļa par mājokļiem kārtējā saimnieciskā gada ieņēmumi | C27: 45854 | F27: =C27 -> 45854
A28: 4.1.3.2. | B28: Nekustamā īpašuma naodoklis par mājokļiem – iepriekšējo gadu parādi | C28: 10000 | F28: =C28 -> 10000
A29: 5.0.0.0. | B29: NODOKĻI PAR PAKALPOJUMIEM UN PRECĒM | C29: =C30+C32 -> 58000 | F29: =C29 -> 58000
A30: 5.4.0.0. | B30: Nodokļi par atsevišķām precēm un pakalpojumu veidiem | C30: =C31 -> 8000 | F30: =F31 -> 8000
A31: 5.4.1.0 | B31: Azartspēļu nodoklis | C31: 8000 | F31: =C31 -> 8000
A32: 5.5.0.0. | B32: Nodokļi un maksājumi par tiesībām lietot atsevišķas preces | C32: =C33 -> 50000 | F32: =F33 -> 50000
A33: 5.5.3.0. | B33: Dabas resursu nodoklis | C33: 50000 | F33: =C33 -> 50000
A34: 2 | B34: Nenodokļu ieņēmumi | C34: =C37+C51+C55+C63+C35 -> 585518 | F34: =C34 -> 585518
A35: 8.0.0.0. | B35: Ieņēmumi no uzņēmējdarbības un īpašuma | C35: =C36 -> 10000 | F35: =F36 -> 10000
A36: 8.6.0.0. | B36: Procentu ieņēmumi par depozītiem, kontu atlikumiem, valsts parāda vērtspapīriem un atlikto maksājumu | C36: 10000 | F36: =C36 -> 10000
A37: 9.0.0.0. | B37: VALSTS (PAŠVALDĪBU) NODEVAS UN KANCELEJAS NODEVAS | C37: =C38+C45 -> 16585 | F37: =C37 -> 16585
A38: 9.4.0.0. | B38: Valsts nodevas, kuras ieskaita pašvaldības budžetā | C38: =C39+C41+C43+C40+C42 -> 12185 | F38: =C38 -> 12185
A39: 9.4.2.0. | B39: Valsts nodeva par apliecinājumiem un citu funkciju pildīšanu bāriņtiesās | C39: 10000 | F39: =C39 -> 10000
A40: 9.4.3.0. | B40: Valsts nodeva par uzvārda, vārda un tautības ieraksta maiņu personu apliecinošos dokumentos | C40: 300 | F40: =C40 -> 300
A41: 9.4.5.0. | B41: Valsts nodeva par civilstāvokļa aktu reģistrēšanu, grozīšanu un papildināšanu | C41: 1400 | F41: =C41 -> 1400
A42: 9.4.6.0. | B42: Valsts nodeva par speciālu atļauju (licenču) izsniegšanu | C42: 285 | F42: =C42 -> 285
A43: 9.4.9.0. | B43: Pārējās valsts nodevas, kuras ieskaita pašvaldību budžetos | C43: =C44 -> 200 | F43: =C43 -> 200
A44: 9.4.9.1. | B44: Nodeva par dzīves vietas deklarēšanu | C44: 200 | F44: =C44 -> 200
A45: 9.5.0.0. | B45: Pašvaldības nodevas | C45: =C46+C47+C48+C49+C50 -> 4400 | F45: =C45 -> 4400
A46: 9.5.1.2. | B46: Pašvaldības nodeva par izklaidējoša rakstura pasākumu sarīkošanu publiskās vietās | C46: 100 | F46: =C46 -> 100
A47: 9.5.1.4. | B47: Pašvaldības nodeva par tirdzniecību publiskās vietās | C47: 1100 | F47: =C47 -> 1100
A48: 9.5.1.7. | B48: Pašvaldības nodeva par reklāmas,afišu un sludinājumu izvietošanu publiskajās vietās | C48: 100 | F48: =C48 -> 100
A49: 9.5.2.1. | B49: Pašvaldības nodeva par būvatļaujas saņemšanu | C49: 3000 | F49: =C49 -> 3000
A50: 9.5.2.9. | B50: Pārējās nodevas, ko uzliek pašvaldības | C50: 100 | F50: =C50 -> 100
A51: 10.0.0.0. | B51: NAUDAS SODI UN SANKCIJAS | C51: =C52+C54 -> 2500 | F51: =C51 -> 2500
A52: 10.1.4.0. | B52: Naudas sodi, ko uzliek pašvaldības | C52: =C53 -> 1500 | F52: =C52 -> 1500
A53: 10.1.4.1. | B53: Naudas sodi, ko uzliek pašvaldības administratīvo pārkāpumu komisija | C53: 1500 | F53: =C53 -> 1500
A54: 10.1.5.0. | B54: Naudas sodi, ko uzliek pašvaldību institūcijas par pārkāpumiem ceļu satiksmē | C54: 1000 | F54: =C54 -> 1000
A55: 12.0.0.0. | B55: PĀRĒJIE NENODOKĻU IEŅĒMUMI | C55: =C56 -> 36433 | F55: =C55 -> 36433
A56: 12.3.9.9. | B56: Pārējie dažādi nenodokļu ieņēmumi, kas nav iepriekš klasificēti šajā klasifikācijā | C56: =C57 -> 36433 | F56: =C56 -> 36433
A57: 12.3.9.9.4 | B57: Pārējie ieņēmumi | C57: =SUM(C58:C62) -> 36433 | F57: =SUM(F58:F62) -> 36433
B58: Uzņēmēju balle | C58: 4000 | F58: =C58 -> 4000
B59: Ziemeļlatgales sporta centrs (pasākumi) | C59: 1780 | F59: =C59 -> 1780
B60: Balvu mūzikas skola | C60: 420 | F60: =C60 -> 420
B61: Sociālie pakalpojumi | C61: 20910 | F61: =C61 -> 20910
B62: Kultūras pārvaldes pasākumi | C62: 9323 | F62: =C62 -> 9323
A63: 13.0.0.0. | B63: IEŅĒMUMI NO VALSTS (PAŠVALDĪBAS) ĪPAŠUMA IZNOMĀŠANAS PĀRDOŠANAS | C63: =C64+C65 -> 520000 | F63: =F64+F65 -> 520000
A64: 13.1.0.0. | B64: Ieņēmumi no ēku un būvju īpašuma pārdošanas | C64: 100000 | F64: =C64 -> 100000
A65: 13.2.0.0. | B65: Ieņēmumi no zemes, mežu īpašuma pārdošanas | C65: =C66 -> 420000 | F65: =C65 -> 420000
A66: 13.2.1.0. | B66: Ieņēmumi no zemes īpašuma pārdošanas | C66: 420000 | F66: =C66 -> 420000
A67: 17.0.0.0. | B67: NO VALSTS BUDŽETA DAĻĒJI FINANSĒTO PUBLISKO PERSONU UN BUDŽETA NEFINANSĒTO IESTĀŽU TRANSFERTI | E67: =E68+E69 -> 15865 | F67: =E67 -> 15865
A68: 17.2.0.0 | B68: Projekts "Remigrācijas atbalsta pasākums – uzņēmējdarbības atbalsts" | E68: 8000 | F68: =E68 -> 8000
B69: Tehniskā aprīkojuma iegāde virszemes ūdeņu kvalitātes uzlabošanai | E69: 7865 | F69: =E69 -> 7865
A70: 18.0.0.0. | B70: VALSTS BUDŽETA TRANSFERTI | E70: =E71+E118+E104 -> 21897638 | F70: =E70 -> 21897638
A71: 18.6.2.0. | B71: Pašvaldības saņemtie valsts budžeta transferti noteiktam mērķim | E71: =SUM(E72:E103)-E87 -> 11406011 | F71: =E71 -> 11406011
B72: Mērķdotācijas Eiropas Savienības ārējās robežas pašvaldībām | E72: 581097 | F72: =E72 -> 581097
B73: Mērķdotācijas pašvaldību pamata un vispārējās izglītības iestāžu pedagogu darba samaksai un valsts sociālās apdrošināšanas obligātajām iemaksām | E73: 5350374 | F73: =E73 -> 5350374
B74: Mērķdotācijas pašvaldību profesionālās pamatizglītības, arodizglītības un profesionālās vidējās izglītības programmu pedagogu darba samaksai un valsts sociālās apdrošināšanas obligātajām iemaksām | E74: 321564 | F74: =E74 -> 321564
B75: Mērķdotācija interešu izglītības programmu pedagogu daļējai darba samaksai un valsts sociālās apdrošināšanas obligātajām iemaksām | E75: 284679 | F75: =E75 -> 284679
B76: Mērķdotācijas pašvaldības izglītības iestāžu piecgadīgo un sešgadīgo bērnu apmācības pedagogu darba samaksai un valsts soc. apdroš. obligātajām iemaksām | E76: 710883 | F76: =E76 -> 710883
B77: Mērķdotācija pašvaldību izglītības iestādēm latgaliešu rakstu valodas apguvei | E77: 15120 | F77: =E77 -> 15120
B78: Mērķdotācija audžuģimenēm par bērna uzturnaudas palielināšanu | E78: 100980 | F78: =E78 -> 100980
B79: Valsts dotācija autoceļu (ielu) uzturēšanai | E79: 1033047 | F79: =E79 -> 1033047
B80: Valsts dotācija sporta skolai | E80: 393455 | F80: =E80 -> 393455
B81: Valsts dotācija mūzikas un mākslas skolām | E81: 783113 | F81: =E81 -> 783113
B82: Valsts dotācija 1.–4. klašu brīvpusdienu daļējai apmaksai | E82: 164527 | F82: =E82 -> 164527
B83: MD māksliniecisko kolektīvu vadītāju darba samaksai un valsts sociālās apdrošināšanas obligātajām iemaksām | E83: 68526 | F83: =E83 -> 68526
B84: Valsts un pašvaldības vienotā klientu apkalpošanas centra uzturēšana | E84: 27500 | F84: =E84 -> 27500
B85: Latvijas Skolas soma | F85: =E85 -> 0
B86: Valsts dotācija asistentu pakalpojumu nodrošināšanai | E86: 201858 | F86: =E86 -> 201858
B87: Feldšeru veselības punktu dotācija | E87: =SUM(E88:E95) -> 120744 | F87: =E87 -> 120744
B88: Briežuciema feldšeru veselības punkts | E88: 15093 | F88: =E88 -> 15093
B89: Krišjāņu feldšeru veselības punkts | E89: 15093 | F89: =E89 -> 15093
B90: Vectilžas feldšeru veselības punkts | E90: 15093 | F90: =E90 -> 15093
B91: Vīksnas feldšeru veselības punkts | E91: 15093 | F91: =E91 -> 15093
B92: Kubulu feldšeru veselības punkts | E92: 15093 | F92: =E92 -> 15093
B93: Kupravas feldšeru veselības punkts | E93: 15093 | F93: =E93 -> 15093
B94: Skujetnieku feldšeru veselības punkts | E94: 15093 | F94: =E94 -> 15093
B95: Upītes feldšeru veselības punkts | E95: 15093 | F95: =E95 -> 15093
B96: Zobārstniecības kabinets (Rugāju pagastā) | E96: 30533 | F96: =E96 -> 30533
B97: LM finansējums asistenta pakalpojumiem personām ar invaliditāti | E97: 778685 | F97: =E97 -> 778685
B98: Labklājības ministrija – izdevumu kompensācija par no vardarbības cietušu pieaugušu personu rehabilitāciju dzīvesvietā | E98: 13752 | F98: =E98 -> 13752
B99: Valsts dotācija sociālās aprūpes centru iemītniekiem | E99: 34128 | F99: =E99 -> 34128
... B103: Valsts dotācija mājokļa pabalstam | E103: 291034 | F103: =E103 -> 291034
A104: 18.6.3.0. | B104: Pašvaldību no valsts budžeta iestādēm saņemtie transferti ES politiku instrumentu un pārējās ārvalstu finanšu palīdzības līdzfinansētajiem projektiem (pasākumiem) | D104: =SUM(D105:D116) -> 0 | E104: =SUM(E105:E117) -> 3155145 | F104: =E104 -> 3155145
B105: Profesionālā un mūsdienīgā sociālā darba attīstība | E105: 8742 | F105: =E105 -> 8742
B106: Ēkas siltumapgādes sistēmas viedā vadība | E106: 100000 | F106: =E106 -> 100000
B107: Bezemisiju transportlīdzekļa iegāde Balvu novadā | E107: 612779 | F107: =E107 -> 612779
...

Sheet 3.pielikums
H2: 3. pielikums
H3: Balvu novada domes
H4: 2026. gada 2. februāra saistošajiem noteikumiem Nr. 2/2026
H5: "Par Balvu novada pašvaldības 2026. gada budžetu"
C7: Balvu novada pašvaldības pamatbudžeta izdevumi 2026. gadam (EUR)
A9: Klasifikācijas kods | B9: Iestādes un pasākumi | D9: Finansēšanas avots | H9: Kopā
C10: Atlikums uz gada sākumu | D10: Vispārējie ieņēmumi | E10: Budžeta iestāžu ieņēmumi | F10: Valsts un pašvaldību transferti | G10: Aizņēmumi
C11: =C12+C27+C31+C92+C172+C183+C225+C294+C67 -> 1344827 | D11: =D12+D27+D31+D92+D172+D183+D225+D294+D67 -> 21216458 | E11: =E12+E27+E31+E92+E172+E183+E225+E294+E67 -> 3643851 | F11: =F12+F27+F31+F92+F172+F183+F225+F294+F67 -> 13848402 | G11: =G12+G27+G31+G92+G172+G183+G225+G294+G67 -> 1775293 | H11: =H12+H27+H31+H92+H172+H183+H225+H294+H67 -> 41957831
A12: 01.000 | B12: Vispārējie valdības dienesti | C12: =SUM(C13:C26) -> 0 | D12: =SUM(D13:D26) -> 3249451 | E12: =SUM(E13:E26) -> 7750 | F12: =SUM(F13:F26) -> 27500 | G12: =SUM(G13:G26) -> 0 | H12: =SUM(H13:H26) -> 3284701
B13: Balvu novada administrācija | D13: =H13-E13-G13-F13-C13 -> 1494473 | H13: ='4.pielikums'!B13 -> 1494473
B14: Deputātu darba samaksa | D14: =H14-E14-G14-F14-C14 -> 186403 | H14: ='4.pielikums'!B14 -> 186403
B15: Bijušo pagastu padomju un pilsētu domju vadītāju pabalsti | D15: =H15-E15-G15-F15-C15 -> 261850 | H15: ='4.pielikums'!B15 -> 261850
B16: Komisiju darba samaksa | D16: =H16-E16-G16-F16-C16 -> 26400 | H16: ='4.pielikums'!B16 -> 26400
B17: Valsts sociālās apdrošināšanas obligātās iemaksas no nepilnām likmēm | D17: =H17-E17-G17-F17-C17 -> 80000 | H17: ='4.pielikums'!B17 -> 80000
B18: Balvu apvienības pārvalde | D18: =H18-E18-G18-F18-C18 -> 142262 | H18: ='4.pielikums'!B19 -> 142262
B19: Baltinavas apvienības pārvalde | D19: =H19-E19-G19-F19-C19 -> 130285 | H19: ='4.pielikums'!B20 -> 130285
B20: Rugāju apvienības pārvalde | D20: =H20-E20-G20-F20-C20 -> 94418 | H20: ='4.pielikums'!B21 -> 94418
B21: Viļakas apvienības pārvalde | D21: =H21-E21-G21-F21-C21 -> 145377 | H21: ='4.pielikums'!B22 -> 145377
B22: Valsts un pašvaldības vienotais klientu apkalpošanas centrs | D22: =H22-E22-G22-F22-C22 -> 44376 | E22: 7750 | F22: 27500 | H22: ='4.pielikums'!B23 -> 79626
B23: Pašvaldības aizņēmumu apkalpošana un procentu maksa | D23: =H23-E23-G23-F23-C23 -> 586196 | H23: ='4.pielikums'!B26 -> 586196
B24: Izdevumi neparedzētiem gadījumiem | D24: =H24-E24-G24-F24-C24 -> 5000 | H24: ='4.pielikums'!B24 -> 5000
B25: Biedru maksa | D25: =H25-E25-G25-F25-C25 -> 51098 | H25: ='4.pielikums'!B25 -> 51098
B26: Vēlēšanu komisija | D26: =H26-E26-G26-F26-C26 -> 1313 | H26: ='4.pielikums'!B18 -> 1313
A27: 03.000 | B27: Sabiedriskā kārtība un drošība | C27: =SUM(C28:C30) -> 0 | D27: =SUM(D28:D30) -> 316654 | E27: =SUM(E28:E30) -> 39550 | F27: =SUM(F28:F30) -> 0 | G27: =SUM(G28:G30) -> 0 | H27: =SUM(H28:H30) -> 356204
B28: Dzimtsarakstu nodaļa | D28: =H28-E28-G28-F28-C28 -> 83862 | E28: 4550 | H28: ='4.pielikums'!B27 -> 88412
B29: Pašvaldības policija | D29: =H29-E29-G29-F29-C29 -> 190036 | E29: 1000 | G29: 0 | H29: ='4.pielikums'!B28 -> 191036
B30: Atskurbtuves uzturēšana | D30: =H30-E30-G30-F30-C30 -> 42756 | E30: 34000 | H30: ='4.pielikums'!B29 -> 76756
A31: 04.000 | B31: Ekonomiskā darbība | C31: =SUM(C32:C66) -> 839036 | D31: =SUM(D32:D66) -> 380648 | E31: =SUM(E32:E66) -> 7000 | F31: =SUM(F32:F66) -> 2465593 | G31: =SUM(G32:G66) -> 739172 | H31: =SUM(H32:H66) -> 4431449
B32: Balvu novada Būvvalde | D32: =H32-E32-G32-F32-C32 -> 58102 | E32: 3000 | H32: ='4.pielikums'!B30 -> 61102
B33: Algotie pagaidu sabiedriskie darbi | C33: 0 | D33: =H33-E33-G33-F33-C33 -> 283 | F33: 41900 | H33: ='4.pielikums'!B57 -> 42183
B34: Balvu pilsētas autoceļu (ielu) uzturēšana | C34: 14436 | D34: =H34-E34-G34-F34-C34 -> 0 | F34: 119740 | H34: ='4.pielikums'!B35 -> 134176
B35: Baltinavas pagasta autoceļu (ielu) uzturēšana | C35: 31546 | D35: =H35-E35-G35-F35-C35 -> 0 | F35: 41427 | H35: ='4.pielikums'!B36 -> 72973
B36: Balvu pagasta autoceļu (ielu) uzturēšana | C36: 11718 | D36: =H36-E36-G36-F36-C36 -> 0 | F36: 25980 | H36: ='4.pielikums'!B37 -> 37698
B37: Bērzkalnes pagasta autoceļu (ielu) uzturēšana | C37: 0 | D37: =H37-E37-G37-F37-C37 -> 0 | F37: 34801 | H37: ='4.pielikums'!B38 -> 34801
B38: Bērzpils pagasta autoceļu (ielu) uzturēšana | C38: 4923 | D38: =H38-E38-G38-F38-C38 -> 0 | F38: 37470 | H38: ='4.pielikums'!B39 -> 42393
B39: Briežuciema pagasta autoceļu (ielu) uzturēšana | C39: 28665 | D39: =H39-E39-G39-F39-C39 -> 0 | F39: 40144 | H39: ='4.pielikums'!B40 -> 68809
B40: Krišjāņu pagasta autoceļu (ielu) uzturēšana | C40: 7580 | D40: =H40-E40-G40-F40-C40 -> 0 | F40: 21003 | H40: ='4.pielikums'!B41 -> 28583
B41: Kubulu pagasta autoceļu (ielu) uzturēšana | C41: 0 | D41: =H41-E41-G41-F41-C41 -> 0 | F41: 75759 | H41: ='4.pielikums'!B42 -> 75759
B42: Kupravas pagasta autoceļu (ielu) uzturēšana | C42: 10390 | D42: =H42-E42-G42-F42-C42 -> 0 | F42: 14633 | H42: ='4.pielikums'!B43 -> 25023
B43: Lazdulejas pagasta autoceļu (ielu) uzturēšana | C43: 5987 | D43: =H43-E43-G43-F43-C43 -> 0 | F43: 25368 | H43: ='4.pielikums'!B44 -> 31355
B44: Lazdukalna pagasta autoceļu (ielu) uzturēšana | C44: 30994 | D44: =H44-E44-G44-F44-C44 -> 0 | F44: 76553 | H44: ='4.pielikums'!B45 -> 107547
B45: Medņevas pagasta autoceļu (ielu) uzturēšana | D45: =H45-E45-G45-F45-C45 -> 0 | F45: 51815 | H45: ='4.pielikums'!B46 -> 51815
B46: Rugāju pagasta autoceļu (ielu) uzturēšana | C46: 136281 | D46: =H46-E46-G46-F46-C46 -> 0 | F46: 89799 | H46: ='4.pielikums'!B47 -> 226080
B47: Susāju pagasta autoceļu (ielu) uzturēšana | C47: 44593 | D47: =H47-E47-G47-F47-C47 -> 0 | F47: 23921 | H47: ='4.pielikums'!B48 -> 68514
B48: Šķilbēnu pagasta autoceļu (ielu) uzturēšana | C48: 41748 | D48: =H48-E48-G48-F48-C48 -> 0 | F48: 45635 | H48: ='4.pielikums'!B49 -> 87383
B49: Tilžas pagasta autoceļu (ielu) uzturēšana | C49: 16555 | D49: =H49-E49-G49-F49-C49 -> 0 | F49: 30728 | H49: ='4.pielikums'!B50 -> 47283
B50: Vectilžas pagasta autoceļu (ielu) uzturēšana | C50: 12898 | D50: =H50-E50-G50-F50-C50 -> 0 | F50: 20222 | H50: ='4.pielikums'!B51 -> 33120
B51: Vecumu pagasta autoceļu (ielu) uzturēšana | C51: 15297 | D51: =H51-E51-G51-F51-C51 -> 0 | F51: 13639 | H51: ='4.pielikums'!B52 -> 28936
B52: Vīksnas pagasta autoceļu (ielu) uzturēšana | C52: 10554 | D52: =H52-E52-G52-F52-C52 -> 0 | F52: 19161 | H52: ='4.pielikums'!B53 -> 29715
B53: Žīguru pagasta autoceļu (ielu) uzturēšana | C53: 3854 | D53: =H53-E53-G53-F53-C53 -> 0 | F53: 6574 | H53: ='4.pielikums'!B54 -> 10428
B54: Viļakas pilsētas autoceļu (ielu) uzturēšana | C54: 23905 | D54: =H54-E54-G54-F54-C54 -> 0 | F54: 18299 | H54: ='4.pielikums'!B55 -> 42204
B55: Autoceļu (ielu) uzturēšanas līdzekļu rezerves fonds | C55: 265207 | D55: =H55-E55-G55-F55-C55 -> 0 | F55: 200376 | H55: ='4.pielikums'!B56 -> 465583
B56: Latgales speciālās ekonomiskās zonas atbalsts | D56: =H56-E56-G56-F56-C56 -> 3448 | H56: ='4.pielikums'!B32 -> 3448
B57: Pārējā ekonomiskā darbība (PVN) | D57: =H57-E57-G57-F57-C57 -> 160000 | H57: ='4.pielikums'!B31 -> 160000
B58: Biznesa ideju konkurss | D58: =H58-E58-G58-F58-C58 -> 50000 | H58: ='4.pielikums'!B33 -> 50000
B59: Uzņēmejdarbības atbalsts | D59: =H59-E59-G59-F59-C59 -> 9660 | E59: 4000 | H59: ='4.pielikums'!B34 -> 13660
B60: "Remigrācijas atbalsta pasākums – uzņēmējdarbības atbalsts" | D60: =H60-E60-G60-F60-C60 -> 4000 | F60: 8000 | H60: ='4.pielikums'!B268 -> 12000
B61: Vides pieejamības nodrošināšana Balvu novada publisko pakalpojumu ēkās | C61: 75047 | D61: =H61-E61-G61-F61-C61 -> 0 | F61: 0 | G61: 51142 | H61: ='4.pielikums'!B58 -> 126189
B62: Skolēnu nodarbinātība vasarā | D62: =H62-E62-G62-F62-C62 -> 30000 | H62: ='4.pielikums'!B278 -> 30000
B63: Projekts "Valsts reģionālā autoceļa P35 Gulbene–Balvi–Viļaka–Krievijas robeža (Vientuļi) posma 17,470–32,397 km pārbūve – gājēju/velosipēdistu celiņa apgaismojuma ierīkošana, soliņu un viedo atkritumu urnu uzstādīšana" | C63: 46858 | D63: =H63-E63-G63-F63-C63 -> 0 | G63: 131555 | H63: ='4.pielikums'!B285 -> 178413
B64: Infrastruktūra uzņēmējdarbības atbalstam Balvos | D64: =H64-E64-G64-F64-C64 -> 0 | F64: 1382646 | G64: 424735 | H64: ='4.pielikums'!B286 -> 1807381
B65: SAM 5.1.1.1 Publiskās infrastruktūras kvalitātes uzlabošana uzņēmējdarbības atbalstam Balvos | D65: =H65-E65-G65-F65-C65 -> 0 | F65: 0 | G65: 131740 | H65: ='4.pielikums'!B287 -> 131740
B66: Projekta "Uzņēmējdarbības attīstība Austrumu pierobežā" avansa atmaksa | D66: =H66-E66-G66-F66-C66 -> 65155 | H66: ='4.pielikums'!P292 -> 65155
A67: 05.000 | B67: Vides aizsardzība | C67: =SUM(C68:C91) -> 115841 | D67: =SUM(D68:D91) -> 60960 | E67: =SUM(E68:E91) -> 123832 | F67: =SUM(F68:F91) -> 0 | G67: =SUM(G68:G91) -> 207320 | H67: =SUM(H68:H91) -> 507953
B68: Vides piesārņojuma novēršana un samazināšana (dabas resursu nodoklis) | C68: 115841 | D68: =H68-E68-G68-F68-C68 -> 50000 | H68: ='4.pielikums'!B59 -> 165841
B69: Baltinavas komunālā saimniecība – notekūdeņu apsaimniekošana | D69: =H69-E69-G69-F69-C69 -> -24 | E69: 7660 | H69: ='4.pielikums'!B60 -> 7636
B70: Bērzkalnes komunālā saimniecība – notekūdeņu apsaimniekošana | D70: =H70-E70-G70-F70-C70 -> 3691 | E70: 5595 | H70: ='4.pielikums'!B61 -> 9286
B71: Bērzpils komunālā saimniecība –notekūdeņu apsaimniekošana | D71: =H71-E71-G71-F71-C71 -> -150 | E71: 6325 | H71: ='4.pielikums'!B62 -> 6175
B72: Briežuciema komunālā saimniecība – notekūdeņu apsaimniekošana | D72: =H72-E72-G72-F72-C72 -> 1690 | E72: 3235 | H72: ='4.pielikums'!B63 -> 4925
B73: Krišjāņu komunālā saimniecība –notekūdeņu apsaimniekošana | D73: =H73-E73-G73-F73-C73 -> 780 | E73: 3000 | H73: ='4.pielikums'!B64 -> 3780
B74: Kubulu komunālā saimniecība – notekūdeņu apsaimniekošana | D74: =H74-E74-G74-F74-C74 -> -1670 | E74: 7700 | H74: ='4.pielikums'!B65 -> 6030
B75: Kupravas komunālā saimniecība –notekūdeņu apsaimniekošana | D75: =H75-E75-G75-F75-C75 -> -450 | E75: 5700 | H75: ='4.pielikums'!B66 -> 5250
B76: Lazdukalna komunālā saimniecība – notekūdeņu apsaimniekošana | D76: =H76-E76-G76-F76-C76 -> 0 | E76: 11300 | H76: ='4.pielikums'!B67 -> 11300
B77: Lazdulejas komunālā saimniecība – notekūdeņu apsaimniekošana | D77: =H77-E77-G77-F77-C77 -> 1460 | E77: 1950 | H77: ='4.pielikums'!B68 -> 3410
B78: Medņevas komunālā saimniecība –notekūdeņu apsaimniekošana | D78: =H78-E78-G78-F78-C78 -> -1800 | E78: 8890 | H78: ='4.pielikums'!B69 -> 7090
B79: Rekavas komunālā saimniecība –notekūdeņu apsaimniekošana | D79: =H79-E79-G79-F79-C79 -> -180 | E79: 2640 | H79: ='4.pielikums'!B70 -> 2460
B80: Rugāju komunālā saimniecība – notekūdeņu apsaimniekošana | D80: =H80-E80-G80-F80-C80 -> 1860 | E80: 6110 | H80: ='4.pielikums'!B71 -> 7970
... B87: Viļakas pilsētas komunālā saimniecība – atkritumu apsaimniekošana | D87: =H87-E87-G87-F87-C87 -> 0 | E87: 5232 | H87: ='4.pielikums'!B78 -> 5232
B88: Pašvaldības nozīmes koplietošanas meliorācijas sistēmas novadgrāvju atjaunošana Lazdukalna pagasta, Slavītos. Nr.24-07-C0LA043P-000006 | D88: =H88-E88-G88-F88-C88 -> 0 | G88: 53174 | H88: ='4.pielikums'!B272 -> 53174
B89: Pašvaldības nozīmes koplietošanas meliorācijas sistēmas novadgrāvju atjaunošana Lazdukalna pagasta, Benislavā. Nr.24-07-C0LA043P-000007 | D89: =H89-E89-G89-F89-C89 -> 0 | G89: 62867 | H89: ='4.pielikums'!B273 -> 62867
B90: Pašvaldības nozīmes koplietošanas meliorācijas sistēmas novadgrāvju atjaunošana Lazdukalna pagasta, Papurnē. Nr.24-07-C0LA043P-000008 | D90: =H90-E90-G90-F90-C90 -> 0 | G90: 40620 | H90: ='4.pielikums'!B274 -> 40620
B91: Pašvaldības nozīmes koplietošanas meliorācijas sistēmas novadgrāvju atjaunošana Rugāju pagasta, Kozupē. Nr.24-07-C0LA043P-000009 | D91: =H91-E91-G91-F91-C91 -> 0 | G91: 50659 | H91: ='4.pielikums'!B275 -> 50659
A92: 06.000 | B92: Pašvaldības teritoriju un mājokļu apsaimniekošana | C92: =C93+C96 -> 65133 | D92: =D93+D96 -> 3147508 | E92: =E93+E96 -> 741378 | F92: =F93+F96 -> 115800 | G92: =G93+G96 -> 422454 | H92: =H93+H96 -> 4492273
B93: Ielu apgaismojums | C93: =SUM(C94:C95) -> 0 | D93: =SUM(D94:D95) -> 119479 | E93: =SUM(E94:E95) -> 0 | F93: =SUM(F94:F95) -> 0 | G93: =SUM(G94:G95) -> 0 | H93: =SUM(H94:H95) -> 119479
B94: Ielu apgaismojums Balvu pilsētā | D94: =H94-E94-G94-F94-C94 -> 103880 | H94: ='4.pielikums'!B79 -> 103880
B95: Ielu apgaismojums Viļakas pilsētā | D95: =H95-E95-G95-F95-C95 -> 15599 | H95: ='4.pielikums'!B80 -> 15599
B96: Pārējā citur neklasificētā teritoriju un mājokļu apsaimniekošanas darbība | C96: =SUM(C97:C171) -> 65133 | D96: =SUM(D97:D171) -> 3028029 | E96: =SUM(E97:E171) -> 741378 | F96: =SUM(F97:F171) -> 115800 | G96: =SUM(G97:G171) -> 422454 | H96: =SUM(H97:H171) -> 4372794
B97: Novada teritorijas īpašuma vadība | D97: =H97-E97-G97-F97-C97 -> 140657 | E97: 21000 | H97: ='4.pielikums'!B81 -> 161657
B98: Novada teritorijas apsaimniekošana | D98: =H98-E98-G98-F98-C98 -> 139373 | H98: ='4.pielikums'!B82 -> 139373
B99: Balvu pilsētas teritorijas apsaimniekošana | D99: =H99-E99-G99-F99-C99 -> 487701 | H99: ='4.pielikums'!B120 -> 487701
B100: Balvu pagasta komunālā saimniecība | D100: =H100-E100-G100-F100-C100 -> 45750 | E100: =420+100 -> 520 | H100: ='4.pielikums'!B83 -> 46270
B101: Baltinavas pagasta komunālā saimniecība | D101: =H101-E101-G101-F101-C101 -> 181519 | E101: 565 | H101: ='4.pielikums'!B84 -> 182084
B102: Bērzkalnes pagasta komunālā saimniecība | D102: =H102-E102-G102-F102-C102 -> 94534 | E102: 5600 | H102: ='4.pielikums'!B85 -> 100134
B103: Bērzpils pagasta komunālā saimniecība | D103: =H103-E103-G103-F103-C103 -> 54051 | E103: 2766 | H103: ='4.pielikums'!B86 -> 56817
B104: Briežuciema pagasta komunālā saimniecība | D104: =H104-E104-G104-F104-C104 -> 56791 | E104: 3037 | H104: ='4.pielikums'!B87 -> 59828
B105: Krišjāņu pagasta komunālā saimniecība | D105: =H105-E105-G105-F105-C105 -> 37730 | E105: 3044 | H105: ='4.pielikums'!B88 -> 40774
B106: Kubulu pagasta komunālā saimniecība | D106: =H106-E106-G106-F106-C106 -> 105983 | E106: =125+1890 -> 2015 | H106: ='4.pielikums'!B89 -> 107998
B107: Kupravas pagasta komunālā saimniecība | D107: =H107-E107-G107-F107-C107 -> 68772 | E107: 41000 | H107: ='4.pielikums'!B90 -> 109772
B108: Lazdukalna pagasta komunālā saimniecība | D108: =H108-E108-G108-F108-C108 -> 117428 | E108: 3461 | H108: ='4.pielikums'!B91 -> 120889
B109: Lazdulejas pagasta komunālā saimniecība | D109: =H109-E109-G109-F109-C109 -> 60159 | E109: 115 | H109: ='4.pielikums'!B92 -> 60274
...

Sheet 4.pielikums
P2: 4. pielikums
P3: Balvu novada domes
P4: 2026. gada 2. februāra saistošajiem noteikumiem Nr. 2/2026
P5: "Par Balvu novada pašvaldības 2026. gada budžetu"
E6: Balvu novada pašvaldības pamatbudžeta izdevumi 2026. gadam (EUR)
A10: Iestādes | B10: Apstiprināts 2026.gadam (EUR)
C11: 1000 | D11: 1100 | E11: 1200 | F11: 2000 | G11: 2100 | H11: 2200 | I11: 2300 | J11: 2400 | K11: 2500 | L11: 3000 | M11: 4000 | N11: 5000 | O11: 6000 | P11: 7000
C12: Atlīdzība (2026) | D12: Atalgojums (2026) | E12: DDVSAOI (2026) | F12: Preces un pakalpojumi (2026) | G12: Mācību, darba un dienesta komandējumi, darba braucieni (2026) | H12: Pakalpojumi (2026) | I12: Krājumi, materiāli, energoresursi, preces, biroja preces un inventārs (2026) | J12: Izdevumi periodikas iegādei bibliotēku krājumiem (2026) | K12: Budžeta iestāžu nodokļu, nodevu un sankciju maksājumi (2026) | L12: Subsīdijas un dotācijas (2026) | M12: Procentu maksājumi (2026) | N12: Pamatkapitāla veidošana (2026) | O12: Sociālā rakstura maksājumi un kompensācijas (2026) | P12: Transferti (2026)
A13: Balvu novada administrācija | B13: =SUM(C13+F13,L13,M13,N13,O13,P13) -> 1494473 | C13: =D13+E13 -> 1252302 | D13: 1031586 | E13: 220716 | F13: =SUM(G13,H13,I13,J13,K13) -> 217171 | G13: 1300 | H13: 186924 | I13: 27447 | K13: 1500 | N13: 25000
A14: Deputātu darba samaksa | B14: =SUM(C14+F14,L14,M14,N14,O14,P14) -> 186403 | C14: =D14+E14 -> 186403 | D14: 150823 | E14: 35580 | F14: =SUM(G14,H14,I14,J14,K14) -> 0
A15: Bijušo pagastu padomju un pilsētu domju vadītāju pabalsti | B15: =SUM(C15+F15,L15,M15,N15,O15,P15) -> 261850 | C15: =D15+E15 -> 0 | F15: =SUM(G15,H15,I15,J15,K15) -> 0 | O15: 261850
A16: Komisiju darba samaksa | B16: =SUM(C16+F16,L16,M16,N16,O16,P16) -> 26400 | C16: =D16+E16 -> 26400 | D16: 21360 | E16: 5040 | F16: =SUM(G16,H16,I16,J16,K16) -> 0
A17: Valsts sociālās apdrošināšanas obligātās iemaksas no nepilnām likmēm | B17: =SUM(C17+F17,L17,M17,N17,O17,P17) -> 80000 | C17: =D17+E17 -> 80000 | E17: 80000 | F17: =SUM(G17,H17,I17,J17,K17) -> 0
A18: Vēlēšanu komisija | B18: =SUM(C18+F18,L18,M18,N18,O18,P18) -> 1313 | C18: =D18+E18 -> 1113 | D18: 900 | E18: 213 | F18: =SUM(G18,H18,I18,J18,K18) -> 200 | I18: 200
A19: Balvu apvienības pārvalde | B19: =SUM(C19+F19,L19,M19,N19,O19,P19) -> 142262 | C19: =D19+E19 -> 125288 | D19: 100940 | E19: 24348 | F19: =SUM(G19,H19,I19,J19,K19) -> 16974 | G19: 20 | H19: 6023 | I19: 10472 | K19: 459
A20: Baltinavas apvienības pārvalde | B20: =SUM(C20+F20,L20,M20,N20,O20,P20) -> 130285 | C20: =D20+E20 -> 104413 | D20: =89943-3900-1560 -> 84483 | E20: =21218-920-368 -> 19930 | F20: =SUM(G20,H20,I20,J20,K20) -> 25872 | H20: 9986 | I20: 15576 | K20: 310
A21: Rugāju apvienības pārvalde | B21: =SUM(C21+F21,L21,M21,N21,O21,P21) -> 94418 | C21: =D21+E21 -> 75213 | D21: 60006 | E21: 15207 | F21: =SUM(G21,H21,I21,J21,K21) -> 19205 | G21: 40 | H21: 9420 | I21: 9435 | K21: 310
A22: Viļakas apvienības pārvalde | B22: =SUM(C22+F22,L22,M22,N22,O22,P22) -> 145377 | C22: =D22+E22 -> 114583 | D22: 92554 | E22: 22029 | F22: =SUM(G22,H22,I22,J22,K22) -> 30794 | H22: 16860 | I22: 13110 | K22: 824
A23: Valsts un pašvaldības vienotais klientu apkalpošanas centrs | B23: =SUM(C23+F23,L23,M23,N23,O23,P23) -> 79626 | C23: =D23+E23 -> 67900 | D23: 54900 | E23: 13000 | F23: =SUM(G23,H23,I23,J23,K23) -> 11726 | G23: 32 | H23: 10294 | I23: 1400
A24: Izdevumi neparedzētiem gadījumiem | B24: =SUM(C24+F24,L24,M24,N24,O24,P24) -> 5000 | C24: =D24+E24 -> 0 | F24: =SUM(G24,H24,I24,J24,K24) -> 5000 | H24: 5000
A25: Biedru maksa | B25: =SUM(C25+F25,L25,M25,N25,O25,P25) -> 51098 | C25: =D25+E25 -> 0 | F25: =SUM(G25,H25,I25,J25,K25) -> 51098 | H25: 51098
A26: Pašvaldības aizņēmumu apkalpošana un procentu maksa | B26: =SUM(C26+F26,L26,M26,N26,O26,P26) -> 586196 | C26: =D26+E26 -> 0 | F26: =SUM(G26,H26,I26,J26,K26) -> 18134 | H26: 18134 | M26: 568062
A27: Dzimtsarakstu nodaļa | B27: =SUM(C27+F27,L27,M27,N27,O27,P27) -> 88412 | C27: =D27+E27 -> 68168 | D27: 54284 | E27: 13884 | F27: =SUM(G27,H27,I27,J27,K27) -> 20244 | G27: 310 | H27: 15589 | I27: 4345
A28: Pašvaldības policija | B28: =SUM(C28+F28,L28,M28,N28,O28,P28) -> 191036 | C28: =D28+E28 -> 163231 | D28: 130631 | E28: 32600 | F28: =SUM(G28,H28,I28,J28,K28) -> 22555 | G28: 130 | H28: 11905 | I28: 10460 | K28: 60 | N28: 5250
A29: Atskurbtuves uzturēšana | B29: =SUM(C29+F29,L29,M29,N29,O29,P29) -> 76756 | C29: =D29+E29 -> 73288 | D29: 58688 | E29: 14600 | F29: =SUM(G29,H29,I29,J29,K29) -> 3468 | H29: 2818 | I29: 650
A30: Būvvalde | B30: =SUM(C30+F30,L30,M30,N30,O30,P30) -> 61102 | C30: =D30+E30 -> 57549 | D30: 46116 | E30: 11433 | F30: =SUM(G30,H30,I30,J30,K30) -> 3553 | G30: 90 | H30: 443 | I30: 3020
A31: Pārējā ekonomiskā darbība (PVN) | B31: =SUM(C31+F31,L31,M31,N31,O31,P31) -> 160000 | C31: =D31+E31 -> 0 | F31: =SUM(G31,H31,I31,J31,K31) -> 160000 | K31: 160000
A32: Latgales speciālās ekonomiskās zonas atbalsts | B32: =SUM(C32+F32,L32,M32,N32,O32,P32) -> 3448 | C32: =D32+E32 -> 0 | F32: =SUM(G32,H32,I32,J32,K32) -> 3448 | H32: 3448
A33: Biznesa ideju konkurss | B33: =SUM(C33+F33,L33,M33,N33,O33,P33) -> 50000 | C33: =D33+E33 -> 0 | F33: =SUM(G33,H33,I33,J33,K33) -> 0 | L33: 50000
A34: Uzņēmejdarbības atbalsts | B34: =SUM(C34+F34,L34,M34,N34,O34,P34) -> 13660 | C34: =D34+E34 -> 0 | F34: =SUM(G34,H34,I34,J34,K34) -> 13660 | H34: 13160 | I34: 500
A35: Balvu pilsētas autoceļu (ielu) uzturēšana | B35: =SUM(C35+F35,L35,M35,N35,O35,P35) -> 134176 | C35: =D35+E35 -> 17481 | D35: 14144 | E35: 3337 | F35: =SUM(G35,H35,I35,J35,K35) -> 116695 | H35: 106465 | I35: 10230
A36: Baltinavas pagasta autoceļu (ielu) uzturēšana | B36: =SUM(C36+F36,L36,M36,N36,O36,P36) -> 72973 | C36: =D36+E36 -> 8406 | D36: 6802 | E36: 1604 | F36: =SUM(G36,H36,I36,J36,K36) -> 64567 | H36: 41542 | I36: 23025
A37: Balvu pagasta autoceļu (ielu) uzturēšana | B37: =SUM(C37+F37,L37,M37,N37,O37,P37) -> 37698 | C37: =D37+E37 -> 3510 | D37: 2840 | E37: 670 | F37: =SUM(G37,H37,I37,J37,K37) -> 34188 | H37: 29688 | I37: 4500
A38: Bērzkalnes pagasta autoceļu (ielu) uzturēšana | B38: =SUM(C38+F38,L38,M38,N38,O38,P38) -> 34801 | C38: =D38+E38 -> 0 | F38: =SUM(G38,H38,I38,J38,K38) -> 34801 | H38: 33351 | I38: 1450
A39: Bērzpils pagasta autoceļu (ielu) uzturēšana | B39: =SUM(C39+F39,L39,M39,N39,O39,P39) -> 42393 | C39: =D39+E39 -> 3510 | D39: 2840 | E39: 670 | F39: =SUM(G39,H39,I39,J39,K39) -> 38883 | H39: 34783 | I39: 4100
A40: Briežuciema pagasta autoceļu (ielu) uzturēšana | B40: =SUM(C40+F40,L40,M40,N40,O40,P40) -> 68809 | C40: =D40+E40 -> 0 | F40: =SUM(G40,H40,I40,J40,K40) -> 68809 | H40: 67479 | I40: 1330
A41: Krišjāņu pagasta autoceļu (ielu) uzturēšana | B41: =SUM(C41+F41,L41,M41,N41,O41,P41) -> 28583 | C41: =D41+E41 -> 0 | F41: =SUM(G41,H41,I41,J41,K41) -> 28583 | H41: 26083 | I41: 2500
A42: Kubulu pagasta autoceļu (ielu) uzturēšana | B42: =SUM(C42+F42,L42,M42,N42,O42,P42) -> 75759 | C42: =D42+E42 -> 0 | F42: =SUM(G42,H42,I42,J42,K42) -> 75759 | H42: 73859 | I42: 1900
A43: Kupravas pagasta autoceļu (ielu) uzturēšana | B43: =SUM(C43+F43,L43,M43,N43,O43,P43) -> 25023 | C43: =D43+E43 -> 0 | F43: =SUM(G43,H43,I43,J43,K43) -> 25023 | H43: 20223 | I43: 4800
A44: Lazdulejas pagasta autoceļu (ielu) uzturēšana | B44: =SUM(C44+F44,L44,M44,N44,O44,P44) -> 31355 | C44: =D44+E44 -> 0 | F44: =SUM(G44,H44,I44,J44,K44) -> 31355 | H44: 31255 | I44: 100
A45: Lazdukalna pagasta apgaismojuma un autoceļu (ielu) uzturēšana | B45: =SUM(C45+F45,L45,M45,N45,O45,P45) -> 107547 | C45: =D45+E45 -> 8195 | D45: 6631 | E45: 1564 | F45: =SUM(G45,H45,I45,J45,K45) -> 93110 | H45: 31510 | I45: 61600 | N45: 6242
A46: Medņevas pagasta autoceļu (ielu) uzturēšana | B46: =SUM(C46+F46,L46,M46,N46,O46,P46) -> 51815 | C46: =D46+E46 -> 0 | F46: =SUM(G46,H46,I46,J46,K46) -> 51815 | H46: 46815 | I46: 5000
A47: Rugāju pagasta autoceļu (ielu) uzturēšana | B47: =SUM(C47+F47,L47,M47,N47,O47,P47) -> 226080 | C47: =D47+E47 -> 8341 | D47: 6749 | E47: 1592 | F47: =SUM(G47,H47,I47,J47,K47) -> 217739 | H47: 123739 | I47: 94000
A48: Susāju pagasta autoceļu (ielu) uzturēšana | B48: =SUM(C48+F48,L48,M48,N48,O48,P48) -> 68514 | C48: =D48+E48 -> 5487 | D48: 4440 | E48: 1047 | F48: =SUM(G48,H48,I48,J48,K48) -> 63027 | H48: 46827 | I48: 16200
A49: Šķilbēnu pagasta autoceļu (ielu) uzturēšana | B49: =SUM(C49+F49,L49,M49,N49,O49,P49) -> 87383 | C49: =D49+E49 -> 3373 | D49: 2729 | E49: 644 | F49: =SUM(G49,H49,I49,J49,K49) -> 84010 | H49: 78310 | I49: 5700
A50: Tilžas pagasta autoceļu (ielu) uzturēšana | B50: =SUM(C50+F50,L50,M50,N50,O50,P50) -> 47283 | C50: =D50+E50 -> 3906 | D50: 3160 | E50: 746 | F50: =SUM(G50,H50,I50,J50,K50) -> 43377 | H50: 37577 | I50: 5800
A51: Vectilžas pagasta autoceļu (ielu) uzturēšana | B51: =SUM(C51+F51,L51,M51,N51,O51,P51) -> 33120 | C51: =D51+E51 -> 0 | F51: =SUM(G51,H51,I51,J51,K51) -> 33120 | H51: 33120
A52: Vecumu pagasta autoceļu (ielu) uzturēšana | B52: =SUM(C52+F52,L52,M52,N52,O52,P52) -> 28936 | C52: =D52+E52 -> 7682 | D52: 6216 | E52: 1466 | F52: =SUM(G52,H52,I52,J52,K52) -> 21254 | H52: 11754 | I52: 9500
A53: Vīksnas pagasta autoceļu (ielu) uzturēšana | B53: =SUM(C53+F53,L53,M53,N53,O53,P53) -> 29715 | C53: =D53+E53 -> 3328 | D53: 2693 | E53: 635 | F53: =SUM(G53,H53,I53,J53,K53) -> 26387 | H53: 21487 | I53: 4900
A54: Žīguru pagasta autoceļu (ielu) uzturēšana | B54: =SUM(C54+F54,L54,M54,N54,O54,P54) -> 10428 | C54: =D54+E54 -> 2195 | D54: 1776 | E54: 419 | F54: =SUM(G54,H54,I54,J54,K54) -> 8233 | H54: 3333 | I54: 4900
A55: Viļakas pilsētas autoceļu (ielu) uzturēšana | B55: =SUM(C55+F55,L55,M55,N55,O55,P55) -> 42204 | C55: =D55+E55 -> 9997 | D55: 8089 | E55: 1908 | F55: =SUM(G55,H55,I55,J55,K55) -> 32207 | H55: 20107 | I55: 12100
A56: Autoceļu (ielu) uzturēšanas līdzekļu rezerves fonds | B56: =SUM(C56+F56,L56,M56,N56,O56,P56) -> 465583 | C56: =D56+E56 -> 0 | F56: =SUM(G56,H56,I56,J56,K56) -> 465583 | H56: 465583
A57: Algotie pagaidu sabiedriskie darbi | B57: =SUM(C57+F57,L57,M57,N57,O57,P57) -> 42183 | C57: =D57+E57 -> 1483 | D57: 1200 | E57: 283 | F57: =SUM(G57,H57,I57,J57,K57) -> 1100 | H57: 1100 | O57: 39600
A58: Vides pieejamības nodrošināšana Balvu novada publisko pakalpojumu ēkās | B58: =SUM(C58+F58,L58,M58,N58,O58,P58) -> 126189 | C58: =D58+E58 -> 0 | F58: =SUM(G58,H58,I58,J58,K58) -> 0 | N58: 126189
A59: Vides piesārņojuma novēršana un samazināšana (dabas resursu nodoklis) | B59: =SUM(C59+F59,L59,M59,N59,O59,P59) -> 165841 | C59: =D59+E59 -> 0 | F59: =SUM(G59,H59,I59,J59,K59) -> 165841 | H59: =115841+50000 -> 165841
A60: Baltinavas komunālā saimniecība – notekūdeņu apsaimniekošana | B60: =SUM(C60+F60,L60,M60,N60,O60,P60) -> 7636 | C60: =D60+E60 -> 0 | F60: =SUM(G60,H60,I60,J60,K60) -> 7636 | H60: 6302 | I60: 1114 | K60: 220
A61: Bērzkalnes komunālā saimniecība – notekūdeņu apsaimniekošana | B61: =SUM(C61+F61,L61,M61,N61,O61,P61) -> 9286 | C61: =D61+E61 -> 0 | F61: =SUM(G61,H61,I61,J61,K61) -> 9286 | H61: 8036 | I61: 750 | K61: 500
A62: Bērzpils komunālā saimniecība – notekūdeņu apsaimniekošana | B62: =SUM(C62+F62,L62,M62,N62,O62,P62) -> 6175 | C62: =D62+E62 -> 0 | F62: =SUM(G62,H62,I62,J62,K62) -> 6175 | H62: 4140 | I62: 1935 | K62: 100
A63: Briežuciema komunālā saimniecība – notekūdeņu apsaimniekošana | B63: =SUM(C63+F63,L63,M63,N63,O63,P63) -> 4925 | C63: =D63+E63 -> 0 | F63: =SUM(G63,H63,I63,J63,K63) -> 4925 | H63: 4735 | I63: 150 | K63: 40
A64: Krišjāņu komunālā saimniecība – notekūdeņu apsaimniekošana | B64: =SUM(C64+F64,L64,M64,N64,O64,P64) -> 3780 | C64: =D64+E64 -> 0 | F64: =SUM(G64,H64,I64,J64,K64) -> 3780 | H64: 2880 | I64: 700 | K64: 200
A65: Kubulu komunālā saimniecība – notekūdeņu apsaimniekošana | B65: =SUM(C65+F65,L65,M65,N65,O65,P65) -> 6030 | C65: =D65+E65 -> 0 | F65: =SUM(G65,H65,I65,J65,K65) -> 6030 | H65: 5430 | I65: 555 | K65: 45
A66: Kupravas komunālā saimniecība – notekūdeņu apsaimniekošana | B66: =SUM(C66+F66,L66,M66,N66,O66,P66) -> 5250 | C66: =D66+E66 -> 0 | F66: =SUM(G66,H66,I66,J66,K66) -> 5250 | H66: 4430 | I66: 750 | K66: 70
A67: Lazdukalna komunālā saimniecība – notekūdeņu apsaimniekošana | B67: =SUM(C67+F67,L67,M67,N67,O67,P67) -> 11300 | C67: =D67+E67 -> 0 | F67: =SUM(G67,H67,I67,J67,K67) -> 11300 | H67: 7800 | I67: 3300 | K67: 200
A68: Lazdulejas komunālā saimniecība – notekūdeņu apsaimniekošana | B68: =SUM(C68+F68,L68,M68,N68,O68,P68) -> 3410 | C68: =D68+E68 -> 0 | F68: =SUM(G68,H68,I68,J68,K68) -> 3410 | H68: 3210 | I68: 140 | K68: 60
A69: Medņevas komunālā saimniecība – notekūdeņu apsaimniekošana | B69: =SUM(C69+F69,L69,M69,N69,O69,P69) -> 7090 | C69: =D69+E69 -> 0 | F69: =SUM(G69,H69,I69,J69,K69) -> 7090 | H69: 6580 | I69: 410 | K69: 100
A70: Rekavas komunālā saimniecība – notekūdeņu apsaimniekošana | B70: =SUM(C70+F70,L70,M70,N70,O70,P70) -> 2460 | C70: =D70+E70 -> 0 | F70: =SUM(G70,H70,I70,J70,K70) -> 2460 | H70: 1260 | I70: 1170 | K70: 30
A71: Rugāju komunālā saimniecība – notekūdeņu apsaimniekošana | B71: =SUM(C71+F71,L71,M71,N71,O71,P71) -> 7970 | C71: =D71+E71 -> 0 | F71: =SUM(G71,H71,I71,J71,K71) -> 7970 | H71: 7050 | I71: 800 | K71: 120
... A74: Vecumu komunālā saimniecība – notekūdeņu apsaimniekošana | B74: =SUM(C74+F74,L74,M74,N74,O74,P74) -> 2450 | C74: =D74+E74 -> 0 | F74: =SUM(G74,H74,I74,J74,K74) -> 2450 | H74: 1450 | I74: 980 | K74: 20
A75: Viļakas pilsētas komunālā saimniecība – notekūdenu apsaimniekošana | B75: =SUM(C75+F75,L75,M75,N75,O75,P75) -> 31288 | C75: =D75+E75 -> 11628 | D75: 9408 | E75: 2220 | F75: =SUM(G75,H75,I75,J75,K75) -> 19660 | H75: 16040 | I75: 3320 | K75: 300
A76: Vīksnas komunālā saimniecība – notekūdeņu apsaimniekošana | B76: =SUM(C76+F76,L76,M76,N76,O76,P76) -> 4365 | C76: =D76+E76 -> 0 | F76: =SUM(G76,H76,I76,J76,K76) -> 4365 | H76: 4305 | K76: 60
A77: Žīguru komunālā saimniecība – notekūdeņu apsaimniekošana | B77: =SUM(C77+F77,L77,M77,N77,O77,P77) -> 7740 | C77: =D77+E77 -> 0 | F77: =SUM(G77,H77,I77,J77,K77) -> 7740 | H77: 5839 | I77: 1831 | K77: 70
A78: Viļakas pilsētas komunālā saimniecība – atkritumu apsaimniekošana | B78: =SUM(C78+F78,L78,M78,N78,O78,P78) -> 5232 | C78: =D78+E78 -> 0 | F78: =SUM(G78,H78,I78,J78,K78) -> 5232 | H78: 5232
A79: Ielu apgaismojums Balvu pilsētā | B79: =SUM(C79+F79,L79,M79,N79,O79,P79) -> 103880 | C79: =D79+E79 -> 0 | F79: =SUM(G79,H79,I79,J79,K79) -> 103880 | H79: 103880
A80: Ielu apgaismojums Viļakas pilsētā | B80: =SUM(C80+F80,L80,M80,N80,O80,P80) -> 15599 | C80: =D80+E80 -> 0 | F80: =SUM(G80,H80,I80,J80,K80) -> 15599 | H80: 15599
A81: Novada teritorijas īpašuma vadība | B81: =SUM(C81+F81,L81,M81,N81,O81,P81) -> 161657 | C81: =D81+E81 -> 0 | F81: =SUM(G81,H81,I81,J81,K81) -> 161657 | H81: 159657 | K81: 2000
A82: Novada teritorijas apsaimniekošana | B82: =SUM(C82+F82,L82,M82,N82,O82,P82) -> 139373 | C82: =D82+E82 -> 0 | F82: =SUM(G82,H82,I82,J82,K82) -> 27549 | H82: 27549 | N82: 80824 | O82: 31000
A83: Balvu pagasta komunālā saimniecība | B83: =SUM(C83+F83,L83,M83,N83,O83,P83) -> 46270 | C83: =D83+E83 -> 37359 | D83: 30228 | E83: 7131 | F83: =SUM(G83,H83,I83,J83,K83) -> 8911 | H83: 3581 | I83: 5330
A84: Baltinavas pagasta komunālā saimniecība | B84: =SUM(C84+F84,L84,M84,N84,O84,P84) -> 182084 | C84: =D84+E84 -> 134379 | D84: 108729 | E84: 25650 | F84: =SUM(G84,H84,I84,J84,K84) -> 47705 | H84: 22176 | I84: 25169 | K84: 360
A85: Bērzkalnes pagasta komunālā saimniecība | B85: =SUM(C85+F85,L85,M85,N85,O85,P85) -> 100134 | C85: =D85+E85 -> 69706 | D85: 56401 | E85: 13305 | F85: =SUM(G85,H85,I85,J85,K85) -> 30428 | H85: 7808 | I85: 22160 | K85: 460
A86: Bērzpils pagasta komunālā saimniecība | B86: =SUM(C86+F86,L86,M86,N86,O86,P86) -> 56817 | C86: =D86+E86 -> 42004 | D86: 33986 | E86: 8018 | F86: =SUM(G86,H86,I86,J86,K86) -> 14813 | H86: 8323 | I86: 6170 | K86: 320
A87: Briežuciema pagasta komunālā saimniecība | B87: =SUM(C87+F87,L87,M87,N87,O87,P87) -> 59828 | C87: =D87+E87 -> 44973 | D87: 35451 | E87: 9522 | F87: =SUM(G87,H87,I87,J87,K87) -> 14855 | H87: 6344 | I87: 8361 | K87: 150
A88: Krišjāņu pagasta komunālā saimniecība | B88: =SUM(C88+F88,L88,M88,N88,O88,P88) -> 40774 | C88: =D88+E88 -> 24628 | D88: 20580 | E88: 4048 | F88: =SUM(G88,H88,I88,J88,K88) -> 15146 | H88: 10330 | I88: 4516 | K88: 300 | N88: 1000
A89: Kubulu pagasta komunālā saimniecība | B89: =SUM(C89+F89,L89,M89,N89,O89,P89) -> 107998 | C89: =D89+E89 -> 78831 | D89: 63703 | E89: 15128 | F89: =SUM(G89,H89,I89,J89,K89) -> 29167 | H89: 22167 | I89: 6509 | K89: 491
A90: Kupravas pagasta komunālā saimniecība | B90: =SUM(C90+F90,L90,M90,N90,O90,P90) -> 109772 | C90: =D90+E90 -> 68233 | D90: 55128 | E90: 13105 | F90: =SUM(G90,H90,I90,J90,K90) -> 41539 | H90: 37149 | I90: 4390
A91: Lazdukalna pagasta komunālā saimniecība | B91: =SUM(C91+F91,L91,M91,N91,O91,P91) -> 120889 | C91: =D91+E91 -> 75911 | D91: 61017 | E91: 14894 | F91: =SUM(G91,H91,I91,J91,K91) -> 44978 | H91: 29618 | I91: 14910 | K91: 450
A92: Lazdulejas pagasta komunālā saimniecība | B92: =SUM(C92+F92,L92,M92,N92,O92,P92) -> 60274 | C92: =D92+E92 -> 53641 | D92: 43402 | E92: 10239 | F92: =SUM(G92,H92,I92,J92,K92) -> 6633 | H92: 4165 | I92: 2468
A93: Medņevas pagasta komunālā saimniecība | B93: =SUM(C93+F93,L93,M93,N93,O93,P93) -> 45137 | C93: =D93+E93 -> 35177 | D93: 28434 | E93: 6743 | F93: =SUM(G93,H93,I93,J93,K93) -> 9960 | H93: 7205 | I93: 2627 | K93: 128
A94: Rugāju pagasta komunālā saimniecība | B94: =SUM(C94+F94,L94,M94,N94,O94,P94) -> 188804 | C94: =D94+E94 -> 145832 | D94: =126952-9360 -> 117592 | E94: =30448-2208 -> 28240 | F94: =SUM(G94,H94,I94,J94,K94) -> 42972 | H94: 19215 | I94: 23557 | K94: 200
A95: Šķilbēnu pagasta komunālā saimniecība | B95: =SUM(C95+F95,L95,M95,N95,O95,P95) -> 54177 | C95: =D95+E95 -> 41022 | D95: 33192 | E95: 7830 | F95: =SUM(G95,H95,I95,J95,K95) -> 13155 | H95: 7110 | I95: 6045
A96: Tilžas pagasta komunālā saimniecība | B96: =SUM(C96+F96,L96,M96,N96,O96,P96) -> 109691 | C96: =D96+E96 -> 79486 | D96: 64314 | E96: 15172 | F96: =SUM(G96,H96,I96,J96,K96) -> 26305 | H96: 13792 | I96: 12303 | K96: 210 | N96: 3900
A97: Vectilžas pagasta komunālā saimniecība | B97: =SUM(C97+F97,L97,M97,N97,O97,P97) -> 77646 | C97: =D97+E97 -> 64068 | D97: 51839 | E97: 12229 | F97: =SUM(G97,H97,I97,J97,K97) -> 13578 | H97: 4298 | I97: 9060 | K97: 220
A98: Vecumu pagasta komunālā saimniecība | B98: =SUM(C98+F98,L98,M98,N98,O98,P98) -> 84747 | C98: =D98+E98 -> 33548 | D98: 27144 | E98: 6404 | F98: =SUM(G98,H98,I98,J98,K98) -> 12839 | H98: 5795 | I98: 6660 | K98: 384 | N98: 38360
A99: Vīksnas pagasta komunālā saimniecība | B99: =SUM(C99+F99,L99,M99,N99,O99,P99) -> 107410 | C99: =D99+E99 -> 86891 | D99: 70306 | E99: 16585 | F99: =SUM(G99,H99,I99,J99,K99) -> 20519 | H99: 7748 | I99: 12571 | K99: 200
A100: Susāju pagasta komunālā saimniecība | B100: =SUM(C100+F100,L100,M100,N100,O100,P100) -> 16605 | C100: =D100+E100 -> 11569 | D100: 9360 | E100: 2209 | F100: =SUM(G100,H100,I100,J100,K100) -> 5036 | H100: 500 | I100: 4536
A101: Žīguru pagasta komunālā saimniecība | B101: =SUM(C101+F101,L101,M101,N101,O101,P101) -> 49120 | C101: =D101+E101 -> 37878 | D101: 30648 | E101: 7230 | F101: =SUM(G101,H101,I101,J101,K101) -> 10253 | H101: 3226 | I101: 7027 | N101: 989
A102: Viļakas pilsētas komunālā saimniecība | B102: =SUM(C102+F102,L102,M102,N102,O102,P102) -> 223535 | C102: =D102+E102 -> 175875 | D102: =152922-10725 -> 142197 | E102: =36208-2530 -> 33678 | F102: =SUM(G102,H102,I102,J102,K102) -> 47660 | H102: 20385 | I102: 27275
A103: Balvu pilsētas pašvaldības dzīvokļu uzturēšana | B103: =SUM(C103+F103,L103,M103,N103,O103,P103) -> 79658 | C103: =D103+E103 -> 0 | F103: =SUM(G103,H103,I103,J103,K103) -> 79658 | H103: 78658 | I103: 1000
A104: Baltinavas pagasta pašvaldības dzīvokļu uzturēšana | B104: =SUM(C104+F104,L104,M104,N104,O104,P104) -> 200 | C104: =D104+E104 -> 0 | F104: =SUM(G104,H104,I104,J104,K104) -> 200 | H104: 200
A105: Bērzpils pagasta pašvaldības dzīvokļu uzturēšana | B105: =SUM(C105+F105,L105,M105,N105,O105,P105) -> 340 | C105: =D105+E105 -> 0 | F105: =SUM(G105,H105,I105,J105,K105) -> 340 | H105: 340
A106: Briežuciema pagasta pašvaldības dzīvokļu uzturēšana | B106: =SUM(C106+F106,L106,M106,N106,O106,P106) -> 1810 | C106: =D106+E106 -> 0 | F106: =SUM(G106,H106,I106,J106,K106) -> 1810 | H106: 1810
...
